Workbook

Sheet 표지
A3: 공 사 설 계 서
A5: ('12년 해수취수구 진개제거 공사)
A16: 2012. 7
A29: 한 국 가 스 공 사
A30: 평 택 기 지 본 부

Sheet 목차
D4: Ⅰ. 공사계획서
D6: Ⅱ. 공사비 예산서
D8: Ⅲ. 공사설명서
D10: Ⅳ. 일반시방서
D12: Ⅴ.특기시방서
D14: Ⅵ.설계내역서

Sheet 공사계획서
A1: Ⅰ. 공 사 계 획 서
B2: 공 사 명 | C2: '12년 해수취수구 진개제거 공사
B3: 총 공 사 비 | C3: =설계명세서!H45 -> 156238200 | D3: (VAT별도)
B4: 내 용 | C4: - 본 사 취급액 : | E4: - 도급 취급액 : | F4: =C3 -> 156238200
C5: - 사 업 소 취급액 : | E5: - 비용 배분비 :
B6: 계 정 과 목 | C6: 손익예산 (수선 / 용역 / 설비)
B7: 공 사 기 간 | C7: 2012. 8. ~ 10. 12
B8: 공 사 방 법 | C8: 전문업체 도급공사
B9: 공 사 책 임 자 | C9: 평택기지본부장
B10: 공 사 감 독 자 | C10: 평택기지본부장이 임명한 자
B11: 공 사 인 수 자 | C11: 평택기지본부장
B12: 첨 부 서 류 | C12: 공사비 예산서 / 공사설명서 / 공 정 표 / 시 방 서 / 설계내역서

Sheet 공사비예산서
A1: Ⅱ. 공 사 비 예 산 서
B3: 공 사 명 : '12년 해수취수구 진개제거 공사 | O3: 2012. 7. 18
B5: 총 공 사 비 : | G5: \ | H5: =H11 -> 156238200 | O5: 작 성 자 : 대리 김 정 민 (인)
O6: 검 토 자 : 팀장 홍 기 석 (인)
B7: 1. 도 급 공 사 비 | G7: \ | H7: =H11 -> 156238200
C8: 가.확정분 | G8: \ | K8: 다. 경 비 | N8: \ | O8: =설계명세서!H25 -> 43461300
C9: 나.정산분 | G9: \ | L9: 1) 기 계 경 비 | N9: \ | O9: =설계명세서!H26 -> 29321100
B10: 2. 회 사 취 급 비 | G10: \ | L10: 2) 산재보험료 | N10: \ | O10: =설계명세서!H31 -> 1955013.4
B11: 3. 설 계 공 사 비 | G11: \ | H11: =H12+H24+O8+O19+O20 -> 156238200 | L11: 3) 고용보험료 | N11: \ | O11: =설계명세서!H32 -> 417421.78
C12: 가. 재 료 비 | G12: \ | H12: =H21 -> 36341700 | L12: 4) 건강보험료 | N12: \ | O12: =설계명세서!H33 -> 812161.4
C13: (1) 출고 재료비 | G13: \ | L13: 5) 연금보험료 | N13: \ | O13: =설계명세서!H34 -> 1189577.6
E14: 본 사 분 | G14: \ | L14: 6) 노인장기요양보험료 | N14: \ | O14: =설계명세서!H35 -> 53196.572
E15: 사 업 소 분 | G15: \ | L15: 7) 퇴직공제 부금비 | N15: \ | O15: =설계명세서!H36 -> 1098806.6
C16: (2) 구입 재료비 | G16: \ | L16: 8) 산업안전보건관리비 | N16: \ | O16: =설계명세서!H37 -> 1043037.2
E17: CP 외 자 | G17: \ | L17: 9) 환경보전비 | N17: \ | O17: =설계명세서!H38 -> 2041866
E18: CP 내 자 | G18: \ | L18: 10) 기타경비 | N18: \ | O18: =설계명세서!H39 -> 5529153.8
D19: (3) 회사 운반비 | G19: \ | K19: 라. 일반 관리비 | N19: \ | O19: =설계명세서!H41 -> 7958400
D20: (4) 외자 조작비 | G20: \ | K20: 마. 이 윤 | N20: \ | O20: =설계명세서!H43 -> 15638600
D21: (5) 지입 재료비 | G21: \ | H21: =설계명세서!H5 -> 36341700
D22: (6) 잡 재료비
D23: (7) 작업설,부산물
C24: 나. 노 무 비 | G24: \ | H24: =H25+H26 -> 52838200
D25: 1) 직접 노무비 | G25: \ | H25: =설계명세서!H13 -> 47774200
D26: 2) 간접 노무비 | G26: \ | H26: =설계명세서!H23 -> 5064000

Sheet 공사설명서
A1: Ⅲ. 공 사 설 명 서
B3: 1. 공사명 : '12년 해수취수구 진개제거 공사
B5: 2. 위 치 : 경기도 평택시 포승읍 원정리 산109 평택생산기지내
B7: 3. 목 적 : | E7: 해수 취수구 진개량 조사결과 상당량의 진개가 축적된 것으로 확인된 바, 진개 제거 공사를 통하여 기화 및 소화해수설비의 손상을 사전에 방지하고 운전환경을 향상시켜 설비의 안정적 운영에 만전을 기하고자 함.
B9: 4. 공사규모 : 1303.3㎥ 진개제거 공사(총 22개 PIT)
B11: 5. 공사개요
D12: 해수 취수구에 퇴적된 진개를 제거하기 위한 작업준비, 인력공급, 안전장비 휴대, 진개제거, 운반 및 뒷정리 등을 수행하는 것으로 주요 공사범위는 다음과 같다.
C13: 1) Pit 수밀작업(Sluice Gate Close)
D14: 해수 취수구 Gate Guide부에 퇴적된 진개를 Air Lifting Pump 장비로 제거후 Gate Close작업 및 수밀 작업
C15: 2) 진개 저장조 제작
D16: 준설된 진개를 임시 저장 및 수분배출하기 위함.
C17: 3) 진개 준설작업
D18: - 취수구 Pit 및 Pond에 퇴적된 진개를 준설 장비를 이용하여 준설 - 인력 투입 마무리 작업
C19: 4) 진개 침전 및 배수
D20: 진개 저장조에서 침전 및 수분 배수
C22: 5) 진개운반
D23: - 운반장소 : 기지본부 내 사토장(왕복거리 평균 2.8km 적용) - 운반시 진개가 도로에 흐르지 않도록 제반조치
C24: 6) 진개하역 후 부지정리
D25: 메우기 및 부지정리 작업
B27: 6. 공사기간 : 2012. 8. ~ 2012. 10. 12

Sheet 공정표
A1: 7) 공 정 표
B2: DESCRIPTION | C2: 2011년 | O2: 비 고
C3: 8월 | G3: 9월 | K3: 10월
C4: 1주 | D4: 2주 | E4: 3주 | F4: 4주 | G4: 1주 | H4: 2주 | I4: 3주 | J4: 4주 | K4: 1주 | L4: 2주 | M4: 3주 | N4: 4주
B6: 작업준비
B7: - 콘테이너 반입 | C7: === 1주
B8: - 출입허가 및 안전교육 | C8: === 1주
B10: 진개침전 저장조 제작 및 설치 | C10: ====== 1.5주
B12: P-661지역 Gate 설치 및 수밀작업 (4개소 순차적) | D12: ======= 1.5주
B14: P-661지역 진개 제거 (Pit 4개소 순차적 실시) | D14: ======= 1.5주
B16: P-571지역 Gate 설치 및 수밀작업 (5개소 순차적) | E16: ======= 1.5주
B18: P-571지역 진개 제거 (Pit 5개소 순차적 실시) | F18: ======= 1.5주
B20: P-771지역 Gate 설치 및 수밀작업 (6개소 순차적) | G20: ========= 2주
B22: P-771지역 진개 제거 (Pit 6개소 순차적 실시) | G22: ========= 2주
B24: P-2671지역 Gate 설치 및 수밀작업 (7개소 순차적) | I24: ========= 2주
B26: P-2671지역 진개 제거 (Pit 7개소 순차적 실시) | I26: ========= 2주
B28: 진개운반/하역/부지정리 | D28: ==================================== 7.5주
B30: 현장정리정돈 | K30: ========= 2주
B32: ※ 운전상황에 따라 작업일정이 조정될 수 있음

Sheet 설계내역서표지
A10: 설계 내역서

Sheet 시방서표지
A10: 일반 시방서
A37: 특기 시방서

Sheet 설계명세서
A1: 설 계 명 세 서
A3: 구분 | C3: 품 목 | D3: 규 격 | E3: 단위 | F3: 수량 | G3: 단가 | H3: 금액 | I3: 비고
A4: 번호 | B4: 비목
A5: 1. 재료비 | H5: =ROUNDDOWN(SUM(H6:H10), -2) -> 36341700
B6: 가. | C6: 진개 준설 | D6: 흡입준설기 | E6: hr | F6: =산출!C32 -> 321.35178 | G6: =산출!H32 -> 61329 | H6: =ROUNDDOWN(F6*G6,0) -> 19708183 | I6: 산#1
B7: 나. | C7: 진개 침전 저장조 | D7: L2m×W5m×H1m | E7: set | F7: 4 | G7: 3350000 | H7: =F7*G7 -> 13400000 | I7: 견적가
B8: 다. | C8: 포대(P.P마대) | D8: 80Kg 75㎝×115㎝ | E8: 장 | F8: =산출!Q60 -> 2700 | G8: 850 | H8: =F8*G8 -> 2295000 | I8: 산#2
B9: 라. | C9: 진개 운반(잔토운반) | D9: 덤프트럭(8ton) | E9: hr | F9: =산출!C66 -> 22.033898 | G9: =산출!H66 -> 20370 | H9: =ROUNDDOWN(F9*G9,0) -> 448830 | I9: 산#3
B10: 마. | C10: 진개 하역(부지정리) | D10: 굴삭기(0.6㎥) | E10: hr | F10: =산출!C100 -> 21.45284 | G10: =산출!H100 -> 22830 | H10: =ROUNDDOWN(F10*G10,0) -> 489768 | I10: 산#4
A12: 2. 노무비 | H12: =ROUNDDOWN(H13+H23, -2) -> 52838200
B13: 가. | C13: 직접노무비 | H13: =ROUNDDOWN(SUM(H14:H21), -2) -> 47774200
C14: 취수구GATE 수밀작업 | D14: 잠수부 | E14: MD | F14: =산출!C3 -> 88 | G14: =산출!L3 -> 142472 | H14: =F14*G14 -> 12537536 | I14: 품#1
D15: 잠수조공 | E15: MD | F15: =산출!C4 -> 44 | G15: =산출!L4 -> 97283 | H15: =F15*G15 -> 4280452
C16: 진개 준설(장비사용) | D16: 흡입준설기 | E16: hr | F16: =산출!C33 -> 321.35178 | G16: =산출!H33 -> 22827 | H16: =F16*G16 -> 7335497.1 | I16: 산#1
C17: 진개 준설(수중작업) | D17: 잠수부 | E17: MD | F17: =산출!C12 -> 88 | G17: =산출!L12 -> 142472 | H17: =F17*G17 -> 12537536 | I17: 품#2
D18: 잠수조공 | E18: MD | F18: =산출!C13 -> 44 | G18: =산출!L13 -> 97283 | H18: =F18*G18 -> 4280452
C19: 진개 준설(잔토처리) | D19: 보통인부 | E19: MD | F19: =산출!C18 -> 78 | G19: =산출!L18 -> 75608 | H19: =F19*G19 -> 5897424 | I19: 품#3
C20: 진개 운반(잔토운반) | D20: 덤프트럭(8ton) | E20: hr | F20: =산출!C67 -> 22.033898 | G20: =산출!H67 -> 18865 | H20: =F20*G20 -> 415669.49 | I20: 산#3
C21: 진개 하역(부지정리) | D21: 굴삭기(0.6㎥) | E21: hr | F21: =산출!C101 -> 21.45284 | G21: =산출!H101 -> 22827 | H21: =F21*G21 -> 489703.97 | I21: 산#4
B23: 나. | C23: 간접노무비 | D23: (직접노무비) × | F23: 0.106 | H23: =ROUNDDOWN(F23*H13, -2) -> 5064000
A25: 3. 경 비 | H25: =ROUNDDOWN(SUM(H26,H31,H32,H33,H34,H35,H36,H37,H38,H39), -2) -> 43461300
B26: 가. | C26: 기계경비 | H26: =ROUNDDOWN(SUM(H27:H30), -2) -> 29321100
C27: 취수구GATE 수밀작업 | E27: 개소 | F27: 22 | G27: 460000 | H27: =F27*G27 -> 10120000 | I27: 견적가
C28: 진개 준설(장비사용) | E28: hr | F28: =산출!C34 -> 321.35178 | G28: =산출!H34 -> 57746 | H28: =F28*G28 -> 18556780 | I28: 산#1
C29: 진개 운반(잔토처리) | E29: hr | F29: =산출!C68 -> 22.033898 | G29: =산출!H68 -> 7743 | H29: =F29*G29 -> 170608.47 | I29: 산#3
C30: 진개 하역(부지정리) | E30: hr | F30: =산출!C102 -> 21.45284 | G30: =산출!H102 -> 22085 | H30: =F30*G30 -> 473785.96 | I30: 산#4
B31: 나. | C31: 산재보험료 | D31: (노무비) × | F31: 0.037 | H31: =F31*H12 -> 1955013.4
B32: 다. | C32: 고용보험료 | D32: (노무비) × | F32: 0.0079 | H32: =F32*H12 -> 417421.78
B33: 라. | C33: 건강보험료 | D33: (직접노무비) × | F33: 0.017 | H33: =F33*H13 -> 812161.4
B34: 마. | C34: 연금보험료 | D34: (직접노무비) × | F34: 0.0249 | H34: =F34*H13 -> 1189577.6
B35: 바. | C35: 노인장기요양보험료 | D35: (건강보험료) × | F35: 0.0655 | H35: =F35*H33 -> 53196.572
B36: 사. | C36: 퇴직공제부금비 | D36: (직접노무비) × | F36: 0.023 | H36: =F36*H13 -> 1098806.6
B37: 아. | C37: 산업안전보건관리비 | D37: (재료비+직접노무비) × | F37: 0.0124 | H37: =F37*(H5+H13) -> 1043037.2
B38: 자. | C38: 환경보전비 | D38: (재료비+직접노무비+산출경비) × | F38: 0.018 | H38: =F38*(H5+H13+H26) -> 2041866
B39: 차. | C39: 기타경비 | D39: (재료비+노무비) × | F39: 0.062 | H39: =F39*(H5+H12) -> 5529153.8
A41: 4. 일반관리비 | D41: (재료비+노무비+경비) × | F41: 0.06 | H41: =ROUNDDOWN((H5+H12+H25)*F41, -2) -> 7958400
A43: 5. 이 윤 | D43: (노무비+경비+일반관리비) × | F43: 0.15 | H43: =ROUNDDOWN((H12+H25+H41)*F43, -2) -> 15638600
A45: 공사비 합계 : 1+2+3+4+5 | H45: =H5+H12+H25+H41+H43 -> 156238200

Sheet 산출
A1: 1. 취수구 GATE 수밀작업-품#1
B2: 품별 | C2: 품량 | H2: 단위 | L2: 단가(원) | P2: 금액(원) | U2: 비고
B3: 잠 수 부 | C3: =J7 -> 88 | H3: 인 | L3: 142472 | P3: =ROUNDDOWN(C3*L3,0) -> 12537536
B4: 잠수조공 | C4: =J8 -> 44 | H4: 인 | L4: 97283 | P4: =ROUNDDOWN(C4*L4,0) -> 4280452 | U4: 특별인부
B5: ◎ 작업물량 : 취수구 GATE 22개소
B6: ◎ 품 적용 : 개소당 잠수부 4인,잠수조공 2인 적용(견적 품 적용)
B7: 1) 잠 수 부 : | C7: 22 | D7: 개소 | F7: × | G7: 4 | H7: 인 | I7: = | J7: =C7*G7 -> 88 | K7: 인
B8: 2) 잠수 조공 : | C8: 22 | D8: 개소 | F8: × | G8: 2 | H8: 인 | I8: = | J8: =C8*G8 -> 44 | K8: 인
A10: 2. 진개 준설(수중작업)-품#2
B11: 품별 | C11: 품량 | H11: 단위 | L11: 단가(원) | P11: 금액(원) | U11: 비고
B12: 잠 수 부 | C12: =J7 -> 88 | H12: 인 | L12: 142472 | P12: =ROUNDDOWN(C12*L12,0) -> 12537536
B13: 잠수조공 | C13: =C4 -> 44 | H13: 인 | L13: 97283 | P13: =ROUNDDOWN(C13*L13,0) -> 4280452 | U13: 특별인부
B14: ◎ 작업 물량 및 품 적용 : GATE수밀작업 동일
A16: 3. 진개 준설(잔토처리)-품#3
B17: 품별 | C17: 품량 | H17: 단위 | L17: 단가(원) | P17: 금액(원) | U17: 비고
B18: 보통인부 | C18: =C19*L26 -> 78 | H18: 인 | L18: 75608 | P18: =ROUNDDOWN(C18*L18,0) -> 5897424
B19: ◎ 적용물량 : | C19: =ROUNDDOWN('진개량 산출'!N27*0.1, 0) -> 130 | E19: ㎥ (준설장비 사용 후 마감작업: PIT진개량의 10%적용)
B20: ◎ 품 적용 : 건설공사 표준품셈 1편 3-1 인력터파기
C21: 보통토사, 깊이0~1m : 보통인부 | M21: 0.2 | O21: 인/㎥
B23: ㅇ 할증 : | C23: 1) 협소한 장소 : | I23: 0.5
C24: 2) 용수가 있는 곳 : | J24: 0.5
C25: 2) 현장내 소운반 / 잔토처리 : | M25: 0.2 | O25: 인/㎥
B26: ∴ | C26: 0.2 × (1+0.5+0.5) + 0.2 | K26: = | L26: =M21*(1+I23+J24)+M25 -> 0.6 | N26: 인/㎥
A30: 4. 진개 준설(준설장비)-산#1
B31: 구 분 | C31: 소요시간 | H31: 단가(원/시간) | N31: 금액(원) | T31: 비고
B32: 재료비 | C32: =K35 -> 321.35178 | H32: 61329 | N32: =ROUNDDOWN(C32*H32,0) -> 19708183 | T32: 물자 '12.7 (하) P187 진공흡입 준설차(25T)
B33: 노무비 | C33: =K35 -> 321.35178 | H33: 22827 | N33: =ROUNDDOWN(C33*H33,0) -> 7335497
B34: 손 료 | C34: =K35 -> 321.35178 | H34: 57746 | N34: =ROUNDDOWN(C34*H34,0) -> 18556779
B35: ◎ 작업 소요시간 : | D35: =I36 -> 1172.934 | G35: ÷ | H35: =R36 -> 3.65 | J35: = | K35: =D35/H35 -> 321.35178 | N35: hr
D36: (제거작업물량 : | I36: =L37 -> 1172.934 | L36: ㎥, 시간당 작업량 : | R36: =S39 -> 3.65 | T36: ㎥/hr)
B37: ㅇ준설장비 적용물량 : | E37: ='진개량 산출'!N27 -> 1303.26 | H37: × | I37: 0.9 | K37: = | L37: =E37*I37 -> 1172.934 | O37: ㎥
B38: ㅇ준설(흡입준설기)_건설품셈1편 22-2 적용
B39: Q = | D39: 60*q*f*E | J39: = | K39: 60*7.64*1.25*0.9 | R39: = | S39: =ROUNDDOWN(60*7.64*1.25*0.9/K40,2) -> 3.65 | V39: ㎥/hr
D40: Cm | K40: =I45 -> 141
B41: Q : 1시간당 작업량(㎥/hr)
B42: q : 흡입준설기 7.64㎥ 기준
B43: f : 체적환산계수(건설품셈 1장 점질토적용) : 1.25
B44: E : 작업효율 : 0.9
B45: Cm : 1회 싸이클 시간(분) : | I45: =G47+G48+G49+G50+G55 -> 141 | K45: 분
B46: (Cm = T1 + T2 + T3 +T4 + T5)
...

Sheet 진개량 산출
A1: 8. 해수취수구 진개량 산출내역
B3: 번호 | C3: 설비명 | D3: 측정 년도 | E3: Pit 내 진개 퇴적량 (㎝) | J3: 평균진개 높이(M) | K3: PIT규격 (M×M) | N3: 진 개 퇴적량 (M3) | O3: 비고
E4: 1P | F4: 2P | G4: 3P | H4: 4P | I4: 5P
B5: 1 | C5: P661-A | D5: '12년 | E5: 130 | F5: 120 | G5: 120 | H5: 110 | I5: 90 | J5: =ROUNDUP(AVERAGE(E5:I5)/100, 2) -> 1.14 | K5: 3.5 | L5: × | M5: 12.2 | N5: =ROUNDDOWN(J5*K5*M5, 1) -> 48.6
B6: 2 | C6: P661-B | D6: '12년 | E6: 120 | F6: 130 | G6: 120 | H6: 90 | I6: 80 | J6: =ROUNDUP(AVERAGE(E6:I6)/100, 2) -> 1.08 | N6: =ROUNDDOWN(J6*K5*M5, 1) -> 46.1
B7: 3 | C7: P662-A | D7: '11년 | E7: 80 | F7: 80 | G7: 80 | H7: 120 | I7: 120 | J7: =ROUNDUP(AVERAGE(E7:I7)/100, 2) -> 0.96 | N7: =ROUNDDOWN(J7*K5*M5, 1) -> 40.9
B8: 4 | C8: P662-B | D8: '11년 | E8: 60 | F8: 60 | G8: 50 | H8: 90 | I8: 90 | J8: =ROUNDUP(AVERAGE(E8:I8)/100, 2) -> 0.7 | N8: =ROUNDDOWN(J8*K5*M5, 1) -> 29.8 | P8: =SUM(N5:N8) -> 165.4
B9: 5 | C9: P571-A | D9: '11년 | E9: 40 | F9: 30 | G9: 30 | H9: 40 | I9: 30 | J9: =ROUNDUP(AVERAGE(E9:I9)/100, 2) -> 0.34 | K9: 4.8 | L9: × | M9: 13.5 | N9: =ROUNDDOWN(J9*K9*M9, 1) -> 22
B10: 6 | C10: P571-B | D10: '12년 | E10: 50 | F10: 70 | G10: 60 | H10: 50 | I10: 60 | J10: =ROUNDUP(AVERAGE(E10:I10)/100, 2) -> 0.58 | N10: =ROUNDDOWN(J10*K9*M9, 1) -> 37.5
B11: 7 | C11: P571-C | D11: '12년 | E11: 40 | F11: 30 | G11: 40 | H11: 30 | I11: 40 | J11: =ROUNDUP(AVERAGE(E11:I11)/100, 2) -> 0.36 | N11: =ROUNDDOWN(J11*K9*M9, 1) -> 23.3
B12: 8 | C12: P571-D | D12: '12년 | E12: 60 | F12: 70 | G12: 60 | H12: 60 | I12: 60 | J12: =ROUNDUP(AVERAGE(E12:I12)/100, 2) -> 0.62 | N12: =ROUNDDOWN(J12*K9*M9, 1) -> 40.1
B13: 9 | C13: P571-E | D13: '11년 | E13: 90 | F13: 90 | G13: 90 | H13: 60 | I13: 80 | J13: =ROUNDUP(AVERAGE(E13:I13)/100, 2) -> 0.82 | N13: =ROUNDDOWN(J13*K9*M9, 1) -> 53.1 | P13: =SUM(N9:N13) -> 176
B14: 10 | C14: P771-A | D14: '11년 | E14: 70 | F14: 70 | G14: 70 | H14: 70 | I14: 60 | J14: =ROUNDUP(AVERAGE(E14:I14)/100, 2) -> 0.68 | K14: 4.2 | L14: × | M14: 15.5 | N14: =ROUNDDOWN(J14*K14*M14, ) -> 44
B15: 11 | C15: P771-B | D15: '12년 | E15: 110 | F15: 130 | G15: 130 | H15: 40 | I15: 50 | J15: =ROUNDUP(AVERAGE(E15:I15)/100, 2) -> 0.92 | N15: =ROUNDDOWN(J15*K14*M14, 1) -> 59.8
B16: 12 | C16: P771-C | D16: '12년 | E16: 120 | F16: 140 | G16: 150 | H16: 40 | I16: 50 | J16: =ROUNDUP(AVERAGE(E16:I16)/100, 2) -> 1 | N16: =ROUNDDOWN(J16*K14*M14, 1) -> 65.1
B17: 13 | C17: P771-D | D17: '12년 | E17: 120 | F17: 140 | G17: 150 | H17: 30 | I17: 30 | J17: =ROUNDUP(AVERAGE(E17:I17)/100, 2) -> 0.94 | N17: =ROUNDDOWN(J17*K14*M14, 1) -> 61.1
B18: 14 | C18: P771-E | D18: '12년 | E18: 90 | F18: 100 | G18: 120 | H18: 70 | I18: 80 | J18: =ROUNDUP(AVERAGE(E18:I18)/100, 2) -> 0.92 | N18: =ROUNDDOWN(J18*K14*M14, 1) -> 59.8
B19: 15 | C19: P763 | D19: '11년 | E19: 70 | F19: 60 | G19: 100 | H19: 70 | I19: 60 | J19: =ROUNDUP(AVERAGE(E19:I19)/100, 2) -> 0.72 | K19: 2.7 | L19: × | M19: 15.5 | N19: =ROUNDDOWN(J19*K19*M19, 1) -> 30.1 | P19: =SUM(N14:N19) -> 319.9
B20: 16 | C20: P2671-A | D20: '12년 | E20: 140 | F20: 150 | G20: 140 | H20: 50 | I20: 50 | J20: =ROUNDUP(AVERAGE(E20:I20)/100, 2) -> 1.06 | K20: 4.2 | L20: × | M20: 21.6 | N20: =ROUNDDOWN(J20*K20*M20, 2) -> 96.16
B21: 17 | C21: P2671-B | D21: '12년 | E21: 140 | F21: 150 | G21: 140 | H21: 50 | I21: 50 | J21: =ROUNDUP(AVERAGE(E21:I21)/100, 2) -> 1.06 | N21: =ROUNDDOWN(J21*K20*M20, 1) -> 96.1
B22: 18 | C22: P2671-C | D22: '12년 | E22: 130 | F22: 140 | G22: 140 | H22: 30 | I22: 30 | J22: =ROUNDUP(AVERAGE(E22:I22)/100, 2) -> 0.94 | N22: =ROUNDDOWN(J22*K20*M20, 1) -> 85.2
B23: 19 | C23: P2671-D | D23: '11년 | E23: 80 | F23: 70 | G23: 80 | H23: 90 | I23: 90 | J23: =ROUNDUP(AVERAGE(E23:I23)/100, 2) -> 0.82 | N23: =ROUNDDOWN(J23*K20*M20, 1) -> 74.3
B24: 20 | C24: P2661-A | D24: '12년 | E24: 130 | F24: 150 | G24: 160 | H24: 120 | I24: 140 | J24: =ROUNDUP(AVERAGE(E24:I24)/100, 2) -> 1.4 | K24: 3.5 | L24: × | M24: 21.6 | N24: =ROUNDDOWN(J24*K24*M24, 1) -> 105.8
B25: 21 | C25: P2661-B | D25: '12년 | E25: 150 | F25: 160 | G25: 170 | H25: 130 | I25: 150 | J25: =ROUNDUP(AVERAGE(E25:I25)/100, 2) -> 1.52 | N25: =ROUNDDOWN(J25*K24*M24, 1) -> 114.9
B26: 22 | C26: P2661-C | D26: '11년 | E26: 90 | F26: 80 | G26: 90 | H26: 100 | I26: 100 | J26: =ROUNDUP(AVERAGE(E26:I26)/100, 2) -> 0.92 | N26: =ROUNDDOWN(J26*K24*M24, 1) -> 69.5 | P26: =SUM(N20:N26) -> 641.96
B27: 계 | N27: =SUM(N5:N26) -> 1303.26 | P27: =SUM(P5:P26) -> 1303.26

Sheet 해수취수구 평면도
A2: 9. 해수취수구 평면도
