Workbook
Name _.사급자재대: #REF!
Name _.사급자재대: #REF!
Name __dle2: ROUND([0]!__dle2*0.0254,3)
Name __HSH1: #REF!
Name __HSH1: #REF!
Name __HSH2: #REF!
Name __HSH2: #REF!
Name __NEW1: ROUND([0]!__NEW1*0.0254,3)
Name __NEW2: ROUND([0]!__NEW2*0.0254,3)
Name __NEW3: ROUND([0]!__NEW3*0.0254,3)
Name __NEW5: ROUND([0]!__NEW5*0.0254,3)
Name __NP1: #REF!
Name __NP1: #REF!
Name __NP2: #REF!
Name __NP2: #REF!
Name __NSH1: #REF!
Name __NSH1: #REF!
Name __NSH2: #REF!
Name __NSH2: #REF!
Name _\D: #REF!
Name _\D: #REF!
Name _\X: #REF!
Name _\X: #REF!
Name _\Z: [3]결과조달!$GU$5658:$IV$7860
Name _1: #REF!
Name _1: #REF!
Name _1.토___공: #REF!
Name _1.토___공: #REF!
Name _15A: [4]금액내역서!$D$3:$D$10
Name _1공장: #REF!
Name _1공장: #REF!
Name _2: #REF!
Name _2: #REF!
Name _2공장: #REF!
Name _2공장: #REF!
Name _3: #REF!
Name _3: #REF!
Name _3.배수공: #REF!
Name _3.배수공: #REF!
Name _3.포__장__공: #REF!
Name _3.포__장__공: #REF!
Name _3공장: #REF!
Name _3공장: #REF!
Name _4: #REF!
Name _4: #REF!
Name _4.구조물공: #REF!
Name _4.구조물공: #REF!
Name _5: #REF!
Name _5: #REF!
Name _5.포장공: #REF!
Name _5.포장공: #REF!
Name _6: #REF!
Name _6: #REF!
Name _6._가_시_설_공: #REF!
Name _6._가_시_설_공: #REF!
Name _a11: [5]국공유지및사유지!$C$3
Name _av1: '[6]공사비예산서(토목분)'!#REF!
Name _av1: '[6]공사비예산서(토목분)'!#REF!
Name _B2: '[7]단면 (2)'!$K$55
Name _GHH1: #REF!

Sheet 공사비예산서
A2: Ⅵ. 공 사 비 예 산 서
J3: 2015. 7. 31 (금)
A5: 공 사 명 : '15년 진개제거 및 사다리 교체공사 | J5: 작 성 자 | K5: : 윤 석 모 (인)
J6: 검 토 자 | K6: : 임 덕 채 (인)
J7: 승 인 자 | K7: : 한 창 훈 (인)
A8: 총 공 사 비 | E8: \ | F8: =F10+F13 -> 2.2357375e+08
A10: 도 급 공 사 비 | E10: \ | F10: =F15 -> 2.2357375e+08 | H10: 다. 경 비 | K10: \ | L10: =L13+L14+L15+L16+L17+L18+L19+L20+L21+L22 -> 96408956
A11: 확 정 분 | E11: \ | J11: 회 사 분 | K11: \
A12: 정 산 분 | E12: \ | I12: 도 급 분 | K12: \
A13: 회 사 분 | E13: \ | I13: (1) 기 계 경 비 | K13: \ | L13: =설계명세서!H14 -> 80247875
I14: (2) 산재보험료 | K14: \ | L14: =설계명세서!H16 -> 3055237.5
A15: 1. 설계공사비 | E15: \ | F15: =F16+F29+L10+L26+L27+L33 -> 2.2357375e+08 | I15: (3) 고용보험료 | K15: \ | L15: =설계명세서!H18 -> 699488.59
B16: 가. 재 료 비 | E16: \ | F16: =SUM(F17:F28) -> 7523316.2 | I16: (4) 건강보험료 | K16: \ | L16: =설계명세서!H20 -> 1224746.2
C17: (1) 출고 재료비 | E17: \ | I17: (5) 연금보험료 | K17: \ | L17: =설계명세서!H22 -> 1793893
D18: 본사 분 | E18: \ | I18: (6) 노인장기요양보험료 | K18: \ | L18: =설계명세서!H24 -> 80220.877
D19: 사업소 분 | E19: \ | I19: (7) 퇴직공제 부금비 | K19: \ | L19: =설계명세서!H26 -> 1657009.6
C20: (2) 구입 재료비 | E20: \ | I20: (8) 안전관리비 | K20: \ | L20: =설계명세서!H28 -> 1471993.4
D21: CP 외 자 | E21: \ | I21: (9) 환경보전비 | K21: \ | L21: =설계명세서!H30 -> 639260.35
D22: CP 내 자 | E22: \ | I22: (10) 기타경비 | K22: \ | L22: =설계명세서!H32 -> 5539231.1
D23: LP 내 자 | E23: \ | K23: \
C24: (3) 회사 운반비 | E24: \ | K24: \
C25: (4) 외자 조작비 | E25: \ | K25: \
C26: (5) 지입 재료비 | E26: \ | F26: =설계명세서!H6 -> 5447925 | H26: 라. 일 반 관 리 비 | K26: \ | L26: =설계명세서!H36 -> 11059996
C27: (6) 잡 재료비 | E27: \ | F27: =설계명세서!H7 -> 2075391.2 | H27: 마. 이 윤 | K27: \ | L27: =설계명세서!H39 -> 28180491
C28: (7) 작업설,부산물 | E28: \ | H28: 바. 보 상 비 | K28: \
B29: 나. 노 무 비 | E29: \ | F29: =SUM(F30:F33) -> 80400987 | H29: 사. 고철 처리비 | K29: \
D30: 회 사 분 | E30: \ | H30: 아. 저 장 관 리 비 | K30: \
C31: 도 급 분 | E31: \ | I31: (1) 직접 노무비 | K31: \
C32: (1) 직접 노무비 | E32: \ | F32: =설계명세서!H10 -> 72043895 | I32: (2) 간접 노무비 | K32: \
C33: (2) 간접 노무비 | E33: \ | F33: =설계명세서!H11 -> 8357091.8 | H33: 자. 폐기물 처리비 | K33: \

Sheet 설계명세서
A1: 설 계 명 세 서
A2: 구 분 | C2: 품 목 | D2: 규 격 | E2: 단 위 | F2: 수 량 | G2: 단 가 | H2: 금액(원) | I2: 비고
A3: 번호 | B3: 비 목
A5: 1 | B5: 재료비 | H5: =H6+H7 -> 7523316.2
B6: 가 | C6: 직접재료비 | H6: =내역서1!H12 -> 5447925
B7: 나 | C7: 간접재료비 | H7: =내역서1!H19 -> 2075391.2
A9: 2 | B9: 노무비 | H9: =H10+H11 -> 80400987
B10: 가 | C10: 직접노무비 | H10: =내역서3!H18 -> 72043895
B11: 나 | C11: 간접노무비 (직접노무비) x | G11: 0.116 | H11: =내역서3!H21 -> 8357091.8
A13: 3 | B13: 경비 | H13: =H14+H16+H18+H20+H22+H24+H26+H28+H30+H32 -> 96408956
B14: 가 | C14: 기계경비 | H14: =내역서2!H16 -> 80247875
B16: 나 | C16: 산재보험료 (노무비) x | G16: 0.038 | H16: =H9*G16 -> 3055237.5
B18: 다 | C18: 고용보험료(노무비) x | G18: 0.0087 | H18: =H9*G18 -> 699488.59
B20: 라 | C20: 건강보험료(직접노무비) x | G20: 0.017 | H20: =H10*G20 -> 1224746.2
B22: 마 | C22: 연금보험료(직접노무비) x | G22: 0.0249 | H22: =H10*G22 -> 1793893
B24: 바 | C24: 노인장기요양보험료 (건강보험료) x | G24: 0.0655 | H24: =H20*G24 -> 80220.877
B26: 사 | C26: 퇴직공제 부금비(직접노무비) x | G26: 0.023 | H26: =H10*G26 -> 1657009.6
B28: 아 | C28: 안전관리비(재료비+직접노무비) x | G28: 0.0185 | H28: =(H5+H10)*G28 -> 1471993.4
B30: 차 | C30: 환경보전비 (재+직노+산경) x | G30: 0.004 | H30: =(H5+H10+H14)*G30 -> 639260.35
B32: 카 | C32: 기타경비(재료비+노무비) x | G32: 0.063 | H32: =(H5+H9)*G32 -> 5539231.1
A35: 4 | B35: 일반관리비
B36: (재료비+노무비+경비) x | G36: 0.06 | H36: =(H5+H9+H13)*G36 -> 11059996
A38: 5 | B38: 이윤 산출
B39: (노무비+경비+일반관리비) × | G39: 0.15 | H39: =(H9+H13+H36)*G39 -> 28180491
A41: 6 | B41: 공급가액 | H41: =H39+H36+H13+H9+H5 -> 2.2357375e+08
A43: 7 | B43: 부가세 | H43: =H41*0.1 -> 22357375
A45: 8 | B45: 총 공 사 비 | H45: =H43+H41 -> 2.4593112e+08

Sheet 설계내역서표지
A10: 설계 내역서

Sheet 내역서1
A1: 공 사 비 내 역 서
A3: 구 분 | C3: 품 목 | D3: 규 격 | E3: 단 위 | F3: 수 량 (EA) | G3: 단 가 | H3: 금 액(원) | I3: 비 고
A4: 번호 | B4: 비목
A6: 내1. 재료비
A8: 1 | B8: 직접재료비 | I8: 산4-2
B9: ABS수지 코팅 사다리(TX-TA300) | F9: =[1]산4!I49 -> 1153 | G9: 4500 | H9: =G9*F9 -> 5188500 | I9: 견적가
A10: 1-1. 재료의 할증
B11: 사다리 설치수량 | D11: Ⅹ | E11: 0.05 | F11: =F9*E11 -> 57.65 | G11: 4500 | H11: =G11*F11 -> 259425 | I11: 건품1편 1-9
B12: 총계 | F12: =SUM(F9:F11) -> 1210.65 | H12: =SUM(H9:H11) -> 5447925
A14: 2 | B14: 간접재료비
A15: 2-1. 공구손료 | I15: 건품1편 1-12
B16: 직접노무비(노임할증제외) | E16: Ⅹ | F16: 0.03 | H16: ='내역서3-1'!H68*F16 -> 1802994.9 | I16: 내3-1
A17: 2-2. 잡재료비 | I17: 건품1편 1-12
B18: 직접재료비 | E18: Ⅹ | F18: 0.05 | H18: =H12*F18 -> 272396.25
B19: 총계 | H19: =H18+H16 -> 2075391.2

Sheet 내역서2
A1: 공 사 비 내 역 서
A3: 구 분 | C3: 품 목 | D3: 규 격 | E3: 단 위 | F3: 수 량 | G3: 단 가 | H3: 금 액(원) | I3: 비고
A4: 번호 | B4: 비목
A6: 내2. 기계경비
A8: 1 | B8: 중장비
B9: - 진공흡입 준설차 25 ton | H9: =[1]산2!N7 -> 76980365 | I9: 산2-1
B10: - 굴삭기(타이어) 0.6㎥ | H10: =[1]산2!N37 -> 2366013 | I10: 산2-2
B11: 계 | H11: =SUM(H9:H10) -> 79346378
A13: 2 | B13: 경장비
B14: - 직접노무비(노임할증 제외) | E14: Ⅹ | F14: 0.015 | H14: ='내역서3-1'!H68*내역서2!F14 -> 901497.45 | I14: 건품 1편 1-12
B16: 총계 | H16: =H14+H11 -> 80247875

Sheet 내역서3
A1: 공 사 비 내 역 서
A3: 구 분 | C3: 품 목 | D3: 규 격 | E3: 단 위 | F3: 수 량 | G3: 단 가 | H3: 금 액(원) | I3: 비고
A4: 번호 | B4: 비목
A6: 내3. 직접노무비 | I6: 내3-1
A7: 1 | B7: 취수구 GATE 수밀작업 | H7: ='내역서3-1'!H10 -> 20565292
A9: 2 | B9: 진개준설(수중작업) | H9: ='내역서3-1'!H14 -> 20565292
A11: 3 | B11: 진개준설(잔토처리) | H11: ='내역서3-1'!H17 -> 7707171.7
A13: 4 | B13: 점검용 사다리 철거(철골재 철거) | H13: ='내역서3-1'!H21 -> 1831803.7
A15: 5 | B15: 구멍뚫기 | H15: ='내역서3-1'!H24 -> 18678626
A17: 6 | B17: 점검용 사다리 신규설치(잡철물 제작설치) | H17: ='내역서3-1'!H29 -> 2695709.7
B18: 계 | H18: =SUM(H7:H17) -> 72043895
A20: 내3-1. 간접노무비
B21: 직접노무비 | D21: Ⅹ | E21: 0.116 | H21: =H18*E21 -> 8357091.8

Sheet 내역서3-1
A1: 공 사 비 내 역 서
A3: 구 분 | C3: 품 목 | D3: 규 격 | E3: 단 위 | F3: 수 량 | G3: 단 가 | H3: 금 액(원) | I3: 비 고
A4: 번호 | B4: 비목
A6: 내3-1. 노무비 | I6: NOTE
A7: 1 | B7: 취수구 GATE 수밀작업 | I7: 산1-1
C8: 잠수부 | E8: MD | F8: =[1]산1!E7 -> 88 | G8: =C34 -> 179574 | H8: =G8*F8 -> 15802512
C9: 잠수조공(특별인부) | E9: MD | F9: =[1]산1!G7 -> 44 | G9: =C38 -> 108245 | H9: =G9*F9 -> 4762780
C10: 계 | H10: =SUM(H8:H9) -> 20565292
A11: 2 | B11: 진개준설(수중작업) | I11: 산1-2
C12: 잠수부 | E12: MD | F12: =[1]산1!E15 -> 88 | G12: =C34 -> 179574 | H12: =G12*F12 -> 15802512
C13: 잠수조공(특별인부) | E13: MD | F13: =[1]산1!G15 -> 44 | G13: =C38 -> 108245 | H13: =G13*F13 -> 4762780
C14: 계 | H14: =SUM(H12:H13) -> 20565292
A15: 3 | B15: 진개준설(잔토처리) | I15: 산1-3
C16: 보통인부 | E16: MD | F16: =[1]산1!F26 -> 87.776 | G16: =C37 -> 87805 | H16: =G16*F16 -> 7707171.7
C17: 계 | H17: =H16 -> 7707171.7
A18: 4 | B18: 점검용 사다리 철거(철골재 철거) | I18: 산1-4
C19: 용접공 | E19: MD | F19: =[1]산1!G41 -> 10.042253 | G19: =C36 -> 134516 | H19: =G19*F19 -> 1350843.7
C20: 보통인부 | E20: MD | F20: =[1]산1!E41 -> 5.4775926 | G20: =C37 -> 87805 | H20: =G20*F20 -> 480960.02
C21: 계 | H21: =SUM(H19:H20) -> 1831803.7
A22: 5 | B22: 구멍뚫기 | I22: 산1-5
C23: 보통인부 | E23: MD | F23: =[1]산1!F55 -> 212.7285 | G23: =C37 -> 87805 | H23: =G23*F23 -> 18678626
C24: 계 | H24: =H23 -> 18678626
A25: 6 | B25: 점검용 사다리 신규설치(잡철물 제작설치) | I25: 산1-6
C26: 철공 | E26: MD | F26: =[1]산1!I69 -> 18.919865 | G26: =C39 -> 138946 | H26: =G26*F26 -> 2628839.6
C27: 특별인부 | E27: MD | F27: =[1]산1!G69 -> 0.35575815 | G27: =C38 -> 108245 | H27: =G27*F27 -> 38509.041
C28: 보통인부 | E28: MD | F28: =[1]산1!E69 -> 0.323 | G28: =C37 -> 87805 | H28: =G28*F28 -> 28361.015
C29: 계 | H29: =SUM(H26:H28) -> 2695709.7
C30: 총계 | H30: =H29+H24+H21+H17+H14+H10 -> 72043895
A32: [NOTE]
A33: ○ 건설공사 시중노임 단가('15년 상반기)
A34: 1. 잠수부 | C34: 179574
A35: 2. 착암공 | C35: 103874
A36: 3. 용접공 | C36: 134516
A37: 4. 보통인부 | C37: 87805
A38: 5. 특별인부 | C38: 108245
A39: 6. 철공 | C39: 138946
A41: 구 분 | C41: 품 목 | D41: 규 격 | E41: 단 위 | F41: 수 량 | G41: 단 가 | H41: 금 액(원) | I41: 비 고
A42: 번호 | B42: 비목
A44: 내3-2. 노무비(노임할증 제외)
A45: 1 | B45: 취수구 GATE 수밀작업 | I45: 산1-1
...
