Workbook
Name 노임단가: '[1]점검별 노무비 산출내역'!$B$37:$F$42
Name 등부표인양: '[1]점검별 투입인원'!$A$46:$H$69
Name 등부표점검: '[1]점검별 투입인원'!$A$5:$H$35
Name 부표인양: '[1]점검별 투입인원'!$A$72:$H$92
Name 부표점검: '[1]점검별 투입인원'!$A$38:$H$43

Sheet 표지
A13: 용역비 산출서
A18: 용 역 명 : 2023~2024년 삼척기지 사설항로표지 위탁관리용역
A33: 2022. 12.
A46: 한국가스공사 삼척기지본부

Sheet 원가계산서
B2: 용역비 원가계산서
B4: 용 역 명 : 2023~2024년 삼척기지 사설항로표지 위탁관리용역
B5: 구 분 | E5: 용 역 | F5: 공 사 | G5: 합 계 | H5: 비 고
B6: 용역 및 공사원가 | C6: 재료비 | E6: ='용역비 총괄표'!G23 -> 0 | F6: ='용역비 총괄표'!G29 -> 0 | G6: =E6+F6 -> 0
C7: 노무비 | D7: 직접노무비 | E7: ='용역비 총괄표'!I10 -> 0 | F7: ='용역비 총괄표'!I32 -> 0 | G7: =E7+F7 -> 0
D8: 간접노무비 | E8: 0 | F8: ='용역비 총괄표'!I33 -> 0 | G8: =E8+F8 -> 0
D9: 소 계 | E9: =SUM(E7:E8) -> 0 | F9: =SUM(F7:F8) -> 0 | G9: =E9+F9 -> 0 | L9: =SUM(G7:G8) -> 0
C10: 경비 | D10: 기계경비 | E10: ='용역비 총괄표'!K13 -> 0 | F10: ='용역비 총괄표'!K36 -> 0 | G10: =E10+F10 -> 0
D11: 산재보험료 | E11: ='용역비 총괄표'!K14 -> 0 | F11: ='용역비 총괄표'!K37 -> 0 | G11: =E11+F11 -> 0
D12: 고용보험료 | E12: ='용역비 총괄표'!K15 -> 0 | F12: ='용역비 총괄표'!K38 -> 0 | G12: =E12+F12 -> 0
D13: 산업안전보건관리비 | E13: 0 | F13: ='용역비 총괄표'!K39 -> 0 | G13: =E13+F13 -> 0
D14: 기타경비 | E14: 0 | F14: ='용역비 총괄표'!K40 -> 0 | G14: =E14+F14 -> 0
D15: 전력비 | E15: ='용역비 총괄표'!K16 -> 0 | F15: 0 | G15: =E15+F15 -> 0
D16: 소 계 | E16: =SUM(E10:E15) -> 0 | F16: =SUM(F10:F15) -> 0 | G16: =E16+F16 -> 0 | L16: =SUM(G10:G15) -> 0
B17: 계 | E17: =E6+E9+E16 -> 0 | F17: =F6+F9+F16 -> 0 | G17: =E17+F17 -> 0 | L17: =G6+G9+G16 -> 0
B18: 일반관리비 | E18: ='용역비 총괄표'!K19 -> 0 | F18: ='용역비 총괄표'!K43 -> 0 | G18: =E18+F18 -> 0
B19: 이 윤 | E19: ='용역비 총괄표'!K21 -> 0 | F19: ='용역비 총괄표'!K45 -> 0 | G19: =E19+F19 -> 0
B20: 정 산 분 | E20: ='용역비 총괄표'!M25 -> 0 | F20: ='용역비 총괄표'!K50 -> 0 | G20: =E20+F20 -> 0
B21: 단수조정
B22: 공 급 가 액
B23: 부가가치세
B24: 총 계

Sheet 용역비 총괄표
B2: 용역비 총괄표
B3: 용 역 명 : 2023~2024년 삼척기지 사설항로표지 위탁관리용역
B4: 구 분 | C4: 규격 | D4: 단위 | E4: 수량 | F4: 재료비 | H4: 노무비 | J4: 경비 | L4: 합계 | N4: 비고
F5: 단가 | G5: 금액 | H5: 단가 | I5: 금액 | J5: 단가 | K5: 금액 | L5: 단가 | M5: 금액
B6: 1. 용역
B7: 가. 재 료 비
B9: 나. 노 무 비
B10: 1) 직접노무비
B12: 다. 경 비
B13: 1) 기계경비
B14: 2) 산재보험료 | C14: (노무비)의 | E14: 0.037
B15: 3) 고용보험료 | C15: (노무비)의 | E15: 0.0101
B16: 4) 전력비
B17: 소 계
B19: 라. 일반관리비 | C19: (재료비+노무비+경비)의 | E19: 0.06
B21: 마. 이 윤 | C21: (노무비+경비+일반관리비)의 | E21: 0.1
B23: 바. 용역비 합계
B25: 아. 정산분 | N25: 실적정산
B28: 2. 공사
B29: 가. 재 료 비 | N29: 실적정산
B31: 나. 노 무 비
B32: 1) 직접노무비
B33: 2) 간접노무비 | C33: (직접노무비)의 | E33: 0.138
B34: 노무비 소계
B35: 다. 경 비
B36: 1) 기계경비 | K36: =용역비내역서!K34 -> 0
B37: 2) 산재보험료 | C37: (노무비)의 | E37: 0.037 | K37: =TRUNC(I34*0.037,0) -> 0
B38: 3) 고용보험료 | C38: (노무비)의 | E38: 0.0101 | K38: =TRUNC(I34*0.0101,0) -> 0
B39: 4) 산업안전보건관리비 | C39: (재료비+직접노무비)의 | E39: 0.0293 | K39: =TRUNC((G29+I32)*0.0293,0) -> 0
B40: 5) 기타경비 | C40: (재료비+노무비)의 | E40: 0.09 | K40: =TRUNC((G29+I34)*0.09,0) -> 0
B41: 소 계 | K41: =SUM(K36:K40) -> 0
B43: 라. 일반관리비 | C43: (재료비+노무비+경비)의 | E43: 0.06 | K43: =TRUNC((G29+I34+K41)*0.06,0) -> 0
B45: 마. 이 윤 | C45: (노무비+경비+일반관리비)의 | E45: 0.15 | K45: =TRUNC((I34+K41+K43)*0.15,0) -> 0
B48: 바. 공사비 합계 | G48: =G29 -> 0 | I48: =I34 -> 0 | K48: =K41+K43+K45 -> 0 | M48: =G48+I48+K48 -> 0
B50: 아. 정산분 | K50: =용역비내역서!M49 -> 0 | M50: =G50+I50+K50 -> 0 | N50: 실적정산

Sheet 용역비내역서
B2: 용역비 내역서
B3: 용 역 명 : 2023~2024년 삼척기지 사설항로표지 위탁관리용역
B4: 구 분 | C4: 규격 | D4: 단위 | E4: 수량 | F4: 재료비 | H4: 노무비 | J4: 경비 | L4: 합계 | N4: 비고
F5: 단가 | G5: 금액 | H5: 단가 | I5: 금액 | J5: 단가 | K5: 금액 | L5: 단가 | M5: 금액
B6: 1. 용역
B7: 가. 정기점검 | C7: 1회/월 | D7: 회 | E7: 23
B8: 나. 관할청 관리실태 지도점검 | C8: 2회/년 | D8: 회 | E8: 4
B9: 다. 특별점검 | C9: 2회/년(필요시) | D9: 회 | E9: 4
B10: 라. 등명기 소등 시 복구 | C10: 필요시(등명기 소등 사고시) | D10: 회 | E10: 1
B12: 용역비 합계
B14: 1-1. 정산분(예비품)
B15: 중형 등명기 검사(검사비 및 운반비 포함) | C15: 운반거리 설계변경 없음 | D15: ea | E15: 7
B16: 소형 등명기 검사(검사비 및 운반비 포함) | C16: 운반거리 설계변경 없음 | D16: ea | E16: 15
B17: 축전지 | C17: 12V-100Ah | D17: ea | E17: 20
B18: 축전지 | C18: 2V-250Ah | D18: ea | E18: 1
B19: 축전지 | C19: 2V-400Ah | D19: ea | E19: 1
B20: 일광변감지기 | C20: CDS | D20: ea | E20: 1
B21: 충방전조절기 | C21: 12V-10A | D21: ea | E21: 1
B22: 충방전조절기 | C22: 12V-15A | D22: ea | E22: 1
B23: 충방전조절기 | C23: 12V-20A | D23: ea | E23: 1
B24: 등명기 | C24: LED-300(11NM) | D24: ea | E24: 1
B25: 등명기 | C25: LED-200HI(9NM) | D25: ea | E25: 1
B26: 등명기 | C26: LED-200(7NM) | D26: ea | E26: 1
B27: 소계
B29: 2. 공사
B30: 가. 인양점검(등부표3기) | C30: 1회/2~3년 (시방서 참고) | D30: 회 | E30: 1
B31: 나. 등부표 이동설치 | C31: 필요시 | D31: 회 | E31: 2
B32: 다. 방파제 등대 외부도장 | C32: 1회/2~3년(시방서 참고) | D32: m² | E32: 852.92
B33: 예선 | C33: 119kw(10톤) | D33: hr | E33: 4
B34: 공사비 합계
B36: 2-1. 정산분
B37: 가. 인양점검
B38: 전선 | C38: V.C.T. 4㎟-2C | D38: m | E38: 30
B39: 체인(앵커) | C39: Φ38 | D39: m | E39: 100
B40: 환링(링) | C40: Φ38 | D40: 개 | E40: 2
B41: 전환(스위벨) | C41: Φ38 | D41: 개 | E41: 4
B42: 접환(샤클) | C42: Φ38 | D42: 개 | E42: 18
B43: 나. 등부표 이동설치
B44: 전선 | C44: V.C.T. 4㎟-2C | D44: m | E44: 20
B45: 체인(앵커) | C45: Φ38 | D45: m | E45: 50
B46: 환링(링) | C46: Φ38 | D46: 개 | E46: 2
B47: 전환(스위벨) | C47: Φ38 | D47: 개 | E47: 4
B48: 접환(샤클) | C48: Φ38 | D48: 개 | E48: 18
B49: 소계

Sheet 품셈
B2: 품 셈
B3: 용 역 명 : 2023~2024년 삼척기지 사설항로표지 위탁관리용역
B4: 구 분 | C4: 규격 | D4: 단위 | E4: 수량 | F4: 재료비 | H4: 노무비 | J4: 경비 | L4: 합계 | N4: 비고
F5: 단가 | G5: 금액 | H5: 단가 | I5: 금액 | J5: 단가 | K5: 금액 | L5: 단가 | M5: 금액
B6: 1. 등부표 및 등표 점검 | D6: 회 | E6: 1
B7: 전기산업기사 | D7: 인 | E7: ='등가계수 명세표'!F34 -> 0.102
B8: 보통인부 | D8: 인 | E8: ='등가계수 명세표'!H34 -> 0.097
B9: 지적산업기사 | D9: 인 | E9: ='등가계수 명세표'!P34 -> 0.033
B10: 소계
B12: 2. 무신호기 및 안개감지기 점검 | D12: 회 | E12: 1
B13: 전기산업기사 | D13: 인 | E13: ='등가계수 명세표'!F60 -> 0.093
B14: 보통인부 | D14: 인 | E14: ='등가계수 명세표'!H60 -> 0.087
B15: 소계
B17: 3. 시버스타워 점검 | D17: 회 | E17: 1
B18: 전기산업기사 | D18: 인 | E18: ='등가계수 명세표'!F69 -> 0.119
B19: 보통인부 | D19: 인 | E19: ='등가계수 명세표'!H69 -> 0.103
B20: 소계
B23: 4. 방파제등대 및 도류제등대 점검 | D23: 회 | E23: 1
B24: 전기산업기사 | D24: 인 | E24: ='등가계수 명세표'!F81 -> 0.144
B25: 보통인부 | D25: 인 | E25: ='등가계수 명세표'!H81 -> 0.131
B26: 소계
B29: 5. 남방파제등대 점검(레이콘포함) | D29: 회 | E29: 1
B30: 전기산업기사 | D30: 인 | E30: ='등가계수 명세표'!F94 -> 0.218
B31: 보통인부 | D31: 인 | E31: ='등가계수 명세표'!H94 -> 0.131
B32: 소계
B35: 6. 방파제인식등 점검 | D35: 회 | E35: 1
B36: 전기산업기사 | D36: 인 | E36: ='등가계수 명세표'!F101 -> 0.028
B37: 보통인부 | D37: 인 | E37: ='등가계수 명세표'!H101 -> 0.024
B38: 소계
B40: 7. 조사등 점검 | D40: 회 | E40: 1
B41: 전기산업기사 | D41: 인 | E41: ='등가계수 명세표'!F126 -> 0.102
B42: 보통인부 | D42: 인 | E42: ='등가계수 명세표'!H126 -> 0.073
B43: 소계
B45: 8. 등부표 인양 점검 | D45: 회 | E45: 1
B46: 전기산업기사 | D46: 인 | E46: ='등가계수 명세표'!F150 -> 0.416
B47: 보통인부 | D47: 인 | E47: ='등가계수 명세표'!H150 -> 2.264
B48: 작업반장 | D48: 인 | E48: ='등가계수 명세표'!J150 -> 0.512
B49: 용접공 | D49: 인 | E49: ='등가계수 명세표'!L150 -> 1.416
B50: 도장공 | D50: 인 | E50: 0
B51: 소계
B53: 9. 등부표 이동 설치 | D53: 회 | E53: 1
B54: 전기산업기사 | D54: 인 | E54: ='등가계수 명세표'!F167 -> 0.102
B55: 보통인부 | D55: 인 | E55: ='등가계수 명세표'!H167 -> 1.041
B56: 작업반장 | D56: 인 | E56: ='등가계수 명세표'!J167 -> 0.512
B57: 용접공 | D57: 인 | E57: ='등가계수 명세표'!L167 -> 1
B58: 도장공 | D58: 인 | E58: 0
B59: 소계
B61: 10. 정기점검 | C61: 1회/월 | D61: 회 | E61: 1
B62: 등부표 및 등표 점검 | D62: 기 | E62: 4
B63: 무신호기 및 안개감지기 점검 | D63: 기 | E63: 1
B64: 시버스타워 점검 | D64: 기 | E64: 2
B65: 방파제등대 및 도류제등대 점검 | D65: 기 | E65: 3
B66: 남방파제등대 점검(레이콘포함) | D66: 기 | E66: 1
B67: 방파제 인식등 점검 | D67: 기 | E67: 18
B68: 조사등 점검 | D68: 기 | E68: 4
B69: 예선 | C69: 119kW(10톤) | D69: hr | E69: 4
B70: 소계
B72: 11. 인양점검 | C72: 1회/2~3년 (시방서 참고) | D72: 회 | E72: 1
B73: 예선 | C73: 373kr(90톤) | D73: hr | E73: 24
B74: 크레인 | C74: 타이어, 25톤 | D74: hr | E74: 16
B75: 발전기 | C75: 50 kW | D75: hr | E75: 16
B76: 용접기 | C76: 직류 300Amp | D76: hr | E76: 16
B77: 기중기선 | C77: 111.9kw(30톤달기) | D77: hr | E77: 24
B78: 등부표 인양 | D78: 기 | E78: 3
B79: 등부표 도장(3기)샌드블라스트, 운반비 포함 (운반거리 설계변경 없음) | C79: 녹막이 1회, 에폭시 2회 | D79: 기 | E79: 3
B80: 소계
B82: 12. 등부표 이동설치 | C82: 필요시 | D82: 회 | E82: 1
B83: 등부표 이동설치 | C83: 필요시 | D83: 회 | E83: 1
B84: 예선 | C84: 373kw(90톤) | D84: hr | E84: 4
B85: 크레인 | C85: 타이어, 25톤 | D85: hr | E85: 4
B86: 발전기 | C86: 50 kW | D86: hr | E86: 4
B87: 용접기 | C87: 직류 300Amp | D87: hr | E87: 4
B88: 기중기선 | C88: 111.9kw(30톤달기) | D88: hr | E88: 4
B89: 덤프트럭 | C89: 10.5톤 | D89: hr | E89: 4
B90: 소계
B92: 13. 등명기 소등 시 복구 | C92: 필요시(등명기 소등 사고시) | D92: 회 | E92: 1
B93: 등부표 및 등표 점검 | D93: 기 | E93: 1
B94: 예선 | C94: 119kw(10톤) | D94: hr | E94: 4
B95: 소계
B97: 14. 등대 도장 | D97: m² | E97: 1
B98: 도장공 | C98: 로프작업 고소할증50% | D98: 인 | E98: 0.0585
B99: 보통인부 | C99: 로프작업 고소할증50% | D99: 인 | E99: 0.012
B100: 에폭시 하도 1회 도장 | C100: 크린폭시 하도투명 | D100: L | E100: 0.217
B101: 에폭시 중도 1회 도장 | C101: DHDC-5080HB | D101: L | E101: 0.171
B102: 우레탄 상도 2회 도장 | C102: 애니탄플러스 2740 | D102: L | E102: =0.239 -> 0.239
B103: 우레탄 상도 2회 도장 | C103: DR-700 | D103: L | E103: =0.036 -> 0.036
B104: 소계

Sheet 장비부표
B2: 장 비 부 표
B3: 용 역 명 : 2023~2024년 삼척기지 사설항로표지 위탁관리용역
B4: 구 분 | C4: 규격 | D4: 단위 | E4: 수량 | F4: 재료비 | H4: 노무비 | J4: 경비 | L4: 합계 | N4: 비고
F5: 단가 | G5: 금액 | H5: 단가 | I5: 금액 | J5: 단가 | K5: 금액 | L5: 단가 | M5: 금액
B6: 1. 예선 | C6: 월점검 및 특별점검 시 | D6: hr | E6: 1
B7: 예선(월점검 및 특별점검) | C7: 119kw(10톤) | D7: hr | E7: 1
B8: 소계
B10: 2. 예선 | C10: 인양점검 및 등부표이동설치 시 | D10: hr | E10: 1
B11: 예선(인양점검) | C11: 373kw(90톤) | D11: hr | E11: 1
B12: 소계
B14: 3. 기중기선 | C14: 인양점검 및 등부표이동설치 시 | D14: hr | E14: 1
B15: 기중기선 | C15: 111.9kw(30톤달기) | D15: hr | E15: 1
B16: 소계
B18: 4. 발전기 | C18: 인양점검 및 등부표이동설치 시 | D18: hr | E18: 1
B19: 발전기 | C19: 50kw | D19: hr | E19: 1
B20: 소계
B22: 5. 용접기 | C22: 인양점검 및 등부표이동설치 시 | D22: hr | E22: 1
B23: 용접기 | C23: 타이어, 25톤 | D23: hr | E23: 1
B24: 소계
B26: 6. 크레인 | C26: 인양점검 및 등부표이동설치 시 | D26: hr | E26: 1
B27: 크레인 | C27: 타이어, 25톤 | D27: hr | E27: 1
B28: 소계
B30: 7. 덤프트럭 | C30: 인양점검 및 등부표이동설치 시 | D30: hr | E30: 1
B31: 덤프트럭 | C31: 10.5톤 | D31: hr | E31: 1
B32: 소계

Sheet 자재조서
B2: 자재조서
B4: 번호 | C4: 품 목 | D4: 규 격 | E4: 단 위 | F4: 단가(2022년 11월) | L4: 적용단가 | M4: 비고
F5: 22.11月물가정보 | G5: PAGE | H5: 뉴마린엔지니어링㈜ | I5: ㈜대기해양 | J5: 지오시스템리서치 | K5: 엠에스엘테크놀로지
B6: 1 | C6: 축전지 | D6: 12V-100Ah | E6: 개
B7: 2 | D7: 2V-250Ah | E7: 개
B8: 3 | D8: 2V-400Ah | E8: 개
B9: 4 | C9: 일광감지기(sun switch) | D9: CDS | E9: 개
B10: 5 | C10: 충방전조절기 | D10: 12V-10A | E10: 개
B11: 6 | D11: 12V-15A | E11: 개
B12: 7 | D12: 12V-20A | E12: 개
B13: 8 | C13: 전선(비닐캡타이어케이블) | D13: V.C.T 4㎟-2C | E13: M
B14: 9 | C14: 체인(앵커) | D14: Φ38 | E14: M
B15: 10 | C15: 환링(링) | D15: Φ38 | E15: 개
B16: 11 | C16: 전환(스위벨) | D16: Φ38 | E16: 개
B17: 12 | C17: 접환(샤클) | D17: Φ38 | E17: 개
B18: 13 | C18: 소형 등명기 시험비 | D18: 검사비 및 운반비 포함 | E18: 개
C19: 중형 등명기 시험비 | D19: 검사비 및 운반비 포함 | E19: 개
B20: 14 | C20: 등명기 | D20: LED-300(11NM) | E20: 개
B21: 15 | C21: 등명기 | D21: LED-200HI(9NM) | E21: 개
B22: 16 | C22: 등명기 | D22: LED-200(7NM) | E22: 개
B23: 17 | C23: 등부표 도장 | D23: LL-26(106.78m²) | E23: 기
B24: 18 | C24: 경유 | D24: 0.001W% S | E24: L
B25: 19 | C25: 크린폭시 하도투명 | D25: 에폭시 하도(투명) | E25: L
B26: 20 | C26: DHDC-5080HB | D26: 고고형분에폭시중도 | E26: L
B27: 21 | C27: 애니탄플러스 2740 | D27: 아크릭우레탄상도 | E27: L
B28: 22 | C28: DR-700 | D28: 아크릭우레탄신너 | E28: L
B29: 주1) '22. 11月 물가정보 및 견적서(4개업체) 비교하여 최저가 적용 주2) 항로표지기술원 시험검사소 검사비 1기당 소형:243,022원 중형:281,632원 1기당 운반비 40Lx1911.98(L/원)x2(왕복)x3회/22기 = 20,857.96원

Sheet 노임단가
B3: 노임단가
E5: 단위 : 원
B7: 일련번호 | C7: 직종명 | D7: 일노임단가 | E7: 비고
B8: 1 | C8: 작업 반장 | E8: 2022년 하반기 시중노임단가
B9: 2 | C9: 보통 인부 | E9: 2022년 하반기 시중노임단가
B10: 3 | C10: 용접공 | E10: 2022년 하반기 시중노임단가
B11: 82 | C11: 보통 선원 | E11: 물가정보부록 P168
B12: 4 | C12: 잠수부 | E12: 2022년 하반기 시중노임단가
B13: 5 | C13: 도장공 | E13: 2022년 하반기 시중노임단가
B14: 6 | C14: 통신관련산업기사 (표지전문기사) | E14: 2022년 하반기 시중노임단가
B15: 7 | C15: 전기공사산업기사 | E15: 2022년 하반기 시중노임단가
B16: 8 | C16: 지적산업기사 | E16: 2022년 하반기 시중노임단가

Sheet 전력비
B3: 전력비 산출내역
B5: 총충전CELL수 ① | C5: CELL당 충전 전력소비량 ② | D5: 연간 전력소비량 ③=①X② | E5: 기본요금 ④ | F5: KWH당 전력비 ⑤ | G5: 사용년수 ⑥ | H5: 총 전력비 ⑦=(④+③X⑤)X⑥ | I5: 비고
B6: 166 | C6: 9.16 | D6: =B6*C6 -> 1520.56 | E6: 6160 | F6: 72.5 | G6: 2 | H6: =ROUNDDOWN(((E6+D6*F6)*G6),0) -> 232801
B7: 주 1) 총 충전CELL수 산출 : 12(4 CELL*등부표3EA)+ 4(4 CELL*등표1EA)+150(방파제등대 : 72EA, 도류제등대 : 66EA, 시버스타워: 12EA) = 166 CELL
B8: 주 2) kWh당 전력비 산출근거 : 한국전력공사 전력요금 일반용 전력(갑1, 저압전력) 봄,가을철 전력요금 적용(2022.10.01. 기준)

Sheet 수량산출
B2: 수량 산출
B5: 구 분 | C5: 규 격 | D5: 단 위 | E5: 산출근거 | F5: 비고
B6: 1. 정기점검 | E6: 2023.1.1~2024.12.31 : 24개월 - 1개월 = 23개월 (인양점검 시 해당월 정기점검 수행)
B7: 점검 대상 | C7: 육상 | E7: 무신호기 1기, 시버스타워 2기, 도류제 등대 2기, 방파제인식등 18기
B8: 점검 대상 | C8: 해상 | E8: 방파제등대 2기, 등부표 3기, 등표 1기
B9: 장비 가동 시간 | E9: 호산항 - 해상 방파제 등대 2기 - 등부표 3기 - 등표 1기 : 4hr
B10: 2. 관할청 관리실태 지도점검 | E10: 2회/년 * 2년 = 4회 실시(실적정산)
B11: 3. 특별점검 | E11: 2회/년 * 2년 = 4회 실시(실적정산)
B12: 4. 등명기 소등 시 복구 | E12: 1회 실시(필요시)
B13: 5. 인양점검 | E13: 2~3년 1회 실시 (관할청 협의 후)
B14: 점검 대상 | C14: 해상 | E14: 등부표 3기
B15: 전선 | C15: V.C.T. 4㎟-2C | E15: 기당 10m 기준 × 3기 = 30m(실적정산)
B16: 체인(앵커) | C16: Φ38 | E16: 전회차 인양점검 교체수량 반영(실적정산) : 100m
B17: 환링(링) | C17: Φ38 | E17: 전회차 인양점검 교체수량 반영(실적정산) : 2EA
B18: 전환(스위벨) | C18: Φ38 | E18: 전회차 인양점검 교체수량 반영(실적정산) : 4EA
B19: 접환(샤클) | C19: Φ38 | E19: 전회차 인양점검 교체수량 반영(실적정산) : 18EA
B20: 장비 가동 시간 | E20: 1일 8hr × 2일 = 16hr *기중기선, 예인선에 한해 이동시간 8hr 반영 기중기선, 예인선 = 24hr
B21: 6. 등부표 이동설치 | E21: 2회 실시(필요시) | F21: 주1)
B22: 전선 | C22: V.C.T. 4㎟-2C | E22: 최소수량 반영(실적정산) : 10m x 2회 = 20m
B23: 체인(앵커) | C23: Φ38 | E23: 최소수량 반영(실적정산) : 25m(1연) x 2회 = 50m
B24: 환링(링) | C24: Φ38 | E24: 최소수량 반영(실적정산) : 1EA x 2회 = 2EA
B25: 전환(스위벨) | C25: Φ38 | E25: 최소수량 반영(실적정산) : 2EA x 2회 = 4EA
B26: 접환(샤클) | C26: Φ38 | E26: 최소수량 반영(실적정산) : 9EA x 2회 = 18EA
B27: 장비 가동 시간 | E27: 4hr x 2회 = 8hr
B28: 7. 등대도장 | D28: m²
B29: 면적 | D29: m² | E29: 426.46 x 2기 = 852.92
B30: 에폭시 코팅(롤러칠) | C30: 일위대가 | E30: 도장공 : 0.039 x 1.5 = 0.0585 보통인부: 0.008 x 1.5 = 0.012 | F30: 주2)
B31: 장비 가동 시간 | E31: 4hr
B32: 주1) 삼척기지본부-8239('20.12.10.)"호산항 한국2호 등부표 긴급회수완료 보고서 제출" 근거하여 최소 수량 반영 주2) 2022 상반기 종합적산정보 P471 (8)에폭시페인트칠 노무단가 적용 및 2022 건설공사 표준품셈 p74 (8.위험할증률) 50% 적용

Sheet 도장면적 산출
B2: 등부표(LL-26) 도장면적 산출표
E4: 단위 : ㎡/기
B5: 부 위 명 | C5: 규 격 | D5: 단 위 | E5: 도장면적 산출 내역 | F5: 도장면적
B6: 등명기/리플렉터설치대 | C6: 흘수선상(외면) | D6: ㎡ | E6: (0.63 x 0.63 x 4) + (0.4 x 0.4 x 2) + (0.08 x 0.08 x 3.14 x 0.56) | F6: 1.919
B7: 번호판 | C7: 흘수선상(외면) | D7: ㎡ | E7: {[(0.9 + 1.1) / 2] x 0.825 x 2 x 4 | F7: 6.6
B8: 철탑 수평 보강재 | C8: 흘수선상(외면) | D8: ㎡ | E8: 0.05 x (2.16 + 2.72 + 3.52 + 4.48 + 5.68) x 4 | F8: 3.712
B9: 철탑수직보강재 | C9: 흘수선상(외면) | D9: ㎡ | E9: 0.065 x 3.84 x 4 x 4 | F9: 3.994
B10: 철탑크로스보강재 | C10: 흘수선상(외면) | D10: ㎡ | E10: 0.05 x 1.64 x 6 x 4 | F10: 1.968
B11: 등명기용수직보강재 | C11: 흘수선상(외면) | D11: ㎡ | E11: 0.065 x 0.375 x 4 x 4 | F11: 0.39
B12: 논슬립바 | C12: 흘수선상(외면) | D12: ㎡ | E12: 0.01 x 0.6 x 16 | F12: 0.096
B13: 리플렉터중앙관 | C13: 흘수선상(외면) | D13: ㎡ | E13: 2 x 3.14 x 0.075 x 0.546 | F13: 0.257
B14: 상부핸드레일 | C14: 흘수선상(외면) | D14: ㎡ | E14: 2 x 3.14 x 0.021 x 5.024 | F14: 0.663
B15: 레일경사보강재 | C15: 흘수선상(외면) | D15: ㎡ | E15: 2 x 3.14 x 0.021 x 0.53 | F15: 0.07
B16: 공기순환관 | C16: 흘수선상(외면) | D16: ㎡ | E16: 2 x 3.14 x 0.021 x (3.848 + 4.392) | F16: 1.087
B17: 해치볼트걸이 | C17: 흘수선상(외면) | D17: ㎡ | E17: {(0.135 x 0.06) - (0.046 x 0.022)} x 4 | F17: 0.028
... B37: 스탭 | C37: 흘수선상(외면) | D37: ㎡ | E37: 2 x 3.14 x 0.0095 x 0.5 x 4 | F37: 0.119
B38: 수선상부 | D38: ㎡ | F38: =SUM(F6:F37) -> 39.519
B39: 표체하판중앙판 | C39: 흘수선하(외면) | D39: ㎡ | E39: 0.5 x 0.5 x 3.4 | F39: 0.785
B40: 계류고리 | C40: 흘수선하(외면) | D40: ㎡ | E40: (0.37 x 0.18 - 0.02 x 0.02 x 2) x 2 | F40: 0.132
B41: 표체하판 | C41: 흘수선하(외면) | D41: ㎡ | E41: {[3.14 x (1.224 x 1.224 - 0.509 x 0.509)] + [2 x 3.14 x 1.3 x 0.175] | F41: 5.319
B42: 미통 | C42: 흘수선하(외면) | D42: ㎡ | E42: 0.61 x 3.14 x 3 | F42: 5.746
B43: 미통상부연결용브라켓 | C43: 흘수선하(외면) | D43: ㎡ | E43: (0.2 x 0.4 - 0.34 x 0.16 / 2) x 8 x 2 | F43: 0.845
B44: 중추고정브라켓 | C44: 흘수선하(외면) | D44: ㎡ | E44: 0.1 x 0.1 / 2 x 16 x 2 | F44: 0.16
B45: 중추고정판 | C45: 흘수선하(외면) | D45: ㎡ | E45: [(0.43 x 0.43 x 3.14) - (0.303 x 0.303 x 3.14)] x 2{(0.6 x 0.5) + (0.042 x 0.22 / 2) - (0.1 x 0.1 - 0.1 x 0.1 x 3.14 / 4)} x 2 | F45: 0.585
B46: 방향타판 | C46: 흘수선하(외면) | D46: ㎡ | E46: {(0.6 x 0.5) + (0.042 x 0.22 / 2) - (0.1 x 0.1 - 0.1 x 0.1 x 3.14 / 4)} x 2 | F46: 0.605
B47: 중추 | C47: 흘수선하(외면) | D47: ㎡ | E47: [3.14 x (0.45 x 0.45 - 0.313 x 0.313)] x 8 | F47: 2.633
B48: 표체측면 | C48: 흘수선하(외면) | D48: ㎡ | E48: 2 x 3.14 x 1.3 x 0.9 | F48: 7.348
B49: 표체 측면 | C49: 표체부(내면) | D49: ㎡ | E49: 2 x 3.14 x 1.3 x 1.56 | F49: 12.736
B50: 표체상판 | C50: 표체부(내면) | D50: ㎡ | E50: [3.14 x (1.224 x 1.224 - 0.399 x 0.399)] + [2 x 3.14 x 1.3 x 0.175] - [(0.373 x 0.47 x 3.14) / 4] | F50: 5.5
... B58: 표체내부보강재 | C58: 표체부(내면) | D58: ㎡ | E58: 0.05 x 8 x 2 x 4 | F58: 3.24
B59: 수선하부 및 표체 | D59: ㎡ | F59: =SUM(F39:F58) -> 67.262
B60: 계 | D60: ㎡ | F60: =F38+F59 -> 106.781
B61: 방파제 등대 도장면적 산출표 | G61: 건설 당시 설계내역 참조
B62: A구간 | C62: 외면 | D62: ㎡ | E62: [(0.966 + 0.842) / 2 x 8EA + (0.862 + 0.737) / 2 x 14EA + 0.4 x 8EA] x 3.0 + 0.19 x 2EA = 65.26㎡ (0.774 + 0.66 + 1.69 + 0.39 + 0.774) x 2EA + 0.48 + 1.33 + 0.3 / 2 x 2.48 = 10.76 ㎡ 65.26 + 10.76 = 76.02 ㎡ | F62: 76.02
B63: B구간 | C63: 외면 | D63: ㎡ | E63: [(0.842 + 0.670) x 8EA + (0.737 + 0.565) / 16EA + 0.4 x 8EA] x 3.0 + 0.19 x 2EA = 59.37 ㎡ (0.774 + 0.66 + 1.69 + 0.39 + 0.774 ) x 2EA + 0.48 + 1.33 + 0.3 / 2 x 2.48 = 10.76 ㎡ 59.37 + 10.76 = 70.13 ㎡ | F63: 70.13
B64: C구간 | C64: 외면 | D64: ㎡ | E64: [(0.670 + 0.558) / 2 x 8EA + (0.565 + 0.454) / 2 x 16EA + 0.4 x 8EA] x 3.0 + 0.19 x 2EA = 49.17 ㎡ | F64: 49.17
B65: D구간 | C65: 외면 | D65: ㎡ | E65: [(0.558 + 0.484) / 2 x 8EA + (0.454 + 0.380) / 2 x 16EA + 0.4 x 8EA] x 3.0 + 0.19 x 2EA = 42.50 ㎡ | F65: 42.5
B66: E구간 | C66: 외면 | D66: ㎡ | E66: [(0.484 + 0.445) / 2 x 8EA + (0.380 + 0.340) / 2 x 16EA + 0.4 x 8EA] x 4.0 + 0.19 x 2EA = 51.08 ㎡ | F66: 51.08
B67: F구간 | C67: 외면 | D67: ㎡ | E67: [(0.548 + 0.339) / 2 x 8EA + (0.444 + 0.339) / 2 x 16EA + 0.4 / 2 x 8EA] x 1.95 + 0.24 x 2EA = 25.85 ㎡ [(0.444 + 0.445) / 2 x 8EA + (0.339 + 0.340) / 2 x 16EA + 0.4 x 8EA] x 2.25 = 27.42 ㎡ 25.85 + 27.42 = 53.27 ㎡ | F67: 53.27
B68: 기초 및 계단 | C68: 외면 | D68: ㎡ | E68: 18.35 + (π x 9.0^2 / 4 x 1.0) + 0.45 x 2EA + 1.45 = 84.29 ㎡ | F68: 84.29
B69: 계 | D69: ㎡ | F69: =SUM(F62:F68) -> 426.46

Sheet 등가계수 명세표
B3: 점검장비별 단위당 등가계수 명세표
P4: 단위 : M/D
B6: 점검장비 | C6: 점 검 사 항 | D6: 단위 | F6: 전기산업기사 | H6: 보통인부 | J6: 작업반장 | L6: 용접공 | N6: 도장공 | P6: 지적산업기사
B7: 1) 등부표 및 등표 | C7: 1. 등명기 점검 및 교정 | D7: 개소당
C8: 가. 점등 상태 | E8: 0.005 | F8: 0.012 | G8: 0.008 | H8: 0.006
C9: 나. 섬광주기의 적정 여부 | E9: 0.005 | F9: 0.004 | G9: 0.005 | H9: 0.004
C10: 다. 램프드라이브 작동 상태 | E10: 0.01 | F10: 0 | G10: 0.012 | H10: 0
C11: 라. SUN SWITCH 작동 상태 | E11: 0.01 | F11: 0.008 | G11: 0.012 | H11: 0.01
C12: 마. 제어 회로기판의 상태 | E12: 0.005 | F12: 0.004 | G12: 0.005 | H12: 0
C13: 바. 기타 기능 상태 | F13: 0.008 | G13: 0.01 | H13: 0.008
C14: 2. 축전지 점검 및 교정
C15: 가. 전압 상태 | E15: 0.01 | F15: 0.008 | G15: 0.008 | H15: 0.005
C16: 나. 비중 상태 | E16: 0.01 | F16: 0.004 | G16: 0.008 | H16: 0
C17: 다. 액면 상태 | E17: 0.01 | F17: 0.004 | G17: 0.008 | H17: 0
C18: 라. 온도 상태 | E18: 0.01 | F18: 0.004 | G18: 0.008 | H18: 0
C19: 마. 기타 기능 상태 | F19: 0.006 | G19: 0.005 | H19: 0.006
C20: 3. 충방전 조절기 점검 및 교정
C21: 가. 절연상태 | E21: 0.01 | F21: 0.008 | G21: 0.008 | H21: 0.006
C22: 나. 계기상태 | E22: 0.01 | F22: 0.004 | G22: 0.008 | H22: 0.006
C23: 다. 결선상태 | E23: 0.01 | F23: 0.008 | G23: 0.008 | H23: 0.006
C24: 4. 태양전지 점검 및 교정
C25: 가. 표면 상태 및 청소 | F25: 0.008 | G25: 0.005 | H25: 0.012
C26: 나. 전압 상태 | E26: 0.005 | F26: 0.004 | G26: 0.005 | H26: 0
C27: 다. 연결선 결선 상태 | E27: 0.005 | F27: 0.004 | G27: 0.005 | H27: 0.004
C28: 라. 다이오드 소손 상태 | E28: 0.005 | F28: 0.004 | G28: 0.005 | H28: 0
C29: 5. 등부표체 점검 및 교정
C30: 가. 홀수 상태 | G30: 0.005 | H30: 0.008
C31: 나. 각질류의 부착상태 | G31: 0.005 | H31: 0.008
C32: 다. 도장 상태 | H32: 0.008
C33: 6. 등부표 위치 확인 | P33: 0.033
C34: 계 | F34: =SUM(F8:F31) -> 0.102 | H34: =SUM(H8:H32) -> 0.097 | P34: =SUM(P7:P33) -> 0.033
B36: 점검장비 | C36: 점 검 사 항 | D36: 단위 | F36: 전기산업기사 | H36: 보통인부 | J36: 작업반장 | L36: 용접공 | N36: 도장공
B37: 2) 무신호기 및 안개감지기 | C37: 1. 무신호기
C38: 가. Horn 점검
C39: 1) 취명상태 | F39: 0.005 | H39: 0.005
C40: 2) 취명주기의 적정상태 | F40: 0.005 | H40: 0.001
C41: 3) 메칭트랜스의 이상유무 | F41: 0.005 | H41: 0.008
C42: 4) 유니트의 이상유무 | F42: 0.005 | H42: 0.001
C43: 5) 취명 방향 확인 | F43: 0.005 | H43: 0.01
C44: 6) 전선 연결 상태 확인 | F44: 0.002 | H44: 0.01
C45: 7) 인버터 이상 유무 확인 | F45: 0.002 | H45: 0.01
C47: 나. 축전지 점검
C48: 1) 전압 상태 | F48: 0.025 | H48: 0.005
C49: 2) 비중 상태 | F49: 0 | H49: 0
C50: 3) 액면 상태 | F50: 0 | H50: 0
C51: 4) 온도 상태 | F51: 0 | H51: 0
C52: 5) 기타 기능 상태 | F52: 0.005 | H52: 0.005
C54: 2. 안개감지기
C55: 가. 렌즈 상태 및 확인 점검 | F55: 0.012 | H55: 0.008
C56: 나. 전선 연결상태 확인 | F56: 0.012 | H56: 0.008
C57: 다. 안개감지기 기능 상태 | F57: 0.005 | H57: 0.008
C58: 라. 안개감지기 및 작동상태 | F58: 0.005 | H58: 0.008
C60: 계 | F60: =SUM(F39:F58) -> 0.093 | H60: =SUM(H39:H58) -> 0.087
B62: 점검장비 | C62: 점 검 사 항 | D62: 단위 | F62: 전기사업기사 | H62: 보통인부 | J62: 작업반장 | L62: 용접공 | N62: 도장공
B63: 3) 씨바스타워 (Seaberth Tower) | C63: 1. 등명기 점검 및 교정 | F63: 0.04 | H63: 0.025
C64: 2. 축전지 점검 및 교정 | F64: 0.03 | H64: 0.01
C65: 3. 충방전조절기 교정 | F65: 0.024 | H65: 0.018
C66: 4. 태양전지 교정 | F66: 0.02 | H66: 0.02
C67: 5. 씨바스타워 몸체 점검 | F67: 0.005 | H67: 0.03
C69: 계 | F69: =SUM(F63:F68) -> 0.119 | G69: =SUM(G63:G68) -> 0 | H69: =SUM(H63:H68) -> 0.103
B71: 점검장비 | C71: 점 검 사 항 | D71: 단위 | F71: 전기산업기사 | H71: 보통인부 | J71: 작업반장 | L71: 용접공 | N71: 도장공
B72: 4) 방파제등대 및 도류제등대 | C72: 1. 등대구조물
C73: 가. 부식부분에 대한 도장
C74: 나. 피뢰선 상태 점검 | F74: 0.03 | H74: 0.03
C75: 다. 구조물에 대한 점검 | H75: 0.025
C77: 2. 축전지 점검 | F77: 0.03 | H77: 0.01
C78: 3. 태양전지 점검 | F78: 0.02 | H78: 0.02
C79: 4. 충방전조절기 | F79: 0.024 | H79: 0.018
C80: 5. 등명기 점검 | F80: 0.04 | H80: 0.028
C81: 계 | F81: =SUM(F73:F80) -> 0.144 | G81: =SUM(G73:G80) -> 0 | H81: =SUM(H73:H80) -> 0.131
B83: 점검장비 | C83: 점 검 사 항 | D83: 단위 | F83: 전기산업기사 | H83: 보통인부 | J83: 작업반장 | L83: 용접공 | N83: 도장공
B84: 5) 방파제등대 및 도류제등대 | C84: 1. 등대구조물 | P84: 신규
C85: 가. 부식부분에 대한 도장
C86: 나. 피뢰선 상태 점검 | F86: 0.03 | H86: 0.03
C87: 다. 구조물에 대한 점검 | H87: 0.025
C89: 2. 축전지 점검 | F89: 0.03 | H89: 0.01
C90: 3. 태양전지 점검 | F90: 0.02 | H90: 0.02
C91: 4. 충방전조절기 | F91: 0.024 | H91: 0.018
C92: 5. 등명기 점검 | F92: 0.04 | H92: 0.028
C93: 6. 레이콘 점검(남방파제등대) | F93: =F89+F90+F91 -> 0.074
C94: 계 | F94: =SUM(F85:F93) -> 0.218 | G94: =SUM(G85:G92) -> 0 | H94: =SUM(H85:H93) -> 0.131
B95: ※레이콘 점검 등가계수 산정은 실제 점검사항에 해당하는 항목 합산하여 적용
B96: 점검장비 | C96: 점 검 사 항 | D96: 단위 | F96: 전기산업기사 | H96: 보통인부 | J96: 작업반장 | L96: 용접공 | N96: 도장공 | P96: 신규
B97: 6) 방파제 인식등 | C97: 1. 조사등 점검 및 교정 | D97: 개소당
C98: 가. 점등 상태 | E98: 0.005 | F98: 0.012 | G98: 0.008 | H98: 0.0064
C99: 나. SUN SWITCH 작동 상태 | E99: 0.01 | F99: 0.008 | G99: 0.012 | H99: 0.0096
C100: 다. 기타 기능 상태 | F100: 0.008 | G100: 0.01 | H100: 0.008
C101: 계 | F101: =SUM(F98:F100) -> 0.028 | H101: =SUM(H98:H100) -> 0.024
B102: ※방파제 인식등 점검 등가계수 산정은 실제 점검사항에 해당하는 항목 합산하여 적용
B103: 점검장비 | C103: 점 검 사 항 | D103: 단위 | F103: 전기산업기사 | H103: 보통인부 | J103: 작업반장 | L103: 용접공 | N103: 도장공
B104: 7) 조사등 | C104: 1. 조사등 점검 및 교정 | D104: 개소당
C105: 가. 점등 상태 | E105: 0.005 | F105: 0.012 | G105: 0.008 | H105: 0.0064
C106: 나. 섬광주기의 적정 여부 | E106: 0.005 | F106: 0.004 | G106: 0.005 | H106: 0.004
C107: 다. 램프드라이브 작동 상태 | E107: 0.01 | F107: 0 | G107: 0.012 | H107: 0
C108: 라. SUN SWITCH 작동 상태 | E108: 0.01 | F108: 0.008 | G108: 0.012 | H108: 0.0096
C109: 마. 제어 회로기판의 상태 | E109: 0.005 | F109: 0.004 | G109: 0.005 | H109: 0
C110: 바. 기타 기능 상태 | F110: 0.008 | G110: 0.01 | H110: 0.008
C111: 2. 축전지 점검 및 교정
C112: 가. 전압 상태 | E112: 0.01 | F112: 0.008 | G112: 0.008 | H112: 0.005
C113: 나. 비중 상태 | E113: 0.01 | F113: 0.004 | G113: 0.008 | H113: 0
...
