Workbook
Name 노임단가: '[1]점검별 노무비 산출내역'!$B$37:$F$42
Name 등부표인양: '참조1. 자재조서'!#REF!
Name 등부표인양: '참조2-4. 기계경비단가'!#REF!
Name 등부표인양: '[1]점검별 투입인원'!$A$46:$H$69
Name 등부표점검: '참조1. 자재조서'!$B$4:$K$22
Name 등부표점검: '참조2-4. 기계경비단가'!$B$4:$P$20
Name 등부표점검: '[1]점검별 투입인원'!$A$5:$H$35
Name 부표인양: '참조1. 자재조서'!#REF!
Name 부표인양: '참조2-4. 기계경비단가'!#REF!
Name 부표인양: '[1]점검별 투입인원'!$A$72:$H$92
Name 부표점검: '참조1. 자재조서'!#REF!
Name 부표점검: '참조2-4. 기계경비단가'!#REF!
Name 부표점검: '[1]점검별 투입인원'!$A$38:$H$43

Sheet 표지
B7: 공 내 역 서
B9: - 2025~2026년 인천해저배관 사설항로표지 위탁관리 용역 -
B16: 2025. 01.
B22: 인천지역본부
B23: 관로보전부

Sheet 총괄표
B2: 용 역 비, 공 사 비 총 괄 표
B4: 용 역 명 : 2025~2026년 인천해저배관 사설항로표지 위탁관리용역
B5: 비 목 | E5: 금 액 | F5: 비 고
B6: 용역 및 공사원가 | C6: 재료비
C7: 노무비 | D7: 직접노무비 | F7: 인양점검 특수경우 발생시 실적정산(참조 3)
D8: 간접노무비
D9: 소계
C10: 경비 | D10: 기계경비 | F10: 인양점검 특수경우 발생시 실적정산(참조 3)
D11: 전력비
D12: 보험료 | E12: =용역총괄내역서!M17+용역총괄내역서!M18+공사총괄내역서!M16+공사총괄내역서!M17 -> 0 | F12: 산재보험료,고용보험료
D13: 산업안전보건관리비 | E13: =공사총괄내역서!M18 -> 0 | F13: =공사총괄내역서!C18&" "&공사총괄내역서!E18*100&"%" -> (재료비+직접노무비)의 3.15%
D14: 환경보전비 | E14: =공사총괄내역서!M20 -> 0 | F14: =공사총괄내역서!C20&" "&공사총괄내역서!E20*100&"%" -> (직접공사비)의 0.8% | J14: =SUM(E14:E16) -> 0
D15: 퇴직공제부금비 | E15: =공사총괄내역서!M21 -> 0 | F15: =공사총괄내역서!C21&" "&공사총괄내역서!E21*100&"%" -> (직접노무비)의 2.3%
D16: 건설기계대여대금 지급보증액 | E16: =공사총괄내역서!M22 -> 0 | F16: =공사총괄내역서!C22&" "&공사총괄내역서!E22*100&"%" -> (직접공사비)의 0.51%
D17: 기타경비 (출장비 등) | F17: 용역 | G17: 기타사항 발생시 실적정산 (참조 4)
F18: 공사
D19: 소계
B20: 계
B21: 일반관리비
B22: 이 윤 | F22: 용역
F23: 공사
B24: 순설계금액
B25: 공급가액
B26: 부가가치세
B27: 용역비총계

Sheet 용역총괄내역서
B2: 월 간 점 검 용 역 총 괄 내 역 서
B3: =총괄표!B4:C4 -> 용 역 명 : 2025~2026년 인천해저배관 사설항로표지 위탁관리용역
B4: 구분 | C4: 규격 | D4: 단위 | E4: 수량 | F4: 재료비 | H4: 노무비 | J4: 경비 | L4: 합계 | N4: 비고
F5: 단가 | G5: 금액 | H5: 단가 | I5: 금액 | J5: 단가 | K5: 금액 | L5: 단가 | M5: 금액
B6: 1. 재 료 비
B7: 가. 직접재료비 | N7: <월간점검 재료비 반영>
B8: 나. 간접재료비 | N8: <간접재료비 산출내역>
B9: 재료비 합계
B11: 2. 노 무 비
B12: 가. 직접노무비 | N12: <직접노무비 산출내역>
B13: 노무비 합계
B15: 3. 경 비
B16: 가. 기계경비 | N16: <기계경비 산출내역>
B17: 나. 산재보험료 | C17: (노무비)의 | E17: 0.0356
B18: 다. 고용보험료 | C18: (노무비)의 | E18: 0.0101
B19: 라. 전력비 | N19: <전력비 산출내역>
B20: 마. 출장비 | C20: 월간점검일 24개월(1회/월) | D20: Day | E20: 24 | N20: <참조4 기타경비 산출>
B21: 경비 합계
B23: 4. 일반관리비
B25: 5. 이 윤
B27: 6. 단위절사
B29: 합 계
B30: ※ 월간점검 실 용역기간 1개월 미만으로 건강보험료, 연금보험료, 노인장기 요양보험료 제외 반영

Sheet 공사총괄내역서
B2: 인 양 점 검 공 사 총 괄 내 역 서
B3: =용역총괄내역서!B3 -> 용 역 명 : 2025~2026년 인천해저배관 사설항로표지 위탁관리용역
B4: 구분 | C4: 규격 | D4: 단위 | E4: 수량 | F4: 재료비 | H4: 노무비 | J4: 경비 | L4: 합계 | N4: 비고
F5: 단가 | G5: 금액 | H5: 단가 | I5: 금액 | J5: 단가 | K5: 금액 | L5: 단가 | M5: 금액
B6: 1. 재 료 비
B7: 가. 직접재료비 | N7: <인양점검 재료비 반영>
B8: 나. 간접재료비 | N8: <간접재료비 산출내역>
B9: 재료비 합계
B10: 2. 노 무 비
B11: 가. 직접노무비 | N11: <직접노무비 산출내역>
B12: 나. 간접노무비 | N12: <50억 미만 토목공사요율>
B13: 노무비 합계
B14: 3. 경 비
B15: 가. 기계경비 | N15: <기계경비 산출내역>
B16: 나. 산재보험료 | C16: (노무비)의 | E16: 0.0356
B17: 다. 고용보험료 | C17: (노무비)의 | E17: 0.0101
B18: 라. 산업안전보건관리비 | C18: (재료비+직접노무비)의 | E18: 0.0315 | N18: <도급자관급 없음>
B19: 마. 기타경비 | N19: <50억미만 토목공사 요율>
B20: 바. 환경보전비 | C20: (직접공사비)의 | E20: 0.008
B21: 사. 퇴직공제부금비 | C21: (직접노무비)의 | E21: 0.023
B22: 아. 건설기계대여대금 지급보증액 | C22: (직접공사비)의 | E22: 0.0051
B23: 경비 합계
B25: 4. 일반관리비
B27: 5. 이 윤
B29: 6. 단위절사
B31: 합 계
B32: ※ 인양점검공사 공사기간 1개월 미만으로 건강보험료, 연금보험료, 노인장기 요양보험료 제외 반영

Sheet 직접재료비 산출내역
B2: 직접재료비 산출내역
B3: =공사총괄내역서!B3 -> 용 역 명 : 2025~2026년 인천해저배관 사설항로표지 위탁관리용역
B4: 구분 | C4: 규격 | D4: 단위 | E4: 수량 | F4: 직접재료비 | H4: 노무비 | J4: 경비 | L4: 합계 | N4: 비고
F5: 단가 | G5: 금액 | H5: 단가 | I5: 금액 | J5: 단가 | K5: 금액 | L5: 단가 | M5: 금액
B6: 등명기(해상용) | C6: LED-200 | D6: ea | E6: 1 | N6: ="자재조서 - "&P6 -> #REF! | P6: =VLOOKUP($B6,'참조1. 자재조서'!C6:L23,16,) -> #REF!
B7: 섬광기 | C7: LED-200 | D7: ea | E7: 2 | N7: ="자재조서 - "&P7 -> #REF! | P7: =VLOOKUP($B7,'참조1. 자재조서'!C7:L24,16,) -> #REF!
B8: SUN 스위치 | C8: CDS | D8: ea | E8: 1 | N8: ="자재조서 - "&P8 -> #REF! | P8: =VLOOKUP($B8,'참조1. 자재조서'!C8:L25,16,) -> #REF!
B9: 태양전지 | C9: 80W | D9: ea | E9: 2 | N9: ="자재조서 - "&P9 -> #REF! | P9: =VLOOKUP($B9,'참조1. 자재조서'!C9:L26,16,) -> #REF!
B10: 태양전지 지지대 | C10: 80W용 | D10: ea | E10: 2 | N10: ="자재조서 - "&P10 -> #REF! | P10: =VLOOKUP($B10,'참조1. 자재조서'!C10:L27,16,) -> #REF!
B11: 축전지(무보수밀폐형) | C11: 12V-100A | D11: ea | E11: 60 | N11: ="자재조서 - "&P11 -> #REF! | P11: =VLOOKUP($B11,'참조1. 자재조서'!C11:L28,16,) -> #REF!
B12: 충방전 조절기 | C12: 12V-5A | D12: ea | E12: 4 | N12: ="자재조서 - "&P12 -> #REF! | P12: =VLOOKUP($B12,'참조1. 자재조서'!C12:L28,16,) -> #REF!
B13: 두표 | C13: 원통형 | D13: ea | E13: 1 | N13: ="자재조서 - "&P13 -> #REF! | P13: =VLOOKUP($B13,'참조1. 자재조서'!C13:L29,16,) -> #REF!
B14: 레이다반사기 | C14: 10방향 코너 크러스터 | D14: ea | E14: 1 | N14: ="자재조서 - "&P14 -> #REF! | P14: =VLOOKUP($B14,'참조1. 자재조서'!C14:L29,16,) -> #REF!
B15: 등부표 | C15: LL-2400 | D15: ea | E15: 2 | N15: ="자재조서 - "&P15 -> #REF! | P15: =VLOOKUP($B15,'참조1. 자재조서'!C15:L37,16,) -> #REF!
B16: 등부표 상부철탑 (제작,도장 및 교체설치 포함) | C16: LL-2400 | D16: ea | E16: 4 | N16: ="자재조서 - "&P16 -> #REF! | P16: =VLOOKUP($B16,'참조1. 자재조서'!C16:L38,16,) -> #REF!
B17: 부표 | C17: US-1700 | D17: ea | E17: 1 | N17: ="자재조서 - "&P17 -> #REF! | P17: =VLOOKUP($B17,'참조1. 자재조서'!C17:L39,16,) -> #REF!
B18: 전선(Wire) | C18: V.C.T 6㎟ s.q 2C | D18: m | E18: 60 | N18: ="자재조서 - "&P18 -> #REF! | P18: =VLOOKUP($B18,'참조1. 자재조서'!C15:L34,16,) -> #REF!
B19: 사슬 | C19: Φ38 X 30M | D19: 연 | E19: 7 | N19: ="자재조서 - "&P19 -> #REF! | P19: =VLOOKUP($B19,'참조1. 자재조서'!C16:L35,16,) -> #REF!
B20: 접환(SHACKLE) | C20: Φ38용 | D20: ea | E20: 40 | N20: ="자재조서 - "&P20 -> #REF! | P20: =VLOOKUP($B20,'참조1. 자재조서'!C17:L36,16,) -> #REF!
B21: 전환(SWIVEL) | C21: Φ38용 | D21: ea | E21: 7 | N21: ="자재조서 - "&P21 -> #REF! | P21: =VLOOKUP($B21,'참조1. 자재조서'!C17:L37,16,) -> #REF!
B22: 환링(Ring) | C22: Φ38용 | D22: ea | E22: 4 | N22: ="자재조서 - "&P22 -> #REF! | P22: =VLOOKUP($B22,'참조1. 자재조서'!C18:L38,16,) -> #REF!
B23: 침추 | C23: 4ton | D23: ea | E23: 9 | N23: ="자재조서 - "&P23 -> #REF! | P23: =VLOOKUP($B23,'참조1. 자재조서'!C23:L45,16,) -> #REF!
B24: 합 계

Sheet 직접노무비 산출내역
B2: 직접노무비 산출내역
B3: 용 역 명 : 2025~2026년 인천해저배관 사설항로표지 위탁관리용역
B4: 구분 | C4: 규격 | D4: 단위 | E4: 수량 | F4: 재료비 | H4: 노무비 | J4: 경비 | L4: 합계 | N4: 비고
F5: 단가 | G5: 금액 | H5: 단가 | I5: 금액 | J5: 단가 | K5: 금액 | L5: 단가 | M5: 금액
B6: [직접노무비]
B7: 1. 월간점검 | C7: 1회/월 | D7: 회 | E7: 24 | G7: =$E7*$F7 -> 0 | N7: ※ 월간점검 용역 | R7: =L7+'기계경비 산출내역'!L7 -> 0
R8: =L8+'기계경비 산출내역'!L8 -> 0
B9: 2. 인양점검 | C9: 1회/2년 | D9: 회 | E9: 1 | G9: =$E9*$F9 -> 0 | N9: 참조3 기타사항시 실적정산 ※ 인양점검 공사 | R9: =L9+'기계경비 산출내역'!L9 -> 0
R10: =L10+'기계경비 산출내역'!L10 -> 0
B11: 3. 등부표 이동설치(좌표이탈) | C11: 필요시 | D11: 회 | E11: 1 | G11: =$E11*$F11 -> 0 | N11: 참조3 기타사항시 실적정산 ※ 인양점검 공사 | R11: =L11+'기계경비 산출내역'!L11 -> 0
R12: =L12+'기계경비 산출내역'!L12 -> 0
B13: 4. 부표 이동설치(좌표이탈) | C13: 필요시 | D13: 회 | E13: 1 | G13: =$E13*$F13 -> 0 | R13: =L13+'기계경비 산출내역'!L13 -> 0
R14: =L14+'기계경비 산출내역'!L14 -> 0
B15: 5. 관할청 지도점검 | C15: 2회/년 | D15: 회 | E15: 4 | G15: =$E15*$F15 -> 0 | N15: ※ 월간점검 용역 | R15: =L15+'기계경비 산출내역'!L15 -> 0
R16: =L16+'기계경비 산출내역'!L16 -> 0
B17: 6. 감독원 긴급점검 | C17: 필요시 | D17: 회 | E17: 4 | G17: =$E17*$F17 -> 0 | N17: ※ 월간점검 용역 | R17: =L17+'기계경비 산출내역'!L17 -> 0
R18: =L18+'기계경비 산출내역'!L18 -> 0
B19: 7. 등명기 소등신고/복구 | C19: 유/무선 신고접수 시 | D19: 회 | E19: 10 | G19: =$E19*$F19 -> 0 | N19: ※ 월간점검 용역 | R19: =L19+'기계경비 산출내역'!L19 -> 0
B21: 합 계 | G21: =SUM(G6:G20) -> 0

Sheet 간접재료비 산출내역
B2: 간접재료비 산출내역
B3: ='직접재료비 산출내역'!B3 -> 용 역 명 : 2025~2026년 인천해저배관 사설항로표지 위탁관리용역
B4: 구분 | C4: 규격 | D4: 단위 | E4: 수량 | F4: 재료비 | H4: 노무비 | J4: 간접재료비 | L4: 합계 | N4: 비고
F5: 단가 | G5: 금액 | H5: 단가 | I5: 금액 | J5: 단가 | K5: 금액 | L5: 단가 | M5: 금액
B6: [간접재료비]
B7: 1. 월간점검 | C7: 1회/월 | D7: 회 | E7: ='직접노무비 산출내역'!$E7 -> 24 | G7: =$E7*$F7 -> 0 | I7: =$E7*$H7 -> 0 | N7: ※ 월간점검 용역
B9: 2. 인양점검 | C9: 1회/2년 | D9: 회 | E9: ='직접노무비 산출내역'!$E9 -> 1 | G9: =$E9*$F9 -> 0 | I9: =$E9*$H9 -> 0 | N9: 참조3 기타사항시 실적정산 ※ 인양점검 공사
B11: 3. 등부표 이동설치(좌표이탈) | C11: 필요시 | D11: 회 | E11: 1 | G11: =$E11*$F11 -> 0 | I11: =$E11*$H11 -> 0 | N11: 참조3 기타사항시 실적정산 ※ 인양점검 공사
B13: 4. 부표 이동설치(좌표이탈) | C13: 필요시 | D13: 회 | E13: 1 | G13: =$E13*$F13 -> 0 | I13: =$E13*$H13 -> 0
B15: 5. 관할청 지도점검 | C15: 2회/년 | D15: 회 | E15: ='직접노무비 산출내역'!$E15 -> 4 | G15: =$E15*$F15 -> 0 | I15: =$E15*$H15 -> 0 | N15: ※ 월간점검 용역
B17: 6. 감독원 긴급점검 | C17: 필요시 | D17: 회 | E17: ='직접노무비 산출내역'!$E17 -> 4 | G17: =$E17*$F17 -> 0 | I17: =$E17*$H17 -> 0 | N17: ※ 월간점검 용역
B19: 7. 등명기 소등신고/복구 | C19: 유/무선 신고접수 시 | D19: 회 | E19: ='직접노무비 산출내역'!$E19 -> 10 | G19: =$E19*$F19 -> 0 | I19: =$E19*$H19 -> 0 | N19: ※ 월간점검 용역
B21: 합 계 | G21: =SUM(G6:G20) -> 0 | I21: =SUM(I6:I20) -> 0

Sheet 기계경비 산출내역
B2: 기계경비 산출내역
B3: 용 역 명 : 2025~2026년 인천해저배관 사설항로표지 위탁관리용역
B4: 구분 | C4: 규격 | D4: 단위 | E4: 수량 | F4: 재료비 | H4: 노무비 | J4: 경비 | L4: 합계 | N4: 비고
F5: 단가 | G5: 금액 | H5: 단가 | I5: 금액 | J5: 단가 | K5: 금액 | L5: 단가 | M5: 금액
B6: [기계경비]
B7: 1. 월간점검 | C7: 1회/월 | D7: 회 | E7: ='직접노무비 산출내역'!$E7 -> 24 | G7: =$E7*$F7 -> 0 | I7: =$E7*$H7 -> 0 | N7: ※ 월간점검 용역
B9: 2. 인양점검 | C9: 1회/2년 | D9: 회 | E9: ='직접노무비 산출내역'!$E9 -> 1 | G9: =$E9*$F9 -> 0 | I9: =$E9*$H9 -> 0 | N9: 참조3 기타사항시 실적정산 ※ 인양점검 공사
B11: 3. 등부표 이동설치(좌표이탈) | C11: 필요시 | D11: 회 | E11: ='직접노무비 산출내역'!$E11 -> 1 | G11: =$E11*$F11 -> 0 | I11: =$E11*$H11 -> 0 | N11: 참조3 기타사항시 실적정산 ※ 인양점검 공사
B13: 4. 부표 이동설치(좌표이탈) | C13: 필요시 | D13: 회 | E13: ='직접노무비 산출내역'!$E13 -> 1 | G13: =$E13*$F13 -> 0 | I13: =$E13*$H13 -> 0
B15: 5. 관할청 지도점검 | C15: 2회/년 | D15: 회 | E15: ='직접노무비 산출내역'!$E15 -> 4 | G15: =$E15*$F15 -> 0 | I15: =$E15*$H15 -> 0 | N15: ※ 월간점검 용역
B17: 6. 감독원 긴급점검 | C17: 필요시 | D17: 회 | E17: ='간접재료비 산출내역'!E17 -> 4 | G17: =$E17*$F17 -> 0 | I17: =$E17*$H17 -> 0 | N17: ※ 월간점검 용역
B19: 7. 등명기 소등신고/복구 | C19: 유/무선 신고접수 시 | D19: 회 | E19: ='직접노무비 산출내역'!$E19 -> 10 | G19: =$E19*$F19 -> 0 | I19: =$E19*$H19 -> 0 | N19: ※ 월간점검 용역
B21: 합 계 | G21: =SUM(G6:G20) -> 0 | I21: =SUM(I6:I20) -> 0

Sheet 전력비 산출내역
B2: 전력비 (충전실 운영)
B3: 용 역 명 : 2025~2026년 인천해저배관 사설항로표지 위탁관리용역 | J3: (단위 : 원/㎡)
B4: 등부표당 Cell사용수 ① | C4: 등부표수 ② | D4: 총충전Cell수 ③=①*② | E4: Cell당 충전전력소비량 ④ | F4: 연간 전력소비량 ⑤=③*④ | G4: kWh당 전력비 ⑥ | H4: 사용년수 ⑦ | I4: 총 전력비 ⑧=⑤*⑥*⑦ | J4: 비 고
B5: 4 | C5: 18 | D5: =B5*C5 -> 72 | H5: 2 | I5: =ROUNDDOWN(F5*G5*H5,-2) -> 0

Sheet 참조1. 자재조서
B1: <참조 1>
B2: 자재조서
B3: 2025~2026년 인천해저배관 사설항로표지 위탁관리용역
B4: 번호 | C4: 구 분 | D4: 규 격 | E4: 단 위 | F4: 수 량 | G4: 물가지 단가 | H4: 견적4 (D업체) | J4: 적용단가 (품목별 최저 단가) | K4: 비 고
H5: 단가 | I5: 계
B6: 1 | C6: 등명기(해상용) | D6: LED-200 | E6: ea | F6: 1 | H6: 5000000 | I6: =H6*F6 -> 5000000 | L6: =$B6 -> 1
B7: 2 | C7: 섬광기 | D7: GPS동기점멸시스템용 (LED-200) | E7: ea | F7: 2 | H7: 1500000 | I7: =H7*F7 -> 3000000 | L7: =$B7 -> 2
B8: 3 | C8: SUN 스위치 | D8: CDS | E8: ea | F8: 1 | H8: 50000 | I8: =H8*F8 -> 50000 | L8: =$B8 -> 3
B9: 4 | C9: 태양전지 | D9: 80W | E9: ea | F9: 2 | H9: 700000 | I9: =H9*F9 -> 1400000 | L9: =$B9 -> 4
B10: 5 | C10: 태양전지 지지대 | D10: 80W용 | E10: ea | F10: 2 | H10: 600000 | I10: =H10*F10 -> 1200000 | L10: =$B10 -> 5
B11: 6 | C11: 축전지(무보수밀폐형) | D11: 12V-100A | E11: ea | F11: 60 | H11: 200000 | I11: =H11*F11 -> 12000000 | L11: =$B11 -> 6
B12: 7 | C12: 충방전 조절기 | D12: 12V-5A | E12: ea | F12: 4 | H12: 1500000 | I12: =H12*F12 -> 6000000 | L12: =$B12 -> 7
B13: 8 | C13: 두표 | D13: 원통형 | E13: ea | F13: 1 | H13: 900000 | I13: =H13*F13 -> 900000 | L13: =$B13 -> 8
B14: 9 | C14: 레이다반사기 | D14: 10방향 코너 크러스터 | E14: ea | F14: 1 | H14: 800000 | I14: =H14*F14 -> 800000 | L14: =$B14 -> 9
B15: 10 | C15: 등부표 | D15: LL-2400 | E15: 기 | F15: 2 | H15: 51000000 | I15: =H15*F15 -> 102000000 | L15: =$B15 -> 10
B16: 11 | C16: 등부표 상부철탑 (제작,도장 및 교체설치 포함) | D16: LL-2400 | E16: ea | F16: 4 | H16: 15000000 | I16: =H16*F16 -> 60000000 | L16: =$B16 -> 11
B17: 12 | C17: 부표 | D17: US-1700 | E17: 기 | F17: 1 | H17: 25000000 | I17: =H17*F17 -> 25000000 | L17: =$B17 -> 12
... B20: 15 | C20: 부표 표체 샌드(쇼트)블라스트 | D20: US-1700 | E20: 기 | F20: 2 | H20: 3500000 | I20: =H20*F20 -> 7000000 | L20: =$B20 -> 15
B21: 16 | C21: 등부표 도색(녹막이 1회, 에폭시2회) | D21: LL-2400 | E21: 기 | F21: 18 | I21: =H21*F21 -> 0 | L21: =$B21 -> 16
B22: 17 | C22: 부표 도색(녹막이 1회, 에폭시2회) | D22: US-1700 | E22: 기 | F22: 2 | I22: =H22*F22 -> 0 | L22: =$B22 -> 17
B23: 18 | C23: 사슬 | D23: Φ38 X 30M | E23: 연 | F23: 7 | H23: 4200000 | I23: =H23*F23 -> 29400000 | L23: =$B23 -> 18
B24: 19 | C24: 접환(SHACKLE) | D24: Φ38용 | E24: ea | F24: 40 | H24: 150000 | I24: =H24*F24 -> 6000000 | L24: =$B24 -> 19
B25: 20 | C25: 전환(SWIVEL) | D25: Φ38용 | E25: ea | F25: 7 | H25: 400000 | I25: =H25*F25 -> 2800000 | L25: =$B25 -> 20
B26: 21 | C26: 환링(Ring) | D26: Φ38용 | E26: ea | F26: 4 | H26: 250000 | I26: =H26*F26 -> 1000000 | L26: =$B26 -> 21
B27: 22 | C27: 침추 | D27: 4ton | E27: ea | F27: 9 | H27: 1000000 | I27: =H27*F27 -> 9000000 | L27: =$B27 -> 22
B28: 23 | C28: 등부표 운반(인천항↔공장, 왕복) | D28: 1기 운반(인천지역내) | E28: 기 | F28: 20 | H28: 1200000 | I28: =H28*F28 -> 24000000 | L28: =$B28 -> 23
B29: 합 계 | I29: =SUM(I6:I28) -> 386670000

Sheet 참조1-1. 도장면적 산출
B1: <참조 1-1>
B2: 도장면적 산출표
B3: 2025~2026년 인천해저배관 사설항로표지 위탁관리용역
B4: ■ 등부표(LL-24) | G4: (단위 : ㎡)
B5: 명칭 | C5: 구분 | D5: 규 격 | E5: 단위 | F5: 도장면적 산출식 | G5: 도장면적
B6: 등명기/리플렉터설치대 | C6: 수선상부 | E6: ㎡ | F6: (0.63 x 0.63 x 4) + (0.4 x 0.4 x 2) + (0.08 x 0.08 x 3.14 x 0.56) | G6: =(0.63*0.63*4)+(0.4*0.4*2)+(0.08*0.08*3.14*0.56) -> 1.9188538
B7: 번호판 | C7: 수선상부 | E7: ㎡ | F7: (0.822 + 1.086) x 0.825/2 x 2면 x 4개 | G7: =(0.822+1.086)*0.825/2*2*4 -> 6.2964
B8: 철탑 수평 보강재 | C8: 수선상부 | E8: ㎡ | F8: [0.05 x (2.228 + 3.008 + 4.344 + 5.452)] x 4 | G8: =(0.05*(2.228+3.008+4.344+5.452))*4 -> 3.0064
B9: 철탑수직보강재 | C9: 수선상부 | E9: ㎡ | F9: 0.065 x 3.15 x 4 x 4 | G9: =0.065*3.15*4*4 -> 3.276
B10: 철탑크로스보강재 | C10: 수선상부 | E10: ㎡ | F10: 0.05 x 1.49 x 6 x 4 | G10: =0.05*1.49*6*4 -> 1.788
B11: 등명기용수직보강재 | C11: 수선상부 | E11: ㎡ | F11: 0.065 x 0.375 x 4 x 4 | G11: =0.065*0.375*4*4 -> 0.39
B12: 논슬립바 | C12: 수선상부 | E12: ㎡ | F12: 0.01 x 0.6 x 16 | G12: =0.01*0.6*16 -> 0.096
B13: 리플렉터중앙관 | C13: 수선상부 | E13: ㎡ | F13: 2 x 3.14 x 0.075 x 0.546 | G13: =2*3.14*0.075*0.546 -> 0.257166
B14: 핸드레일 | C14: 수선상부 | E14: ㎡ | F14: 2 x 3.14 x 0.021 x 5.024 | G14: =2*3.14*0.021*5.024 -> 0.66256512
B15: 레일경사보강재 | C15: 수선상부 | E15: ㎡ | F15: 2 x 3.14 x 0.021 x 0.566 | G15: =2*3.14*0.021*0.566 -> 0.07464408
B16: 공기순환관 | C16: 수선상부 | E16: ㎡ | F16: 2 x 3.14 x 0.021 x (3.759 + 4.252) | G16: =2*3.14*0.021*(3.759+4.252) -> 1.0564907
B17: 해치볼트걸이 | C17: 수선상부 | E17: ㎡ | F17: {(0.135 x 0.06) - (0.046 x 0.022)} x 4 | G17: =((0.135*0.06)-(0.046*0.022))*4 -> 0.028352
B18: 맨홀볼트접합판 | C18: 수선상부 | E18: ㎡ | F18: {[(3.14 x 0.6 x 0.51) - (3.14 x 0.47 x 0.373)] / 4 - (0.1 x 0.1 x 3.14 x 0.18)} | G18: =(((3.14*0.6*0.51)-(3.14*0.47*0.373))/4)-(0.1*0.1*3.14*0.18) -> 0.09693965
B19: 인양고리 | C19: 수선상부 | E19: ㎡ | F19: (0.28 x 0.18 - 0.02 x 0.02 x 2 - 0.025 x 0.025 x 3.14 x 2) x 4 | G19: =(0.28*0.18-0.02*0.02*2-0.025*0.025*3.14*2)*4 -> 0.1827
B20: 중간바닥판 | C20: 수선상부 | E20: ㎡ | F20: 0.718 x 0.718 | G20: =0.718*0.718 -> 0.515524
B21: 리플렉터취부판 | C21: 수선상부 | E21: ㎡ | F21: [(0.55 x 0.55) - (0.08 x 0.08 x 3.14)] | G21: =((0.55*0.55)-(0.08*0.08*3.14)) -> 0.282404
B22: 등명기취부판 | C22: 수선상부 | E22: ㎡ | F22: {0.4 x 0.4 - (0.05 x 0.05 x 2 + 0.05 x 0.05 x 3.14)} | G22: =(0.4*0.4-(0.05*0.05*2+0.05*0.05*3.14)) -> 0.14715
B23: 리플렉터결합판 | C23: 수선상부 | E23: ㎡ | F23: (0.4 x 0.4 x 3.14 - 0.08 x 0.08 x 3.14) x 2 | G23: =(0.4*0.4*3.14-0.08*0.08*3.14)*2 -> 0.964608
B24: 철탑연결용더블링판 | C24: 수선상부 | E24: ㎡ | F24: 0.1 x 0.1 x 3.14 x 4 | G24: =0.1*0.1*3.14*4 -> 0.1256
B25: 철탑고정재 | C25: 수선상부 | E25: ㎡ | F25: 0.166 x 0.25 x 4 | G25: =0.166*0.25*4 -> 0.166
B26: 축전지함코밍 | C26: 수선상부 | E26: ㎡ | F26: 2 x 3.14 x 0.35 x 0.224 | G26: =2*3.14*0.35*0.224 -> 0.492352
B27: 표체상판 | C27: 수선상부 | E27: ㎡ | F27: {[3.14 x (1.13 x 1.13 - 0.399 x 0.399)] + [2 x 3.14 x 1.2 x 0.175] - [(0.373 x 0.470 x 3.14) / 4] | G27: =((3.14*(1.13*1.13-0.399*0.399))+(2*3.14*1.2*0.175)-((0.373*0.47*3.14)/4)) -> 4.6907565
B28: 맨홀커버 | C28: 수선상부 | E28: ㎡ | F28: [(3.14 x 0.51 x 0.61) / 4] | G28: =((3.14*0.51*0.61)/4) -> 0.2442135
B29: 표체측판 | C29: 수선상부 | E29: ㎡ | F29: 2 x 3.14 x 1.2 x 0.76 | G29: =2*3.14*1.2*0.76 -> 5.72736
B30: 가이드발판 | C30: 수선상부 | E30: ㎡ | F30: 0.05 x 3.495 x 1 x 4 | G30: =0.05*3.495*1*4 -> 0.699
B31: 해치강판 | C31: 수선상부 | E31: ㎡ | F31: (0.75 x 0.75 - 0.0059 x 4) | G31: =(0.75*0.75-0.0059*4) -> 0.5389
B32: 해양전지판지지대 | C32: 수선상부 | E32: ㎡ | F32: [(0.05 x 0.233) + (0.05 x 0.147 x 8)] x 4 | G32: =((0.05*0.233)+(0.05*0.147*8))*4 -> 0.2818
B33: 해치보강재 | C33: 수선상부 | E33: ㎡ | F33: 0.05 x 0.953 x 2 x 4 | G33: =0.05*0.953*2*4 -> 0.3812
B34: 사다리측판 | C34: 수선상부 | E34: ㎡ | F34: 0.05 x 2.63 x 2 | G34: =0.05*2.63*2 -> 0.263
B35: 사다리지지대 | C35: 수선상부 | E35: ㎡ | F35: 0.05 x 2.63 x 2 | G35: =0.05*2.63*2 -> 0.263
B36: 사다리발판 | C36: 수선상부 | E36: ㎡ | F36: 2 x 3.14 x 0.0095 x 0.3 x 9 | G36: =2*3.14*0.0095*0.3*9 -> 0.161082
B37: 스탭 | C37: 수선상부 | E37: ㎡ | F37: 2 x 3.14 x 0.0095 x 0.5 x 4 | G37: =2*3.14*0.0095*0.5*4 -> 0.11932
B38: 해치손잡이 | C38: 수선상부 | E38: ㎡ | F38: 2 x 3.14 x 0.0090 x 0.4 | G38: =2*3.14*0.009*0.4 -> 0.022608
B39: 수선상부 면적 | E39: ㎡ | G39: =SUM(G6:G38) -> 35.216389
B40: 계류고리 | C40: 수선하부 | E40: ㎡ | F40: (0.37 x 0.18 - 0.02 x 0.02 x 2) x 2 | G40: =(0.37*0.18-0.02*0.02*2)*2 -> 0.1316
...

Sheet 참조1-2. 도장단가 산출
B1: <참조 1-2>
B2: 도장단가 산출표
B3: 2025~2026년 인천해저배관 사설항로표지 위탁관리용역
B4: ■ 등부표(LL-24) 도장단가 | K4: (단위 : 원/㎡)
B5: 구 분 | C5: 명칭 | D5: 도장횟수 | E5: 규 격 | F5: 제품명 | G5: 단위 | H5: 수량 | I5: 단가 | J5: 금액 | K5: 비 고
B6: 표체전체 | C6: 하도 | D6: 1 | E6: 무기질 ZINC도료(녹막이 방지용) | F6: KCI ZINC 1000(H) | G6: L | H6: 0.081
B7: 표체전체 | C7: 중도 | D7: 1 | E7: 에폭시계 도료(방청 A/C용) | F7: KCI Edmarine ECO(H) | G7: L | H7: 0.081
B8: 수선하부 | C8: 상도 | D8: 1 | E8: 염화고무계 도료(접착제 상부용) | F8: 코라멜에나멜RT546 | G8: L | H8: =ROUNDDOWN(0.081*'참조1-1. 도장면적 산출'!G60/'참조1-1. 도장면적 산출'!G61,4) -> 0.0524
B9: 수선하부 | C9: 상도 | D9: 1 | E9: 선저방오도료(방오 A/F) | F9: 코마린 A/F 744 | G9: L | H9: =ROUNDDOWN(0.081*'참조1-1. 도장면적 산출'!G60/'참조1-1. 도장면적 산출'!G61,4) -> 0.0524
B10: 수선상부 | C10: 상도 | D10: 2 | E10: 폴리우레탄계 도료 | F10: 아크릴우레탄HB | G10: L | H10: =ROUND(0.081-H9,4) -> 0.0286
C11: 신너 | E11: 에폭시계 | F11: NO.024 | G11: L | H11: 0.012
C12: 퍼티 | E12: 에폭시(철재면용) | F12: 노루씰 #6000 PUTTY | G12: L | H12: 0.08
C13: 연마지 | E13: 샌딩디스크용 | F13: 100AA | G13: 매 | H13: 0.15
B14: 계 | J14: =SUM(J6:J13) -> 0
B16: ■ 부표(US-1700) 도장단가 | K16: (단위 : 원/㎡)
B17: 구 분 | C17: 명칭 | D17: 도장횟수 | E17: 규 격 | F17: 제품명 | G17: 단위 | H17: 수량 | I17: 단가 | J17: 금액 | K17: 비 고
B18: 표체전체 | C18: 하도 | D18: 1 | E18: 무기질 ZINC도료(녹막이 방지용) | F18: KCI ZINC 1000(H) | G18: L
B19: 표체전체 | C19: 중도 | D19: 1 | E19: 에폭시계 도료(방청 A/C용) | F19: KCI Edmarine ECO(H) | G19: L
B20: 수선하부 | C20: 상도 | D20: 1 | E20: 염화고무계 도료(접착제 상부용) | F20: 코라멜에나멜RT546 | G20: L
B21: 수선하부 | C21: 상도 | D21: 1 | E21: 선저방오도료(방오 A/F) | F21: 코마린 A/F 744 | G21: L
B22: 수선상부 | C22: 상도 | D22: 2 | E22: 폴리우레탄계 도료 | F22: 아크릴우레탄HB | G22: L
C23: 신너 | E23: 에폭시계 | F23: NO.024 | G23: L
C24: 퍼티 | E24: 에폭시(철재면용) | F24: =F12 -> 노루씰 #6000 PUTTY | G24: L
C25: 연마지 | E25: 샌딩디스크용 | F25: #120 | G25: 매
B26: 계 | J26: =SUM(J18:J25) -> 0
B27: 주1)산출근거 : 『표준형부표 제작 및 품질관리에 관한 기준』 [별표1] 표준부표(강재) 제작 (기본)시방서 제 13조 "마"항
B28: 주2)설계수량 : 2000년도 정부표준품셈(2000년 감우회 설계용역)에 의거 작성.
B29: - 상도 설계수량은 (등)부표의 수선하부 및 수선상부 비율에 맞춰 나눔
B30: 주3)시공 페인트는 에폭시 또는 우레탄 계열을 적용하고, 페인트 제조자의 시공방법을 준수한다.
B31: 주4)도장횟수는 하도 1회, 중도 1회, 상도 2회를 기준으로 하며 시공전에 협의한다.
B32: 주5)『항로표지 기능 및 규격에 관한 기준』의 표준색체 기준을 따라야 함.

Sheet 참조2. 작업단가
B1: <참조 2>
B2: 작업단가
B3: 용 역 명 : 2025~2026년 인천해저배관 사설항로표지 위탁관리용역
B4: 구분 | C4: 규격 | D4: 단위 | E4: 수량 | F4: 재료비 | H4: 노무비 | J4: 경비 | L4: 합계 | N4: 비고
F5: 단가 | G5: 금액 | H5: 단가 | I5: 금액 | J5: 단가 | K5: 금액 | L5: 단가 | M5: 금액
B6: 1. 월간점검
B7: 등부표 점검 | C7: 개소당 | D7: 기 | E7: 18 | N7: <참조 2-1>
B8: 부표 점검 | C8: 개소당 | D8: 기 | E8: 2 | N8: <참조 2-1>
B9: 점검 예선 | C9: 50ton | D9: Hr | E9: ='참조3. 별표'!$E$6 -> 7.14 | N9: <참조 2-4>
B10: 소계
B12: 2. 인양점검
B13: 등부표 인양 | C13: 개소당 | D13: 기 | E13: 18 | N13: <참조 2-1>
B14: 부표 인양 | C14: 개소당 | D14: 기 | E14: 2 | N14: <참조 2-1>
B15: 샌드(쇼트)블라스트 | C15: 등부표(LS-24) | D15: 회 | E15: 18 | N15: 자재조서 - 14
B16: 샌드(쇼트)블라스트 | C16: 부표(US-1700) | D16: 회 | E16: 2 | N16: 자재조서 - 15
B17: 등부표 도색 | C17: 개소당 | D17: 회 | E17: 18 | N17: 자재조서 - 16
B18: 부표 도색 | C18: 개소당 | D18: 회 | E18: 2 | N18: 자재조서 - 17
B19: 표체운반(인천항⇔공장) | C19: 개소당 | D19: 기 | E19: 20 | N19: 자재조서 - 23
B20: 예인선 | C20: 90 ton | D20: Hr | E20: ='참조3. 별표'!$D$20*8 -> 40 | N20: <참조 2-4>
B21: 대선 | C21: 1500 ton | D21: Hr | E21: =$E$20 -> 40 | N21: <참조 2-4>
B22: 크레인 | C22: 50 ton | D22: Hr | E22: =$E$21 -> 40 | N22: <참조 2-4>
B23: 발전기 | C23: 50 kW | D23: Hr | E23: =$E$22 -> 40 | N23: <참조 2-4>
B24: 용접기 | C24: 300 AMP | D24: Hr | E24: =$E$23 -> 40 | N24: <참조 2-4>
B25: 기중기선 | C25: 15 ton | D25: Hr | E25: =$E$24 -> 40 | N25: <참조 2-4>
B26: 소계
B28: 3. 등부표 이동설치(좌표이탈)
B29: 등부표 인양 | C29: 개소당 | D29: 기 | E29: 1 | N29: <참조 2-1>
B30: 예인선 | C30: 90 ton | D30: Hr | E30: ='참조3. 별표'!$J$29 -> 4 | N30: <참조 2-4>
B31: 대선 | C31: 1500 ton | D31: Hr | E31: =$E$30 -> 4 | N31: <참조 2-4>
B32: 크레인 | C32: 50 ton | D32: Hr | E32: =$E$31 -> 4 | N32: <참조 2-4>
B33: 발전기 | C33: 50 kW | D33: Hr | E33: =$E$32 -> 4 | N33: <참조 2-4>
B34: 용접기 | C34: 300 AMP | D34: Hr | E34: =$E$33 -> 4 | N34: <참조 2-4>
B35: 기중기선 | C35: 15 ton | D35: Hr | E35: =$E$34 -> 4 | N35: <참조 2-4>
B36: 소계
B38: 4. 부표 이동설치(좌표이탈)
B39: 부표 인양 | C39: 개소당 | D39: 기 | E39: 1 | N39: <참조 2-1>
B40: 예인선 | C40: 90 ton | D40: Hr | E40: ='참조3. 별표'!$J$29 -> 4 | N40: <참조 2-4>
B41: 대선 | C41: 1500 ton | D41: Hr | E41: =$E$30 -> 4 | N41: <참조 2-4>
B42: 크레인 | C42: 50 ton | D42: Hr | E42: =$E$31 -> 4 | N42: <참조 2-4>
B43: 발전기 | C43: 50 kW | D43: Hr | E43: =$E$32 -> 4 | N43: <참조 2-4>
...

Sheet 참조2-1. 작업별 노무단가
B1: <참조 2-1>
B2: 작업별 노무단가
B3: 용 역 명 : 2025~2026년 인천해저배관 사설항로표지 위탁관리용역
B4: 구분 | C4: 규격 | D4: 단위 | E4: 수량 | F4: 재료비 | H4: 노무비 | J4: 경비 | L4: 합계 | N4: 비고
F5: 단가 | G5: 금액 | H5: 단가 | I5: 금액 | J5: 단가 | K5: 금액 | L5: 단가 | M5: 금액
B6: 1. 등부표 점검 | C6: 개소당 | D6: 기
B7: 전기공사 산업기사 | C7: 1일 8시간 기준 | D7: M/D
B8: 통신관련 산업기사 | C8: 1일 8시간 기준 | D8: M/D
B9: 작업반장 | C9: 1일 8시간 기준 | D9: M/D
B10: 보통인부 | C10: 1일 8시간 기준 | D10: M/D
B11: 용접공 | C11: 1일 8시간 기준 | D11: M/D
B12: 도장공 | C12: 1일 8시간 기준 | D12: M/D
B13: 소 계
B15: 2. 부표점검 | C15: 개소당 | D15: 기
B16: 전기공사 산업기사 | C16: 1일 8시간 기준 | D16: M/D
B17: 통신관련 산업기사 | C17: 1일 8시간 기준 | D17: M/D
B18: 작업반장 | C18: 1일 8시간 기준 | D18: M/D
B19: 보통인부 | C19: 1일 8시간 기준 | D19: M/D
B20: 용접공 | C20: 1일 8시간 기준 | D20: M/D
B21: 도장공 | C21: 1일 8시간 기준 | D21: M/D
B22: 소 계
B24: 3. 등부표 인양 | C24: 개소당 | D24: 기
B25: 전기공사 산업기사 | C25: 1일 8시간 기준 | D25: M/D
B26: 통신관련 산업기사 | C26: 1일 8시간 기준 | D26: M/D
B27: 작업반장 | C27: 1일 8시간 기준 | D27: M/D
B28: 보통인부 | C28: 1일 8시간 기준 | D28: M/D
B29: 용접공 | C29: 1일 8시간 기준 | D29: M/D
B30: 도장공 | C30: 1일 8시간 기준 | D30: M/D
B31: 소 계
B33: 4. 부표 인양 | C33: 개소당 | D33: 기
B34: 전기공사 산업기사 | C34: 1일 8시간 기준 | D34: M/D
B35: 통신관련 산업기사 | C35: 1일 8시간 기준 | D35: M/D
B36: 작업반장 | C36: 1일 8시간 기준 | D36: M/D
B37: 보통인부 | C37: 1일 8시간 기준 | D37: M/D
B38: 용접공 | C38: 1일 8시간 기준 | D38: M/D
B39: 도장공 | C39: 1일 8시간 기준 | D39: M/D
B40: 소 계
B42: 5. 등부표 이동설치(좌표이탈) | C42: 개소당 | D42: 기
B43: 전기공사 산업기사 | C43: 1일 8시간 기준 | D43: M/D
B44: 통신관련 산업기사 | C44: 1일 8시간 기준 | D44: M/D
...

Sheet 참조2-2. 작업표준공량
B1: <참조 2-2>
B2: 작업표준공량
B3: 용 역 명 : 2025~2026년 인천해저배관 사설항로표지 위탁관리용역
B4: ■ 등부표 점검 | I4: 단위 : M/D
B5: 점검사항 | C5: 단위 | D5: 전기공사 산업기사 | E5: 통신관련 산업기사 | F5: 작업반장 | G5: 보통인부 | H5: 용접공 | I5: 도장공
B6: 1. 등명기 점검 및 교정 | C6: 개소당
B7: 가. 점등 상태
B8: 나. 섬광주기의 적정 여부
B9: 다 .SUN SWITCH 작동 상태
B10: 라. 제어 회로기판의 상태
B11: 마. 기타 기능 상태
B12: 2. 축전지 점검 및 교정
B13: 가. 전압 상태
B14: 나. 비중 상태
B15: 다. 액면 상태
B16: 라. 온도 상태
B17: 마. 기타 기능 상태
B18: 3. 충방전 조절기 점검 및 교정
... B34: 다. 시스템 임의 설정 변경 기능
B35: 계 | D35: =D6+D12+D18+D22+D27+D31 -> 0 | E35: =E6+E12+E18+E22+E27+E31 -> 0 | F35: =F6+F12+F18+F22+F27+F31 -> 0 | G35: =G6+G12+G18+G22+G27+G31 -> 0 | H35: =H6+H12+H18+H22+H27+H31 -> 0 | I35: =I6+I12+I18+I22+I27+I31 -> 0
B37: ■ 부표 점검 | I37: 단위 : M/D
B38: 점검사항 | C38: 단위 | D38: 전기공사 산업기사 | E38: 통신관련 산업기사 | F38: 작업반장 | G38: 보통인부 | H38: 용접공 | I38: 도장공
B39: 1. 등부표체 점검 및 교정 | C39: 개소당 | D39: =SUM(D40:D42) -> 0 | E39: =SUM(E40:E42) -> 0 | F39: =SUM(F40:F42) -> 0 | G39: =SUM(G40:G42) -> 0.024 | H39: =SUM(H40:H42) -> 0 | I39: =SUM(I40:I42) -> 0
B40: 가. 홀수 상태 | G40: 0.008
B41: 나. 각질류의 부착상태 | G41: 0.008
B42: 다. 도장 및 기타 부속품 상태 | G42: 0.008
B43: 계 | D43: =D39 -> 0 | E43: =E39 -> 0 | F43: =F39 -> 0 | G43: =G39 -> 0.024 | H43: =H39 -> 0 | I43: =I39 -> 0
B45: ■ 등부표 인양 | I45: 단위 : M/D
B46: 점검사항 | C46: 단위 | D46: 전기공사 산업기사 | E46: 통신관련 산업기사 | F46: 작업반장 | G46: 보통인부 | H46: 용접공 | I46: 도장공
B47: 1. 인양 작업 | C47: 개소당 | D47: =SUM(D48:D49) -> 0 | E47: =SUM(E48:E49) -> 0 | F47: =SUM(F48:F49) -> 0.256 | G47: =SUM(G48:G49) -> 0.416 | H47: =SUM(H48:H49) -> 0 | I47: =SUM(I48:I49) -> 0
B48: 가. 인양 선적 | F48: 0.128 | G48: 0.208
B49: 나. 하선 양육 | F49: 0.128 | G49: 0.208
B50: 2. 등부표 부속물 점검 및 교정 | D50: =SUM(D51:D52) -> 0.416 | E50: =SUM(E51:E52) -> 0 | F50: =SUM(F51:F52) -> 0 | G50: =SUM(G51:G52) -> 0 | H50: =SUM(H51:H52) -> 0 | I50: =SUM(I51:I52) -> 0
B51: 가. 등부표 탈착 | D51: 0.208
B52: 나. 등부표 교정 | D52: 0.208
B53: 3. 등부표체 점검 | D53: =SUM(D54:D56) -> 0 | E53: =SUM(E54:E56) -> 0 | F53: =SUM(F54:F56) -> 0 | G53: =SUM(G54:G56) -> 0.5 | H53: =SUM(H54:H56) -> 0.416 | I53: =SUM(I54:I56) -> 1.92
B54: 가. 각질류 및 오물 제거 | G54: 0.5
B55: 나. 도장 | I55: 1.92
B56: 다. 기타 점검 | H56: 0.416
B57: 4. 체인 점검 및 교정 | D57: =SUM(D58:D60) -> 0 | E57: =SUM(E58:E60) -> 0 | F57: =SUM(F58:F60) -> 0 | G57: =SUM(G58:G60) -> 0.112 | H57: =SUM(H58:H60) -> 1 | I57: =SUM(I58:I60) -> 0
...

Sheet 참조2-4. 기계경비단가
B1: <참조 2-4>
B2: 기계경비단가
B3: 2025~2026년 인천해저배관 사설항로표지 위탁관리용역
B4: 번 호 | C4: 중기명 | D4: 분류번호 | E4: 규 격 (형식 및 출력) | F4: 운전경비 | M4: 기계손료 | P4: 합 계 (A+B+C) | Q4: 건설기계운전사
F5: 주연료 (경유) | G5: 잡재료 | H5: 계 | I5: 운전원 | J5: 조수 | K5: 조장 | L5: 계 | M5: 장비가격 | N5: 계수 | O5: 손료 | Q5: 일반기계운전사
G6: (주연료의) | H6: (A) | L6: (B) | M6: 천원 | N6: (10^-7) | O6: (C) | Q6: 선원
B7: 1 | C7: 점검예선 | D7: 9030-0025 | E7: 50 ton
C8: (월간점검) | E8: 187 kW
B9: 2 | C9: 예인선 | D9: 9030-0050 | E9: 90 ton
C10: (인양점검) | E10: 373 kW
B11: 3 | C11: 대선 | D11: 9080 | E11: 1500 ton
C12: (인양점검) | E12: -
B13: 4 | C13: 크레인(타이어) | D13: 2104 | E13: 50 ton
C14: (인양점검)
B15: 5 | C15: 발전기 | D15: 7505 | E15: 50 kW
C16: (인양점검)
B17: 6 | C17: 용접기 | D17: 7611 | E17: 300 Amp
C18: (인양점검) | E18: 교류
B19: 7 | C19: 기중기선 | D19: 9050 | E19: 15 ton 달기
C20: (인양점검) | E20: 56 kW
B22: 주1) 주연료(경유 : VAT 별도)한국물가협회 물가자료 적용(2025.1월 기준)

Sheet 참조3. 별표
B1: <참조 3>
B2: 별 표
B4: 2025~2026년 인천해저배관 사설항로표지 위탁관리용역
B5: 1. 월간점검 :
C6: 가. 예선사용시간 | E6: =E11+E15 -> 7.14 | F6: Hr 소요 | G6: (정기점검)
C8: 인 천 항 | F8: <공주거리> | H8: 등부표 설치현장 (16.05km)
F9: (10.00km)
C11: 나. 이동시간 : | E11: =$J$13+$J$14 -> 4.04 | F11: Hr 소요
C12: - 건설표준품셈 7-1-1 예선 운항속도(독항시) : 12.9km/hr
C13: - 등부표 점검 시(인천해저배관길이(16.05km) 왕복) : | I13: 16.05*2/12.9= | J13: =ROUND(16.05*2/12.9,2) -> 2.49 | K13: Hr 적용
C14: - 등부표 설치현장까지 이동거리 (공주거리) 왕복 : | I14: 10*2/12.9 = | J14: =ROUND(20/12.9,2) -> 1.55 | K14: Hr 적용
C15: 다. 점검시간 : | E15: =$J$17+$J$18 -> 3.1 | F15: Hr 소요
C16: 구 분 | E16: 점검수량 | G16: 기당 점검시간 | J16: 점검시간
C17: 등부표 | E17: 18 | G17: 10 | J17: =E17*G17/60 -> 3
C18: 부표 | E18: 2 | G18: 3 | J18: =E18*G18/60 -> 0.1
B20: 2. 인양점검 : | D20: 5 | E20: 일 소요 | F20: (인천항 기준)
C21: 가. 작업수행 기준 : | F21: 4 | G21: 기(인양,설치)/일
C22: 나. 모든 해상장비는 1일당 8Hr 적용
C23: 다. 예비용품 수량
C24: - 등부표 : | E24: 3 | F24: 기
C25: - 부표 : | E25: 1 | F25: 기
C26: 라. 기타사항
C27: - 등부표 운반비(육상)는 운반거리와 관련된 설계변경은 없음
B29: 3. 등부표/부표 이동설치(좌표이탈, 유실 등) : 작업수행 시간은 | J29: 4 | K29: Hr(반일)적용
B31: 4. 지도/특별점검은 상기 1항의 정기점검 물량의 100%로 반영함
B33: 5. 등명기 소등신고
C34: 가. 예선사용시간 | E34: =E39+E41 -> 2.05 | F34: Hr 소요 | G34: (정기점검)
C36: 인 천 항 | F36: <이동거리> | H36: 등부표 설치현장
F37: (10.00km)
C39: 나. 이동시간 : | E39: =H40 -> 1.55 | F39: Hr 소요
C40: - 등부표 설치현장까지 이동거리(왕복) : | H40: =J14 -> 1.55 | I40: Hr 적용
C41: 다. 점검시간 : | E41: 0.5 | F41: Hr 소요

Sheet 참조4. 기타경비 산출
B1: 1. 기타경비 산출서
B3: 1. 여비산출
B4: 가. 지급기준 :
B5: 등 급 | D5: 일 비(a) | E5: 교 통 비(b) | F5: 식 비(c) | G5: 금액(a+b+c)
B6: 제2호
B7: ※ 교통비는 서울 ⇔ 인천 왕복 요금 기준
