Workbook
Name aa: [1]단가목록!$A:$IV
Name Button_1: "X44분기_단가표_단가표_10월호__List"
Name G: '[2] 견적서'!#REF!
Name GO목차: [3]Macro1!$E$1:$E$4
Name hi: [4]XL4Poppy!$A$15
Name pp: #REF!
Name Print_Area_MI: #REF!
Name X44분기_단가표_단가표_10월호__List: #REF!
Name ㄷㄷ: '[5]2.가설공사'!#REF!
Name 단가: #REF!
Name 단가산출서외곽선_L2: [6]Macro1!$A$1
Name 단가산출선내부세로선: [7]Mc1!#REF!
Name 매크로33: [6]Macro2!$B$1
Name 명칭: #REF!
Name 명칭규격: #REF!
Name 물품구입: '[2] 견적서'!#REF!
Name ㅂㅂㅂ: [8]단가목록!$A:$IV
Name 사사분기_계획안__총괄_List: #REF!
Name 소: [9]단가목록!$A:$IV
Name 소방: [9]단가목록!$A:$IV
Name ㅇㅀ: [10]단가목록!$A:$IV
Name ㅇ휴: [7]Mc1!#REF!
Name 제46_1: '[11]2.가설공사'!#REF!
Name 제46_2: '[11]2.가설공사'!#REF!
Name 지구외에서답: [12]특별땅고르기!#REF!
Name 지구외에서수로: [12]특별땅고르기!#REF!
Name 직종: #REF!
Name ㅊ3030: #REF!

Sheet 갑지
C19: 2025년 9월
B29: 삼척기지본부 시설보전부

Sheet 공사원가계산서
A1: 공 사 원 가 계 산 서
A3: 공사명 : 예인선 방충재 보수공사
A4: 비 목 | D4: 금 액 | E4: 구 성 비 | F4: 비 고
A5: 총 공 사 비 원 가 | B5: 재 료 비 | C5: 직접재료비 | D5: =내역서!F32 -> 135985968
C6: 간접재료비
C7: 작업물,부산물
C8: 소계(A) | D8: =SUM(D5:D7) -> 135985968
B9: 노 무 비 | C9: 직접노무비(B) | D9: =내역서!H32 -> 10949372
C10: 간접노무비(C) | D10: =D9*16.5% -> 1806646.4 | E10: B * 16.5%
C11: 소계(D) | D11: =SUM(D9:D10) -> 12756018
B12: 경 비 | C12: 산출경비(E) | D12: =내역서!J32 -> 22227233
C13: 산재보험료 | D13: =D11*3.56% -> 454114.25 | E13: D * 3.56%
C14: 고용보험료 | D14: =D11*1.01% -> 128835.79 | E14: D * 1.01%
C15: 건강보험료 | D15: =D9*3.545% -> 388155.24 | E15: B * 3.545%
C16: 연금보험료 | D16: =D9*4.5% -> 492721.74 | E16: B * 4.5%
C17: 산업안전보건관리비 | D17: =(D8+D9)*3.15% -> 4628463.2 | E17: (A + B) * 3.15%
C18: 노인장기요양보험료 | D18: =D15*12.95% -> 50266.103 | E18: 건강보험료 * 12.95%
C19: 퇴직공제부금 | D19: =D9*2.3% -> 251835.56 | E19: B * 2.3%
C20: 환경보전비 | D20: =(D8+D9+D12)*0.8% -> 1353300.6 | E20: (A + B + E) * 0.8%
C21: 건설기계대여금지급보증액 발급금액 | D21: =(D8+D9+D12)*0.1% -> 169162.57 | E21: (A + B + E) * 0.10%
C22: 기타경비 | D22: =(D8+D11)*5.2% -> 7734583.3 | E22: (A + D) * 5.20%
C23: 소계(F) | D23: =SUM(D12:D22) -> 37878671
A25: 일반관리비(G) | D25: =(D8+D11+D23)*8% -> 14929653 | E25: (A + D + F) * 8.0%
A26: 이 윤 | D26: =(D11+D23+D25)*15% -> 9834651.3 | E26: (D + F + G) * 15.0%
A27: 소 계 | D27: =D8+D11+D23+D25+D26 -> 2.1138496e+08
A29: 폐기물처리 | D29: =내역서!J29 -> 1678406.4 | F29: 정산분
A30: 공급가액 | D30: =D27+D29 -> 2.1306337e+08
A31: 예정가액 | D31: 213063000
A32: 부가가치세 | D32: =D31*10% -> 21306300 | E32: 예정가격의 10%
A34: 총 공 사 비 | D34: =D31+D32 -> 234369300

Sheet 내역서
A1: 내 역 서
A3: 공사명 : 예인선 계류장 방충재 보수공사
A5: 구분 | B5: 품 명 | C5: 단위 | D5: 수량 | E5: 재 료 비 | G5: 노 무 비 | I5: 경 비 | K5: 비 고
E6: 단가 | F6: 금액 | G6: 단가 | H6: 금액 | I6: 단가 | J6: 금액
A7: 1. 방충재 취외작업
B8: 1-1. 방충재 취외 (OV Type(250H X 1000L),(400H X 2000L)) | C8: SET | D8: 32 | E8: =일위대가표!G16 -> 3672 | F8: =D8*E8 -> 117504 | G8: =일위대가표!I16 -> 6888.9287 | H8: =D8*G8 -> 220445.72 | I8: =일위대가표!K16 -> 5418.6 | J8: =D8*I8 -> 173395.2 | K8: 일위대가 제1호표
B9: 1-2 굴절고소작업차(방충재 취외) | C9: SET | D9: 32 | E9: =일위대가표!G82 -> 2232 | F9: =D9*E9 -> 71424 | G9: =일위대가표!I82 -> 4520.5248 | H9: =D9*G9 -> 144656.79 | I9: =일위대가표!K82 -> 14632.385 | J9: =D9*I9 -> 468236.31 | K9: 일위대가 제5호표
B10: 소 계 | F10: =SUM(F8:F9) -> 188928 | H10: =SUM(H8:H9) -> 365102.51 | J10: =SUM(J8:J9) -> 641631.51
A12: 2. 앵커볼트 시공작업
B13: 2-1. 앵커볼트 시공 (BP Type(400H X 3000L)) | C13: SET | D13: 18 | E13: =일위대가표!G37 -> 7509180 | F13: =D13*E13 -> 135165240 | G13: =일위대가표!I37 -> 398139.7 | H13: =D13*G13 -> 7166514.5 | I13: =일위대가표!K37 -> 278039.68 | J13: =D13*I13 -> 5004714.3 | K13: 일위대가 제2호표
B14: 2-2 굴절고소작업차(앵커볼트 시공) | C14: SET | D14: 18 | E14: =일위대가표!G96 -> 5580 | F14: =D14*E14 -> 100440 | G14: =일위대가표!I96 -> 231163.2 | H14: =일위대가표!K96 -> 748246.95 | I14: =일위대가표!K96 -> 748246.95 | J14: =D14*I14 -> 13468445 | K14: 일위대가 제6호표
B15: 소 계 | F15: =SUM(F13:F14) -> 135265680 | H15: =SUM(H13:H14) -> 7914761.5 | J15: =SUM(J13:J14) -> 18473159
A17: 3. 방충재 취부작업
B18: 3-1. 방충재 취부 (BP Type(400H X 3000L)) | C18: SET | D18: 18 | E18: =일위대가표!G54 -> 9180 | F18: =D18*E18 -> 165240 | G18: =일위대가표!I54 -> 17425.745 | H18: =D18*G18 -> 313663.42 | I18: =일위대가표!K54 -> 13546.5 | J18: =D18*I18 -> 243837 | K18: 일위대가 제3호표
B19: 3-2 굴절고소작업차(방충재 취부) | C19: SET | D19: 18 | E19: =일위대가표!G81 -> 5580 | F19: =D19*E19 -> 100440 | G19: =일위대가표!I81 -> 11301.312 | H19: =D19*G19 -> 203423.62 | I19: =일위대가표!K81 -> 36580.962 | J19: =D19*I19 -> 658457.32 | K19: 일위대가 제5호표
B20: 소 계 | F20: =SUM(F18:F19) -> 265680 | H20: =SUM(H18:H19) -> 517087.03 | J20: =SUM(J18:J19) -> 902294.32
A22: 4. 결합 및 정리작업
B23: 4-1. 결합 및 정리 | C23: SET | D23: 18 | E23: =일위대가표!G69 -> 9180 | F23: =D23*E23 -> 165240 | G23: =일위대가표!I69 -> 108277.63 | H23: =D23*G23 -> 1948997.4 | I23: =일위대가표!K69 -> 86205 | J23: =D23*I23 -> 1551690 | K23: 일위대가 제4호표
B24: 4-2 굴절고소작업차(결합 및 정리) | C24: SET | D24: 18 | E24: =일위대가표!G81 -> 5580 | F24: =D24*E24 -> 100440 | G24: =일위대가표!I81 -> 11301.312 | H24: =D24*G24 -> 203423.62 | I24: =일위대가표!K81 -> 36580.962 | J24: =D24*I24 -> 658457.32 | K24: 일위대가 제5호표
B25: 소 계 | F25: =SUM(F23:F24) -> 265680 | H25: =SUM(H23:H24) -> 2152421 | J25: =SUM(J23:J24) -> 2210147.3
A27: 5. 폐기물 처리작업
B28: 5-1. 폐기물 처리(폐합성고무) | C28: SET | D28: 32 | I28: =일위대가표!K109 -> 52450.2 | J28: =D28*I28 -> 1678406.4 | K28: 일위대가 제7호표
B29: 소 계 | F29: =SUM(F28:F28) -> 0 | H29: =SUM(H28:H28) -> 0 | J29: =SUM(J28) -> 1678406.4
F32: =F10+F15+F20+F25 -> 135985968 | H32: =H10+H15+H20+H25 -> 10949372 | J32: =J10+J15+J20+J25 -> 22227233

Sheet 일위대가표
A1: 일 위 대 가 표
A3: 공사명 : 예인선 계류장 방충재 보수공사
A5: 제1호표 : | B5: 방충재 취외작업(OV Type(250H X 1000L),(400H X 2000L)) | J5: UNIT : | K5: SET
A6: 품 명 | C6: 규 격 | D6: 단위 | E6: 수 량 | F6: 재 료 비 | H6: 노 무 비 | J6: 경 비 | M6: 비 고
F7: 단 가 | G7: 금 액 | H7: 단 가 | I7: 금 액 | J7: 단 가 | K7: 금 액 | L7: 금 액
A8: 트럭탑재형 크레인 | C8: 5 TON | D8: HR | E8: 0.33 | J8: 41050 | K8: =E8*J8 -> 13546.5
A9: 화물차운전사 | B9: 인부 | C9: 인 | D9: HR | E9: 0.33 | H9: 29687.5 | I9: =E9*H9 -> 9796.875 | M9: 2025 건설공사 표준품셈(8-1-3-5 운전자의 구분)
A10: 경유 | B10: 인부 | C10: 저유황 0.001% | D10: L/HR | E10: 5.1 | F10: 1500 | G10: =E10*F10 -> 7650 | M10: 물가자료(하Page 32)
A11: 잡재료비 | B11: 인부 | C11: 주연료비의 | D11: % | E11: 20 | F11: =G10 -> 7650 | G11: =F11*0.2 -> 1530
A12: 보통인부 | B12: 인부 | C12: - | D12: 인 | E12: 0.04 | H12: 169804 | I12: =E12*H12 -> 6792.16
A13: 공구손료 | B13: 인부 | C13: 인건비의 3% | D13: 식 | I13: =(I9+I12+I82)*0.03 -> 633.28679 | M13: 제5호표 노무비 포함
A14: 폐기물처리(제7호표) | B14: 인부 | C14: -
A15: 계 | G15: =SUM(G8:G14) -> 9180 | I15: =SUM(I9:I14) -> 17222.322 | K15: =K8 -> 13546.5
A16: 해체는 설치품의 40% 적용 | D16: SET | G16: =G15*40% -> 3672 | I16: =I15*40% -> 6888.9287 | K16: =K15*40% -> 5418.6 | L16: =G16+I16+K16 -> 15979.529
A17: REMARK : 건설신기술품셈(국토교통부, 한국건설기술연구원), 2025년도 건설기계 경비 산출표
A18: 트럭탑재형크레인 경비(기계값 X 시간당 손료율) = 39,750,000원 X 10,327 X 10-7 X 1 HR = 41,050원
A19: 화물차운전사 시간당 노임단가 : 237,500원/8HR = 29,687.5원/HR
A20: 폐기물의 종류별 처리단가(환경부 고시 제2021-259호)
A24: 제2호표 : | B24: 앵커볼트 시공작업(BP Type(400H X 3000L)) | J24: UNIT : | K24: SET
A25: 품 명 | C25: 규 격 | D25: 단위 | E25: 수 량 | F25: 재 료 비 | H25: 노 무 비 | J25: 경 비 | M25: 비 고
F26: 단 가 | G26: 금 액 | H26: 단 가 | I26: 금 액 | J26: 단 가 | K26: 금 액 | L26: 금 액
A27: 방충재 | C27: BP 400H*2000L | D27: EA | E27: 1 | F27: 6400000 | G27: =F27 -> 6400000 | M27: 물가자료(P.222)
A28: 케미칼 앵커 | C28: M36 * 330(STS-316) | D28: SET(10EA) | E28: 1 | F28: 700000 | G28: =E28*F28 -> 700000 | M28: 견적가
A29: 앙카고정용 에폭시 | C29: - | D29: SET(10EA) | E29: 1 | F29: 400000 | G29: =E29*F29 -> 400000
A30: 코아드릴 | C30: 40.64CM | D30: HR | E30: 3.78 | J30: 251.9 | K30: =E30*J30 -> 952.182
A31: 특별인부 | B31: 인부 | C31: - | D31: 인 | E31: 0.81 | H31: 221506 | I31: =E31*H31 -> 179419.86
A32: 트럭탑재형 크레인 | C32: 5 TON | D32: HR | E32: 6.75 | J32: 41050 | K32: =E32*J32 -> 277087.5 | M32: 인터넷 구매가 기준
A33: 화물차운전사 | B33: 인부 | C33: - | D33: HR | E33: 6.75 | H33: 29687.5 | I33: =E33*H33 -> 200390.62 | M33: 2025 건설공사 표준품셈(8-1-3-5 운전자의 구분)
A34: 경유 | B34: 인부 | C34: 저유황 0.001% | D34: L/HR | E34: 5.1 | F34: 1500 | G34: =E34*F34 -> 7650
A35: 잡재료비 | B35: 인부 | C35: 주연료비의 | D35: % | E35: 20 | F35: =G34 -> 7650 | G35: =F35*0.2 -> 1530
A36: 공구손료 | B36: 인부 | C36: 인건비의 3% | D36: 식 | I36: =(I31+I33+I96)*0.03 -> 18329.211 | M36: 제6호표 노무비 포함
A37: 계 | D37: SET | G37: =SUM(G27:G36) -> 7509180 | I37: =SUM(I27:I36) -> 398139.7 | K37: =SUM(K27:K36) -> 278039.68 | L37: =G37+I37+K37 -> 8185359.4
A38: REMARK : 건설신기술품셈(국토교통부, 한국건설기술연구원), 2025년도 건설기계 경비 산출표
A39: 굴절고소작업차(굴절고소차값 X 시간당 손료율) = 65,322,000원 X 16,970 X 10-7 X 1HR = 110,851.4원
A40: 코아드릴 경비(기계값 X 시간당 손료율) = 2,187,000원 X 1,152 X 10-7 X 1 HR = 251.9원
A41: 건설기계운전사 시간당 노임단가 : 273,971/8HR = 34,246.4원
A45: 제3호표 : | B45: 방충재 취부작업(BP Type(400H X 3000L)) | J45: UNIT : | K45: SET
A46: 품 명 | C46: 규 격 | D46: 단위 | E46: 수 량 | F46: 재 료 비 | H46: 노 무 비 | J46: 경 비 | M46: 비 고
F47: 단 가 | G47: 금 액 | H47: 단 가 | I47: 금 액 | J47: 단 가 | K47: 금 액 | L47: 금 액
A48: 트럭탑재형 크레인 | C48: 5 TON | D48: HR | E48: 0.33 | J48: 41050 | K48: =E48*J48 -> 13546.5 | M48: 인터넷 구매가 기준
...

Sheet 견적서

Sheet 노임단가
A1: 2025년 상반기 적용 건설업 직종별 노임단가
A4: [표] 직종별 노임단가 (적용시점 : 2025년 1월 1일부터)
B6: 1 | C6: 2
A7: 번호 | B7: 직종명 | C7: 2025.1.1 | D7: 비고
A8: 1002 | B8: 보통인부 | C8: 169804 | D8: • 종전의 '선부+검조부+양생공+보통인부' 통합
A9: 1003 | B9: 특별인부 | C9: 221506 | D9: • 종전의 '갱부+특별인부' 통합
A10: 1048 | B10: 건설기계운전사 | C10: 273971 | D10: • 종전의 '건설기계운전기사' 명칭 변경('10.1.1)
A11: 1049 | B11: 화물차운전사 | C11: 237500 | D11: • 종전의 '운전사(운반차)' 명칭 변경('10.1.1)
A12: * 표시 직종은 조사현장수가 5개 미만, ** 표시직종은 조사되지 않은 직종을 의미함.
