Workbook
Name 노임단가: '[1]점검별 노무비 산출내역'!$B$37:$F$42
Name 등부표인양: '[1]점검별 투입인원'!$A$46:$H$69
Name 등부표점검: '[1]점검별 투입인원'!$A$5:$H$35
Name 부표인양: '[1]점검별 투입인원'!$A$72:$H$92
Name 부표점검: '[1]점검별 투입인원'!$A$38:$H$43

Sheet 표지
B7: 공 내 역 서
B9: - 2026~2027년 북항해저배관 사설항로표지 위탁관리용역 -
B16: 2026. 01.
B22: 인천지역본부
B23: 관로보전부

Sheet 총괄표
B2: 총 괄 표
B4: 용 역 명 : 2026~2027년 북항해저배관 사설항로표지 위탁관리용역
B5: 비 목 | E5: 금 액 | F5: 비 고
B6: 용역원가 | C6: 재료비
C7: 노무비 | D7: 직접노무비
D8: 간접노무비
D9: 소계
C10: 경비 | D10: 기계경비
D11: 전력비
D12: 보험료 | F12: 산재보험료,고용보험료
D13: 산업안전보건관리비 | F13: =공사총괄내역서!C18&" "&공사총괄내역서!E18*100&"%" -> (재료비+직접노무비)의 3.15%
D14: 환경보전비 | F14: =공사총괄내역서!C20&" "&공사총괄내역서!E20*100&"%" -> (직접공사비)의 0.8% | J14: =SUM(E14:E16) -> 0
D15: 퇴직공제부금비 | F15: =공사총괄내역서!C21&" "&공사총괄내역서!E21*100&"%" -> (직접노무비)의 0%
D16: 건설기계대여대금 지급보증액 | F16: =공사총괄내역서!C22&" "&공사총괄내역서!E22*100&"%" -> (직접공사비)의 0.51%
D17: 기타경비 (출장비 등) | F17: 한도 내 실적정산
G18: =공사총괄내역서!C19&" "&공사총괄내역서!E19*100&"%" -> (재료비+노무비)의 5.2%
D19: 안전관리비 | F19: 한도 내 실적정산
D20: 소계
B21: 계
B22: 일반관리비
B24: 이 윤
F25: 공사 | G25: =공사총괄내역서!C27&" "&공사총괄내역서!E27*100&"%" -> (노무비+경비+일반관리비)의 15%
B26: 순설계금액
B27: 공급가액
B28: 부가가치세
B29: 용역비총계

Sheet 공사총괄내역서
B2: 인 양 점 검 공 사 총 괄 내 역 서
B3: =#REF! -> #REF!
B4: 구분 | C4: 규격 | D4: 단위 | E4: 수량 | F4: 재료비 | H4: 노무비 | J4: 경비 | L4: 합계 | N4: 비고
F5: 단가 | G5: 금액 | H5: 단가 | I5: 금액 | J5: 단가 | K5: 금액 | L5: 단가 | M5: 금액
B6: 1. 재 료 비
B7: 가. 직접재료비 | G7: =#REF!+#REF!+#REF!+#REF!+#REF!+#REF!+#REF!+#REF! -> #REF! | N7: <인양점검 재료비 반영>
B8: 나. 간접재료비 | G8: =#REF!+#REF!+#REF! -> #REF! | N8: <간접재료비 산출내역>
B9: 재료비 합계 | G9: =G7+G8 -> #REF! | M9: =G9+I9+L9 -> #REF!
B10: 2. 노 무 비
B11: 가. 직접노무비 | I11: =#REF!+#REF!+#REF! -> #REF! | M11: =G11+I11+K11 -> #REF! | N11: <직접노무비 산출내역>
B12: 나. 간접노무비 | C12: (직접노무비)의 | E12: 0.165 | I12: =I11*E12 -> #REF! | M12: =G12+I12+K12 -> #REF! | N12: <50억 미만 토목공사요율>
B13: 노무비 합계 | I13: =SUM(I11+I12) -> #REF! | M13: =SUM(M11+M12) -> #REF!
B14: 3. 경 비
B15: 가. 기계경비 | K15: =#REF!+#REF!+#REF! -> #REF! | M15: =G15+I15+K15 -> #REF! | N15: <기계경비 산출내역>
B16: 나. 산재보험료 | C16: (노무비)의 | E16: 0.0356 | K16: =$I$13*E16 -> #REF! | M16: =G16+I16+K16 -> #REF!
B17: 다. 고용보험료 | C17: (노무비)의 | E17: 0.0101 | K17: =$I$13*E17 -> #REF! | M17: =G17+I17+K17 -> #REF!
B18: 라. 산업안전보건관리비 | C18: (재료비+직접노무비)의 | E18: 0.0315 | K18: =($G$9+$I$11)*E18 -> #REF! | M18: =G18+I18+K18 -> #REF! | N18: <도급자관급 없음>
B19: 마. 기타경비 | C19: (재료비+노무비)의 | E19: 0.052 | K19: =($G$9+$I$13)*E19 -> #REF! | M19: =G19+I19+K19 -> #REF! | N19: <50억미만 토목공사 요율>
B20: 바. 환경보전비 | C20: (직접공사비)의 | E20: 0.008 | K20: =(G9+I11+K15)*E20 -> #REF! | M20: =G20+I20+K20 -> #REF!
B21: 사. 퇴직공제부금비 | C21: (직접노무비)의 | E21: 0 | K21: =I11*E21 -> #REF! | M21: =G21+I21+K21 -> #REF!
B22: 아. 건설기계대여대금 지급보증액 | C22: (직접공사비)의 | E22: 0.0051 | K22: =(G9+I11+K15)*E22 -> #REF! | M22: =G22+I22+K22 -> #REF!
B23: 경비 합계 | K23: =SUM($K$15:$K$22) -> #REF! | M23: =M15+M16+M17+M18+M19+M20+M21+M22 -> #REF!
B25: 4. 일반관리비 | C25: (재료비+노무비+경비)의 | E25: 0.08 | M25: =($M$9+$M$13+$M$23)*$E$25 -> #REF!
B27: 5. 이 윤 | C27: (노무비+경비+일반관리비)의 | E27: 0.15 | M27: =($M$13+$M$23+$M$25)*$E$27 -> #REF!
B29: 6. 단위절사 | M29: =-(SUM(M27,M25,M23,M13,M9)-ROUNDDOWN(SUM(M27,M25,M23,M13,M9),-3)) -> #REF!
B31: 합 계 | G31: =SUM(G7:G8) -> #REF! | I31: =SUM(I11:I12) -> #REF! | K31: =SUM(K15:K22) -> #REF! | M31: =SUM(M23:M30,M13,M9) -> #REF!
B32: ※ 인양점검공사 공사기간 1개월 미만으로 건강보험료, 연금보험료, 노인장기 요양보험료 제외 반영 ※ 추정금액 1억 이하로 퇴직공제부금비 제외

Sheet 참조1-1. 도장면적 산출
B1: <참조 1-1>
B2: 도장면적 산출표
B3: 용 역 명 : 2026~2027년 북항해저배관 사설항로표지 위탁관리용역
B4: ■ 등부표(LS-2400) | F4: (단위 : ㎡)
B5: 명칭 | C5: 규 격 | D5: 단위 | E5: 도장면적 산출식 | F5: 도장면적 | J5: 수선상부 | K5: 수선하부
B6: BODY | C6: Φ 2400×2300ℓ | D6: ㎡ | E6: 2.4 ×π×2.3 | F6: =H6 -> 17.34 | H6: =ROUND(2.4*PI()*2.3,2) -> 17.34 | J6: =H6/3*2 -> 11.56 | K6: =H6/3 -> 5.78
B7: COVER | C7: Φ 2400 | D7: ㎡ | E7: 2.4^2 ×π / 4 | F7: =H7 -> 1.88 | H7: =ROUND(2.4*PI()/4,2) -> 1.88 | J7: =H7 -> 1.88
B8: BOTTOM | C8: Φ 2400 | D8: ㎡ | E8: 2.4^2 ×π / 4 | F8: =H8 -> 1.88 | H8: =ROUND(2.4*PI()/4,2) -> 1.88 | K8: =H8 -> 1.88
B9: BOTTOM BRACKET | C9: 2400×300 | D9: ㎡ | E9: 2.4 ×0.3 ×2 (양면) | F9: =H9 -> 1.44 | H9: =ROUND(2.4*0.3*2,2) -> 1.44 | K9: =H9 -> 1.44
B10: BALANCE PIPE | C10: Φ 500×1900 ℓ | D10: ㎡ | E10: 0.5 ×π×1.9 | F10: =H10 -> 2.98 | H10: =ROUND(0.5*PI()*1.9,2) -> 2.98 | K10: =H10 -> 2.98
B11: BALANCE WEIGHT | C11: Φ 850×750 ℓ | D11: ㎡ | E11: 0.85 ×π×0.75 | F11: =H11 -> 2 | H11: =ROUND(0.85*PI()*0.75,2) -> 2 | K11: =H11 -> 2
B12: 기둥 PIPE | C12: Φ 80×2380ℓ | D12: ㎡ | E12: 0.08 ×π×2.38 ×4 | F12: =H12 -> 2.39 | H12: =ROUND(0.08*PI()*2.38*4,2) -> 2.39 | J12: =H12 -> 2.39
B13: 두표지지 PIPE | C13: Φ 50×600 ℓ | D13: ㎡ | E13: 0.05 ×π×0.6 ×4 | F13: =H13 -> 0.38 | H13: =ROUND(0.05*PI()*0.6*4,2) -> 0.38 | J13: =H13 -> 0.38
B14: NAME PLATE | C14: 550×600 | D14: ㎡ | E14: 0.55 ×0.6 ×2(양면)×4 | F14: =H14 -> 2.64 | H14: =ROUND(0.55*0.6*2*4,2) -> 2.64 | J14: =H14 -> 2.64
B15: FLAT BAR | C15: 65×600 | D15: ㎡ | E15: 0.065×0.6 ×2(양면)×12 | F15: =H15 -> 0.94 | H15: =ROUND(0.065*0.6*2*12,2) -> 0.94 | J15: =H15 -> 0.94
B16: 계 | F16: =SUM(F6:F15) -> 33.87
B18: ■ 부표(US-1700) | F18: (단위 : ㎡)
B19: 명칭 | C19: 규 격 | D19: 단위 | E19: 도장면적 산출식 | F19: 도장면적
B20: 계 | F20: 0
J21: =SUM(J6:J15) -> 19.79 | K21: =SUM(K6:K15) -> 14.08
L23: =J21+K21 -> 33.87 | M23: =L23=F16 -> TRUE

Sheet 참조1-2. 도장단가 산출
B1: <참조 1-2>
B2: 도장단가 산출표
B3: 용 역 명 : 2026~2027년 북항해저배관 사설항로표지 위탁관리용역
B4: ■ 등부표(LL-24) 도장단가 | K4: (단위 : 원/㎡)
B5: 구 분 | C5: 명칭 | D5: 도장횟수 | E5: 규 격 | F5: 제품명 | G5: 단위 | H5: 수량 | I5: 단가 | J5: 금액 | K5: 비 고
B6: 표체전체 | C6: 하도 | D6: 1 | E6: 무기질 ZINC도료(녹막이 방지용) | F6: KCI ZINC 1000(H) | G6: L | H6: 0.081 | I6: =210000/18 -> 11666.667 | J6: =INT(D6*H6*I6) -> 945 | K6: p.609
B7: 표체전체 | C7: 중도 | D7: 1 | E7: 에폭시계 도료(방청 A/C용) | F7: KCI Edmarine ECO(H) | G7: L | H7: 0.081 | I7: =130000/16 -> 8125 | J7: =INT(D7*H7*I7) -> 658 | K7: p.609
B8: 수선하부 | C8: 상도 | D8: 1 | E8: 염화고무계 도료(접착제 상부용) | F8: 코라멜에나멜RT546 | G8: L | H8: =ROUNDDOWN(0.081*'참조1-1. 도장면적 산출'!K21/'참조1-1. 도장면적 산출'!F16,4) -> 0.0336 | I8: =96400/18 -> 5355.5556 | J8: =INT(D8*H8*I8) -> 179 | K8: p.593
B9: 수선하부 | C9: 상도 | D9: 1 | E9: 선저방오도료(방오 A/F) | F9: 코마린 A/F 744 | G9: L | H9: =ROUNDDOWN(0.081*'참조1-1. 도장면적 산출'!K21/'참조1-1. 도장면적 산출'!F16,4) -> 0.0336 | I9: 28600 | J9: =INT(D9*H9*I9) -> 960 | K9: p.610
B10: 수선상부 | C10: 상도 | D10: 2 | E10: 폴리우레탄계 도료 | F10: 아크릴우레탄HB | G10: L | H10: =ROUND(0.081-H9,4) -> 0.0474 | I10: =248000/18 -> 13777.778 | J10: =INT(D10*H10*I10) -> 1306 | K10: p.609
C11: 신너 | E11: 에폭시계 | F11: NO.024 | G11: L | H11: 0.012 | I11: =121280/18 -> 6737.7778 | J11: =INT(H11*I11) -> 80 | K11: p.593
C12: 퍼티 | E12: 에폭시(철재면용) | F12: 노루씰 #6000 PUTTY | G12: L | H12: 0.08 | I12: =248000/18 -> 13777.778 | J12: =INT(H12*I12) -> 1102 | K12: p.598
C13: 연마지 | E13: 샌딩디스크용 | F13: 100AA | G13: 매 | H13: 0.15 | I13: 1210 | J13: =INT(H13*I13) -> 181 | K13: p.1412
B14: 계 | J14: =SUM(J6:J13) -> 5411
B16: ■ 부표(US-1700) 도장단가 | K16: (단위 : 원/㎡)
B17: 구 분 | C17: 명칭 | D17: 도장횟수 | E17: 규 격 | F17: 제품명 | G17: 단위 | H17: 수량 | I17: 단가 | J17: 금액 | K17: 비 고
B18: 표체전체 | C18: 하도 | D18: 1 | E18: 무기질 ZINC도료(녹막이 방지용) | F18: KCI ZINC 1000(H) | G18: L | H18: 0.081 | I18: 11666.667 | J18: =INT(D18*H18*I18) -> 945 | K18: p.609
B19: 표체전체 | C19: 중도 | D19: 1 | E19: 에폭시계 도료(방청 A/C용) | F19: KCI Edmarine ECO(H) | G19: L | H19: 0.081 | I19: 8125 | J19: =INT(D19*H19*I19) -> 658 | K19: p.609
B20: 수선하부 | C20: 상도 | D20: 1 | E20: 염화고무계 도료(접착제 상부용) | F20: 코라멜에나멜RT546 | G20: L | H20: =ROUNDDOWN(0.081*'참조1-1. 도장면적 산출'!#REF!/'참조1-1. 도장면적 산출'!F20,4) -> #REF! | I20: 5355.5556 | J20: =INT(D20*H20*I20) -> #REF! | K20: p.593
B21: 수선하부 | C21: 상도 | D21: 1 | E21: 선저방오도료(방오 A/F) | F21: 코마린 A/F 744 | G21: L | H21: =ROUNDDOWN(0.081*'참조1-1. 도장면적 산출'!#REF!/'참조1-1. 도장면적 산출'!F20,4) -> #REF! | I21: 28600 | J21: =INT(D21*H21*I21) -> #REF! | K21: p.610
B22: 수선상부 | C22: 상도 | D22: 2 | E22: 폴리우레탄계 도료 | F22: 아크릴우레탄HB | G22: L | H22: =0.081-H21 -> #REF! | I22: 13777.778 | J22: =INT(D22*H22*I22) -> #REF! | K22: p.609
C23: 신너 | E23: 에폭시계 | F23: NO.024 | G23: L | H23: 0.012 | I23: 6737.7778 | J23: =INT(H23*I23) -> 80 | K23: p.593
C24: 퍼티 | E24: 에폭시(철재면용) | F24: =F12 -> 노루씰 #6000 PUTTY | G24: L | H24: 0.08 | I24: 13777.778 | J24: =INT(H24*I24) -> 1102 | K24: p.598
C25: 연마지 | E25: 샌딩디스크용 | F25: #120 | G25: 매 | H25: 0.15 | I25: 1150 | J25: =INT(H25*I25) -> 172 | K25: p.1412
B26: 계 | J26: =SUM(J18:J25) -> #REF!
B27: 주1)산출근거 : 『표준형부표 제작 및 품질관리에 관한 기준』 [별표1] 표준부표(강재) 제작 (기본)시방서 제 13조 "마"항
B28: 주2)설계수량 : 2000년도 정부표준품셈(2000년 감우회 설계용역)에 의거 작성.
B29: - 상도 설계수량은 (등)부표의 수선하부 및 수선상부 비율에 맞춰 나눔
B30: 주3)시공 페인트는 에폭시 또는 우레탄 계열을 적용하고, 페인트 제조자의 시공방법을 준수한다.
B31: 주4)도장횟수는 하도 1회, 중도 1회, 상도 2회를 기준으로 하며 시공전에 협의한다.
B32: 주5)『항로표지 기능 및 규격에 관한 기준』의 표준색체 기준을 따라야 함.
B33: 주6) 한국물가협회 물가자료 적용(2025.1월 기준)
