Workbook

Sheet 원가계산서
B1: 공 사 원 가 계 산 서
B2: 공사명 : 사옥 이산화탄소 소화설비 교체공사
B3: 비 목 | E3: 금 액 | F3: 구 성 비 | G3: 비 고
A4: A1 | B4: 순 공 사 원 가 | C4: 재 료 비 | D4: 직 접 재 료 비 | E4: =TRUNC(공종별집계표!F5, 0) -> 0
A5: A2 | D5: 간 접 재 료 비 | E5: 0
A6: A3 | D6: 작업설, 부산물(△) | E6: 0
A7: AS | D7: [ 소 계 ] | E7: =TRUNC(E4+E5-E6, 0) -> 0
A8: B1 | C8: 노 무 비 | D8: 직 접 노 무 비 | E8: =TRUNC(공종별집계표!H5, 0) -> 0
A9: B2 | D9: 간 접 노 무 비 | E9: =TRUNC(E8*0.175, 0) -> 0 | F9: 직접노무비 * 17.5%
A10: BS | D10: [ 소 계 ] | E10: =TRUNC(E8+E9, 0) -> 0
A11: C2 | C11: 경 비 | D11: 경 비 | E11: =TRUNC(공종별집계표!J5, 0) -> 0
A12: C4 | D12: 산 재 보 험 료 | E12: =TRUNC(E10*0.0356, 0) -> 0 | F12: 노무비 * 3.56%
A13: C5 | D13: 고 용 보 험 료 | E13: =TRUNC(E10*0.0101, 0) -> 0 | F13: 노무비 * 1.01%
A14: C6 | D14: 국민 건강 보험료 | E14: =TRUNC(E8*0.03595, 0) -> 0 | F14: 직접노무비 * 3.595%
A15: C7 | D15: 국민 연금 보험료 | E15: =TRUNC(E8*0.0475, 0) -> 0 | F15: 직접노무비 * 4.75%
A16: C8 | D16: 퇴직 공제 부금비 | E16: =TRUNC(E8*0.023, 0) -> 0 | F16: 직접노무비 * 2.3%
A17: CA | D17: 산업안전보건관리비 | E17: =TRUNC((E7+E8+(0/1.1))*0.0207, 0) -> 0 | F17: (재료비+직노+관급자재비) * 2.07%
A18: CB | D18: 노인장기요양보험료 | E18: =TRUNC(E14*0.1314, 0) -> 0 | F18: 건강보험료 * 13.14%
A19: CG | D19: 기 타 경 비 | E19: =TRUNC((E7+E10)*0.05, 0) -> 0 | F19: (재료비+노무비) * 5%
A20: CH | D20: 석 면 분 담 금 | E20: =TRUNC(E10*0.00006, 0) -> 0 | F20: 노무비 * 0.006%
A21: CJ | D21: 임금채권부담금 | E21: =TRUNC(E10*0.0009, 0) -> 0 | F21: 노무비 * 0.09%
A22: CS | D22: [ 소 계 ] | E22: =TRUNC(E11+E12+E13+E14+E15+E16+E17+E18+E19+E20+E21, 0) -> 0
A23: S1 | B23: 계 | E23: =TRUNC(E7+E10+E22, 0) -> 0
A24: D1 | B24: 일 반 관 리 비 | E24: =TRUNC(E23*0.08, 0) -> 0 | F24: 계 * 8%
A25: D2 | B25: 이 윤 | F25: (노무비+경비+일반관리비) * 15%
A26: D9 | B26: 순 계 약 금 액 | E26: =TRUNC(E23+E24+E25, 0) -> 0 | F26: (계+일반관리비+이윤)
A27: DA | B27: 소방시설공사업 배상책임공제 | E27: =TRUNC((E23+E24+E25)*0.00364, 0) -> 0 | F27: 순계약금액 * 0.364% | G27: 소방진흥법상 소방시설고사 손해배상공제 가입 의무(*소방산업공제 5억원이하 0.364%)
A28: DB | B28: 총 공 사 원 가 | E28: =E26+E27 -> 0 | F28: (순계약금액+소방시설업 배상책임공제) | G28: 백원미만절사
A29: DB | B29: 부 가 가 치 세 | E29: =TRUNC((E28)*0.1, 0) -> 0 | F29: 총공사원가 * 10%
A30: DH | B30: 도 급 액 | E30: =TRUNC(E26+E27+E29, 0) -> 0
A31: S2 | B31: 총 공 사 비 | E31: =TRUNC(E30+0, 0) -> 0

Sheet 공종별집계표
A1: 공 종 별 집 계 표
A2: [ 사옥 이산화탄소 소화설비 교체공사 ]
A3: 품 명 | B3: 규 격 | C3: 단위 | D3: 수량 | E3: 재 료 비 | G3: 노 무 비 | I3: 경 비 | K3: 합 계 | M3: 비 고 | N3: 공종코드 | O3: 변수 | P3: 상위공종 | Q3: 공종구분 | R3: 공종레벨 | S3: 공종소계 | T3: 원가계산서 연결금액
E4: 단 가 | F4: 금 액 | G4: 단 가 | H4: 금 액 | I4: 단 가 | J4: 금 액 | K4: 단 가 | L4: 금 액
A5: 01 사옥 이산화탄소 소화설비 교체공사 | N5: 01 | R5: 1
A6: 0101 소방전기설비공사 | N6: 0101 | P6: 01 | R6: 2
A7: 0102 할로겐소화약제설비공사 | N7: 0102 | P7: 01 | R7: 2
A8: 0103 철거공사 | N8: 0103 | P8: 01 | R8: 2
A29: [ 합 계 ] | F29: =F5 -> 0 | H29: =H5 -> 0 | J29: =J5 -> 0 | L29: =L5 -> 0

Sheet 공종별내역서(소방전기)
A1: =공종별집계표!A2 -> [ 사옥 이산화탄소 소화설비 교체공사 ]
A2: 품 명 | B2: 규 격 | C2: 단위 | D2: 수량 | E2: 재 료 비 | G2: 노 무 비 | I2: 경 비 | K2: 합 계 | M2: 비 고 | N2: 품목코드 | O2: 변수 | P2: 설정 | Q2: 공종코드 | R2: 일위 | S2: 단산 | T2: 자재 | U2: 손료적용 | V2: 손료저장 | W2: 적용율 | X2: JUK1 | Y2: JUK2 | Z2: JUK3 | AA2: JUK4 | AB2: JUK5 | AC2: JUK6 | AD2: JUK7 | AE2: JUK8 | AF2: JUK9 | AG2: JUK10 | AH2: JUK11 | AI2: JUK12 | AJ2: JUK13 | AK2: JUK14 | AL2: JUK15 | AM2: JUK16 | AN2: JUK17 | AO2: JUK18 | AP2: JUK19 | AQ2: JUK20 | AR2: 자재구분 | AS2: 공종구분 | AT2: 공종레벨 | AU2: 공종+자재 | AV2: 고유번호
E3: 단 가 | F3: 금 액 | G3: 단 가 | H3: 금 액 | I3: 단 가 | J3: 금 액 | K3: 단 가 | L3: 금 액
A4: 0101 소방전기설비공사 | Q4: 0101
A5: 450/75OV 저독성난연가교폴리올레핀절연전선(HFIX) | B5: 1.38㎜ | C5: m | M5: 호표 15 | N5: 505B01641A59413E6CB4C82253D1D6 | Q5: 0101 | R5: T | S5: F | T5: F | AU5: 0101505B01641A59413E6CB4C82253D1D6 | AV5: 21 | AW5: =CONCATENATE(A5," ",B5) -> 450/75OV 저독성난연가교폴리올레핀절연전선(HFIX) 1.38㎜
A6: 450/75OV 저독성난연가교폴리올레핀절연전선(HFIX) | B6: HFIX, 1.38㎜ (할증분 10%) | C6: m | M6: 호표 15 | N6: 505B01641A59413E6CB4C82253D1D6 | Q6: 0101 | R6: T | S6: F | T6: F | AU6: 0101505B01641A59413E6CB4C82253D1D6 | AV6: 21 | AW6: =CONCATENATE(A6," ",B6) -> 450/75OV 저독성난연가교폴리올레핀절연전선(HFIX) HFIX, 1.38㎜ (할증분 10%)
A7: 450/75OV 저독성난연가교폴리올레핀절연전선(HFIX) | B7: 1.78㎜ | C7: m | M7: 호표 16 | N7: 505B01641A59413E6CB4C82253D2FF | Q7: 0101 | R7: T | S7: F | T7: F | AU7: 0101505B01641A59413E6CB4C82253D2FF | AV7: 22 | AW7: =CONCATENATE(A7," ",B7) -> 450/75OV 저독성난연가교폴리올레핀절연전선(HFIX) 1.78㎜
A8: 450/75OV 저독성난연가교폴리올레핀절연전선(HFIX) | B8: HFIX, 1.78㎜(할증분 10%) | C8: m | M8: 호표 16 | N8: 505B01641A59413E6CB4C82253D2FF | Q8: 0101 | R8: T | S8: F | T8: F | AU8: 0101505B01641A59413E6CB4C82253D2FF | AV8: 22 | AW8: =CONCATENATE(A8," ",B8) -> 450/75OV 저독성난연가교폴리올레핀절연전선(HFIX) HFIX, 1.78㎜(할증분 10%)
A9: 0.6/1kV 내화 케이블 (F-FR-8) | B9: 3C 2.5㎟ | C9: m | M9: 호표 17 | N9: 505B01641A484BD16D60AB21A7ADF0 | Q9: 0101 | R9: T | S9: F | T9: F | AU9: 0101505B01641A484BD16D60AB21A7ADF0 | AV9: 23 | AW9: =CONCATENATE(A9," ",B9) -> 0.6/1kV 내화 케이블 (F-FR-8) 3C 2.5㎟
A10: 0.6/1kV 내화 케이블 (F-FR-8) | B10: 3C*2.5㎟ (할증분 5%) | C10: m | M10: 호표 17 | N10: 505B01641A484BD16D60AB21A7ADF0 | Q10: 0101 | R10: T | S10: F | T10: F | AU10: 0101505B01641A484BD16D60AB21A7ADF0 | AV10: 23 | AW10: =CONCATENATE(A10," ",B10) -> 0.6/1kV 내화 케이블 (F-FR-8) 3C*2.5㎟ (할증분 5%)
A11: 강제 전선관 | B11: 아연도 16 mm | C11: M | M11: 호표 8 | N11: 505B01641A6B48CC6AE99620450FAC | Q11: 0101 | R11: T | S11: F | T11: F | AU11: 0101505B01641A6B48CC6AE99620450FAC | AV11: 14 | AW11: =CONCATENATE(A11," ",B11) -> 강제 전선관 아연도 16 mm
A12: 강제 전선관 | B12: 아연도 16 mm(할증분 10%) | C12: M | M12: 호표 8 | N12: 505B01641A6B48CC6AE99620450FAC | Q12: 0101 | R12: T | S12: F | T12: F | AU12: 0101505B01641A6B48CC6AE99620450FAC | AV12: 14 | AW12: =CONCATENATE(A12," ",B12) -> 강제 전선관 아연도 16 mm(할증분 10%)
A13: 강제 전선관 | B13: 아연도 22 mm | C13: M | M13: 호표 9 | N13: 505B01641A6B48CC6AE99620450CD7 | Q13: 0101 | R13: T | S13: F | T13: F | AU13: 0101505B01641A6B48CC6AE99620450CD7 | AV13: 15 | AW13: =CONCATENATE(A13," ",B13) -> 강제 전선관 아연도 22 mm
A14: 강제 전선관 | B14: 아연도 22 mm(할증분 10%) | C14: M | M14: 호표 9 | N14: 505B01641A6B48CC6AE99620450CD7 | Q14: 0101 | R14: T | S14: F | T14: F | AU14: 0101505B01641A6B48CC6AE99620450CD7 | AV14: 15 | AW14: =CONCATENATE(A14," ",B14) -> 강제 전선관 아연도 22 mm(할증분 10%)
A15: 강제 전선관 | B15: 아연도 28 mm | C15: M | M15: 호표 10 | N15: 505B01641A6B48CC6AE99620450DFE | Q15: 0101 | R15: T | S15: F | T15: F | AU15: 0101505B01641A6B48CC6AE99620450DFE | AV15: 16 | AW15: =CONCATENATE(A15," ",B15) -> 강제 전선관 아연도 28 mm
A16: 강제 전선관 | B16: 아연도 28 mm(할증분 10%) | C16: M | M16: 호표 10 | N16: 505B01641A6B48CC6AE99620450DFE | Q16: 0101 | R16: T | S16: F | T16: F | AU16: 0101505B01641A6B48CC6AE99620450DFE | AV16: 16 | AW16: =CONCATENATE(A16," ",B16) -> 강제 전선관 아연도 28 mm(할증분 10%)
... A23: 잡철물설치(철제) | B23: 간단 | C23: kg | M23: 호표 5 | N23: 5011016F24EC46326CCAB425E4BD33 | Q23: 0101 | R23: T | S23: F | T23: F | AU23: 01015011016F24EC46326CCAB425E4BD33 | AV23: 11 | AW23: =CONCATENATE(A23," ",B23) -> 잡철물설치(철제) 간단
A24: 텍스 철거후 재설치 | C24: ㎡ | M24: 호표 6 | N24: 5010B167C66E4E4D6D7CDD288F9415 | Q24: 0101 | R24: T | S24: F | T24: F | AU24: 01015010B167C66E4E4D6D7CDD288F9415 | AV24: 12 | AW24: =CONCATENATE(A24," ",B24) -> 텍스 철거후 재설치
A25: 배관용 구멍뚫기(코어드릴)-Con,c | B25: 두께 30cm 이하 ∮25mm, 벽 | C25: 개소 | M25: 호표 7 | N25: 505B016322B745D26B9118298EB0BB | Q25: 0101 | R25: T | S25: F | T25: F | AU25: 0101505B016322B745D26B9118298EB0BB | AV25: 13 | AW25: =CONCATENATE(A25," ",B25) -> 배관용 구멍뚫기(코어드릴)-Con,c 두께 30cm 이하 ∮25mm, 벽
A26: 가스수신반 | C26: 대 | M26: 호표 30 | N26: 505B016424A64E5269CAC822D55C9C | Q26: 0101 | R26: T | S26: F | T26: F | AU26: 0101505B016424A64E5269CAC822D55C9C | AV26: 34 | AW26: =CONCATENATE(A26," ",B26) -> 가스수신반
A27: 전원반 | B27: 자동폐쇄장치전원반, 15A | C27: 대 | M27: 호표 32 | N27: 505B016424A64E5269CAC822D44BBF | Q27: 0101 | R27: T | S27: F | T27: F | AU27: 0101505B016424A64E5269CAC822D44BBF | AV27: 36 | AW27: =CONCATENATE(A27," ",B27) -> 전원반 자동폐쇄장치전원반, 15A
A28: 경종 설치 | C28: 개 | M28: 호표 18 | N28: 505B01641AE84E05648CA52A944A2D | Q28: 0101 | R28: T | S28: F | T28: F | AU28: 0101505B01641AE84E05648CA52A944A2D | AV28: 24 | AW28: =CONCATENATE(A28," ",B28) -> 경종 설치
A29: 화재감지기 | B29: 열감지기,차동식스포트형 | C29: 개 | M29: 호표 19 | N29: 505B016424A64E5269CA9C2E10B513 | Q29: 0101 | R29: T | S29: F | T29: F | AU29: 0101505B016424A64E5269CA9C2E10B513 | AV29: 25 | AW29: =CONCATENATE(A29," ",B29) -> 화재감지기 열감지기,차동식스포트형
A30: 화재감지기 | B30: 연기감지기,광전식2종-비축적 | C30: 개 | M30: 호표 22 | N30: 505B016424A64E5269CA9C2E10B095 | Q30: 0101 | R30: T | S30: F | T30: F | AU30: 0101505B016424A64E5269CA9C2E10B095 | AV30: 26 | AW30: =CONCATENATE(A30," ",B30) -> 화재감지기 연기감지기,광전식2종-비축적
A31: 전자사이렌 설치 | B31: DC 24V | C31: 개 | M31: 호표 25 | N31: 505B016424A64E5269CAAD250205F0 | Q31: 0101 | R31: T | S31: F | T31: F | AU31: 0101505B016424A64E5269CAAD250205F0 | AV31: 29 | AW31: =CONCATENATE(A31," ",B31) -> 전자사이렌 설치 DC 24V
A32: 자동폐쇄장치-창문형 | B32: DC-24V | C32: 개 | M32: 호표 26 | N32: 505B016424A64E5269CABF2B04DBB6 | Q32: 0101 | R32: T | S32: F | T32: F | AU32: 0101505B016424A64E5269CABF2B04DBB6 | AV32: 30 | AW32: =CONCATENATE(A32," ",B32) -> 자동폐쇄장치-창문형 DC-24V
A33: 자동폐쇄장치-방화문 | B33: DC-24V | C33: 개 | M33: 호표 27 | N33: 505B016424A64E5269CABF2B04DA98 | Q33: 0101 | R33: T | S33: F | T33: F | AU33: 0101505B016424A64E5269CABF2B04DA98 | AV33: 31 | AW33: =CONCATENATE(A33," ",B33) -> 자동폐쇄장치-방화문 DC-24V
A34: 경비실 부수신기 재결선 | B34: 지하층 2구역 철거 및 지하수신기 1구역 연동 | C34: 대 | M34: 호표 28 | N34: 505B016424A64E5269CAC822D7000C | Q34: 0101 | R34: T | S34: F | T34: F | AU34: 0101505B016424A64E5269CAC822D7000C | AV34: 32 | AW34: =CONCATENATE(A34," ",B34) -> 경비실 부수신기 재결선 지하층 2구역 철거 및 지하수신기 1구역 연동
A35: 통제실 메인수신기 재결선 | B35: 지하층 2구역 철거 및 지하수신기 1구역 연동 | C35: 대 | M35: 호표 29 | N35: 505B016424A64E5269CAC822D7000F | Q35: 0101 | R35: T | S35: F | T35: F | AU35: 0101505B016424A64E5269CAC822D7000F | AV35: 33 | AW35: =CONCATENATE(A35," ",B35) -> 통제실 메인수신기 재결선 지하층 2구역 철거 및 지하수신기 1구역 연동
A36: 걸이시설설치 | B36: 생명줄포함 | C36: 개소 | M36: 호표 31 | N36: 505B016424A64E5269CAC822D44C45 | Q36: 0101 | R36: T | S36: F | T36: F | AU36: 0101505B016424A64E5269CAC822D44C45 | AV36: 35 | AW36: =CONCATENATE(A36," ",B36) -> 걸이시설설치 생명줄포함
A37: 화재감지기 - 철거 | C37: 개 | M37: 호표 23 | N37: 505B016424A64E5269CA9C2E10B25F | Q37: 0101 | R37: T | S37: F | T37: F | AU37: 0101505B016424A64E5269CA9C2E10B25F | AV37: 27 | AW37: =CONCATENATE(A37," ",B37) -> 화재감지기 - 철거
A38: 전자싸이렌 - 철거 | C38: M | M38: 호표 24 | N38: 505B016424A64E5269CA9C2E10BC4B | Q38: 0101 | R38: T | S38: F | T38: F | AU38: 0101505B016424A64E5269CA9C2E10BC4B | AV38: 28 | AW38: =CONCATENATE(A38," ",B38) -> 전자싸이렌 - 철거
A39: 아우트렛박스 | B39: 중형4각 54㎜ | C39: 대 | M39: 호표 33 | N39: 505B016424794B996FF06424F6D40C | Q39: 0101 | R39: T | S39: F | T39: F | AU39: 0101505B016424794B996FF06424F6D40C | AV39: 37 | AW39: =CONCATENATE(A39," ",B39) -> 아우트렛박스 중형4각 54㎜
A40: 덕트관통부채움 | C40: EA | M40: 호표 20 | N40: 505B016424A64E5269CA9C2E10B510 | Q40: 0101 | R40: T | S40: F | T40: F | AU40: 0101505B016424A64E5269CA9C2E10B510 | AV40: 4 | AW40: =CONCATENATE(A40," ",B40) -> 덕트관통부채움
A41: 배관관통부채움 | C41: EA | M41: 호표 21 | N41: 505B016424A64E5269CA9C2E10B517 | Q41: 0101 | R41: T | S41: F | T41: F | AU41: 0101505B016424A64E5269CA9C2E10B517 | AV41: 5 | AW41: =CONCATENATE(A41," ",B41) -> 배관관통부채움
A42: 강관 조립말비계(이동식)설치 및 해체 | B42: 높이 4m, 3개월 | C42: 대 | M42: 호표 4 | N42: 5011B16E8E4F41386BB4A82D93F3F7 | Q42: 0101 | R42: T | S42: F | T42: F | AU42: 01015011B16E8E4F41386BB4A82D93F3F7 | AV42: 38 | AW42: =CONCATENATE(A42," ",B42) -> 강관 조립말비계(이동식)설치 및 해체 높이 4m, 3개월
A43: 방화실리콘 실란트 | B43: 300ml | C43: 개 | M43: 자재 21 | N43: 5732A16FD39B4CFA63CA662B17FC2C1E7F660A | Q43: 0101 | R43: F | S43: F | T43: T | AU43: 01015732A16FD39B4CFA63CA662B17FC2C1E7F660A | AV43: 6 | AW43: =CONCATENATE(A43," ",B43) -> 방화실리콘 실란트 300ml
A44: PVC 파이프 캡 | C44: 개 | M44: 자재 24 | N44: 5732216A746F4D936A27A42493CA481FC1D8E1 | Q44: 0101 | R44: F | S44: F | T44: T | AU44: 01015732216A746F4D936A27A42493CA481FC1D8E1 | AV44: 7 | AW44: =CONCATENATE(A44," ",B44) -> PVC 파이프 캡
A45: 화물트럭 운반비 | B45: 1TON 기준 | C45: 일 | M45: 자재 36 | N45: 5743416A3BB7490C6653CC265A7FA04F60A5B4 | Q45: 0101 | R45: F | S45: F | T45: T | AU45: 01015743416A3BB7490C6653CC265A7FA04F60A5B4 | AV45: 9 | AW45: =CONCATENATE(A45," ",B45) -> 화물트럭 운반비 1TON 기준
A46: 방화포 | C46: ROLL | M46: 자재 41 | N46: 5743416A3B4C482B60E2AF2047342E7407CDA9 | Q46: 0101 | R46: F | S46: F | T46: T | AU46: 01015743416A3B4C482B60E2AF2047342E7407CDA9 | AV46: 10 | AW46: =CONCATENATE(A46," ",B46) -> 방화포
A47: 공구손료 | B47: 노무비의 3% | C47: 식 | Q47: 0101 | AW47: =CONCATENATE(A47," ",B47) -> 공구손료 노무비의 3%
Q48: 0101 | AW48: =CONCATENATE(A48," ",B48)
Q49: 0101 | AW49: =CONCATENATE(A49," ",B49)
Q50: 0101 | AW50: =CONCATENATE(A50," ",B50)
Q51: 0101 | AW51: =CONCATENATE(A51," ",B51)
Q52: 0101 | AW52: =CONCATENATE(A52," ",B52)
Q53: 0101 | AW53: =CONCATENATE(A53," ",B53)
Q54: 0101 | AW54: =CONCATENATE(A54," ",B54)
Q55: 0101 | AW55: =CONCATENATE(A55," ",B55)
Q56: 0101 | AW56: =CONCATENATE(A56," ",B56)
Q57: 0101 | AW57: =CONCATENATE(A57," ",B57)
Q58: 0101 | AW58: =CONCATENATE(A58," ",B58)
Q59: 0101 | AW59: =CONCATENATE(A59," ",B59)
... Q62: 0101 | AW62: =CONCATENATE(A62," ",B62)
A63: [ 합 계 ] | F63: =SUMIF(Q5:Q62,"0101",F5:F62) -> 0 | H63: =SUMIF(Q5:Q62,"0101",H5:H62) -> 0 | J63: =SUMIF(Q5:Q62,"0101",J5:J62) -> 0 | L63: =SUMIF(Q5:Q62,"0101",L5:L62) -> 0 | N63: TOTAL | AW63: =CONCATENATE(A63," ",B63) -> [ 합 계 ]
A64: 0102 할로겐소화약제설비공사 | Q64: 0102 | AW64: =CONCATENATE(A64," ",B64) -> 0102 할로겐소화약제설비공사
A65: AnyFire(FK-5-1-12) 모듈러 | B65: 82.5L/90KG/2BT | C65: SET | D65: 1 | E65: =TRUNC(단가대비표!O61,0) -> 9600000 | F65: =TRUNC(E65*D65, 0) -> 9600000 | G65: =TRUNC(단가대비표!P61,0) -> 308851 | H65: =TRUNC(G65*D65, 0) -> 308851 | I65: =TRUNC(단가대비표!V61,0) -> 0 | J65: =TRUNC(I65*D65, 0) -> 0 | K65: =TRUNC(E65+G65+I65, 0) -> 9908851 | L65: =TRUNC(F65+H65+J65, 0) -> 9908851 | M65: 자재 45 | N65: 51859163152E473D6A10602155A92333E6E763 | Q65: 0102 | R65: F | S65: F | T65: T | AU65: 010251859163152E473D6A10602155A92333E6E763 | AV65: 40 | AW65: =CONCATENATE(A65," ",B65) -> AnyFire(FK-5-1-12) 모듈러 82.5L/90KG/2BT
A66: AnyFire(FK-5-1-12) 모듈러 | B66: 82.5L/80KG/2BT | C66: SET | D66: 4 | E66: =TRUNC(단가대비표!O62,0) -> 8800000 | F66: =TRUNC(E66*D66, 0) -> 35200000 | G66: =TRUNC(단가대비표!P62,0) -> 308851 | H66: =TRUNC(G66*D66, 0) -> 1235404 | I66: =TRUNC(단가대비표!V62,0) -> 0 | J66: =TRUNC(I66*D66, 0) -> 0 | K66: =TRUNC(E66+G66+I66, 0) -> 9108851 | L66: =TRUNC(F66+H66+J66, 0) -> 36435404 | M66: 자재 46 | N66: 51859163152E473D6A10602155A92333E6E762 | Q66: 0102 | R66: F | S66: F | T66: T | AU66: 010251859163152E473D6A10602155A92333E6E762 | AV66: 41 | AW66: =CONCATENATE(A66," ",B66) -> AnyFire(FK-5-1-12) 모듈러 82.5L/80KG/2BT
A67: AnyFire(FK-5-1-12) 모듈러 | B67: 82.5L/70KG/2BT | C67: SET | D67: 1 | E67: =TRUNC(단가대비표!O63,0) -> 8000000 | F67: =TRUNC(E67*D67, 0) -> 8000000 | G67: =TRUNC(단가대비표!P63,0) -> 308851 | H67: =TRUNC(G67*D67, 0) -> 308851 | I67: =TRUNC(단가대비표!V63,0) -> 0 | J67: =TRUNC(I67*D67, 0) -> 0 | K67: =TRUNC(E67+G67+I67, 0) -> 8308851 | L67: =TRUNC(F67+H67+J67, 0) -> 8308851 | M67: 자재 47 | N67: 51859163152E473D6A10602155A92333E6E761 | Q67: 0102 | R67: F | S67: F | T67: T | AU67: 010251859163152E473D6A10602155A92333E6E761 | AV67: 42 | AW67: =CONCATENATE(A67," ",B67) -> AnyFire(FK-5-1-12) 모듈러 82.5L/70KG/2BT
A68: AnyFire(FK-5-1-12) 모듈러 | B68: 82.5L/70KG/1BT | C68: SET | D68: 1 | E68: =TRUNC(단가대비표!O64,0) -> 4400000 | F68: =TRUNC(E68*D68, 0) -> 4400000 | G68: =TRUNC(단가대비표!P64,0) -> 154426 | H68: =TRUNC(G68*D68, 0) -> 154426 | I68: =TRUNC(단가대비표!V64,0) -> 0 | J68: =TRUNC(I68*D68, 0) -> 0 | K68: =TRUNC(E68+G68+I68, 0) -> 4554426 | L68: =TRUNC(F68+H68+J68, 0) -> 4554426 | M68: 자재 48 | N68: 51859163152E473D6A10602155A92333E6E760 | Q68: 0102 | R68: F | S68: F | T68: T | AU68: 010251859163152E473D6A10602155A92333E6E760 | AV68: 43 | AW68: =CONCATENATE(A68," ",B68) -> AnyFire(FK-5-1-12) 모듈러 82.5L/70KG/1BT
A69: AnyFire(FK-5-1-12) 모듈러 | B69: 82.5L/60KG/1BT | C69: SET | D69: 2 | E69: =TRUNC(단가대비표!O65,0) -> 4000000 | F69: =TRUNC(E69*D69, 0) -> 8000000 | G69: =TRUNC(단가대비표!P65,0) -> 154426 | H69: =TRUNC(G69*D69, 0) -> 308852 | I69: =TRUNC(단가대비표!V65,0) -> 0 | J69: =TRUNC(I69*D69, 0) -> 0 | K69: =TRUNC(E69+G69+I69, 0) -> 4154426 | L69: =TRUNC(F69+H69+J69, 0) -> 8308852 | M69: 자재 49 | N69: 51859163152E473D6A10602155A92333E6E76F | Q69: 0102 | R69: F | S69: F | T69: T | AU69: 010251859163152E473D6A10602155A92333E6E76F | AV69: 44 | AW69: =CONCATENATE(A69," ",B69) -> AnyFire(FK-5-1-12) 모듈러 82.5L/60KG/1BT
A70: 솔레노이드밸브 | B70: DC-24V | C70: EA | D70: 6 | E70: =TRUNC(단가대비표!O66,0) -> 150000 | F70: =TRUNC(E70*D70, 0) -> 900000 | G70: =TRUNC(단가대비표!P66,0) -> 0 | H70: =TRUNC(G70*D70, 0) -> 0 | I70: =TRUNC(단가대비표!V66,0) -> 0 | J70: =TRUNC(I70*D70, 0) -> 0 | K70: =TRUNC(E70+G70+I70, 0) -> 150000 | L70: =TRUNC(F70+H70+J70, 0) -> 900000 | M70: 자재 50 | N70: 51859163152E473D6A10602155A92333E6E76E | Q70: 0102 | R70: F | S70: F | T70: T | AU70: 010251859163152E473D6A10602155A92333E6E76E | AV70: 45 | AW70: =CONCATENATE(A70," ",B70) -> 솔레노이드밸브 DC-24V
A71: 니들밸브 | B71: 6A | C71: EA | D71: 9 | E71: =TRUNC(단가대비표!O67,0) -> 50000 | F71: =TRUNC(E71*D71, 0) -> 450000 | G71: =TRUNC(단가대비표!P67,0) -> 0 | H71: =TRUNC(G71*D71, 0) -> 0 | I71: =TRUNC(단가대비표!V67,0) -> 0 | J71: =TRUNC(I71*D71, 0) -> 0 | K71: =TRUNC(E71+G71+I71, 0) -> 50000 | L71: =TRUNC(F71+H71+J71, 0) -> 450000 | M71: 자재 51 | N71: 51859163152E473D6A10602155A92333E6E641 | Q71: 0102 | R71: F | S71: F | T71: T | AU71: 010251859163152E473D6A10602155A92333E6E641 | AV71: 46 | AW71: =CONCATENATE(A71," ",B71) -> 니들밸브 6A
A72: 내진가대(기본형) | B72: 모듈러 -2BT | C72: EA | D72: 6 | E72: =TRUNC(단가대비표!O68,0) -> 850000 | F72: =TRUNC(E72*D72, 0) -> 5100000 | G72: =TRUNC(단가대비표!P68,0) -> 256546 | H72: =TRUNC(G72*D72, 0) -> 1539276 | I72: =TRUNC(단가대비표!V68,0) -> 0 | J72: =TRUNC(I72*D72, 0) -> 0 | K72: =TRUNC(E72+G72+I72, 0) -> 1106546 | L72: =TRUNC(F72+H72+J72, 0) -> 6639276 | M72: 자재 52 | N72: 51859163152E473D6A10602155A92333E6E640 | Q72: 0102 | R72: F | S72: F | T72: T | AU72: 010251859163152E473D6A10602155A92333E6E640 | AV72: 47 | AW72: =CONCATENATE(A72," ",B72) -> 내진가대(기본형) 모듈러 -2BT
A73: 내진가대(기본형) | B73: 모듈러 -1BT | C73: EA | D73: 3 | E73: =TRUNC(단가대비표!O69,0) -> 750000 | F73: =TRUNC(E73*D73, 0) -> 2250000 | G73: =TRUNC(단가대비표!P69,0) -> 256546 | H73: =TRUNC(G73*D73, 0) -> 769638 | I73: =TRUNC(단가대비표!V69,0) -> 0 | J73: =TRUNC(I73*D73, 0) -> 0 | K73: =TRUNC(E73+G73+I73, 0) -> 1006546 | L73: =TRUNC(F73+H73+J73, 0) -> 3019638 | M73: 자재 53 | N73: 51859163152E473D6A10602155A92333E6E643 | Q73: 0102 | R73: F | S73: F | T73: T | AU73: 010251859163152E473D6A10602155A92333E6E643 | AV73: 48 | AW73: =CONCATENATE(A73," ",B73) -> 내진가대(기본형) 모듈러 -1BT
A74: FK-5-1-12 Nozzle(360˚) | B74: 50A | C74: EA | D74: 3 | E74: =TRUNC(단가대비표!O70,0) -> 65000 | F74: =TRUNC(E74*D74, 0) -> 195000 | G74: =TRUNC(단가대비표!P70,0) -> 52306 | H74: =TRUNC(G74*D74, 0) -> 156918 | I74: =TRUNC(단가대비표!V70,0) -> 0 | J74: =TRUNC(I74*D74, 0) -> 0 | K74: =TRUNC(E74+G74+I74, 0) -> 117306 | L74: =TRUNC(F74+H74+J74, 0) -> 351918 | M74: 자재 54 | N74: 51859163152E473D6A10602155A92333E6E642 | Q74: 0102 | R74: F | S74: F | T74: T | AU74: 010251859163152E473D6A10602155A92333E6E642 | AV74: 49 | AW74: =CONCATENATE(A74," ",B74) -> FK-5-1-12 Nozzle(360˚) 50A
A75: FK-5-1-12 Nozzle(180˚) | B75: 50A | C75: EA | D75: 3 | E75: =TRUNC(단가대비표!O71,0) -> 65000 | F75: =TRUNC(E75*D75, 0) -> 195000 | G75: =TRUNC(단가대비표!P71,0) -> 52306 | H75: =TRUNC(G75*D75, 0) -> 156918 | I75: =TRUNC(단가대비표!V71,0) -> 0 | J75: =TRUNC(I75*D75, 0) -> 0 | K75: =TRUNC(E75+G75+I75, 0) -> 117306 | L75: =TRUNC(F75+H75+J75, 0) -> 351918 | M75: 자재 55 | N75: 51859163152E473D6A10602155A92333E6E645 | Q75: 0102 | R75: F | S75: F | T75: T | AU75: 010251859163152E473D6A10602155A92333E6E645 | AV75: 50 | AW75: =CONCATENATE(A75," ",B75) -> FK-5-1-12 Nozzle(180˚) 50A
A76: FK-5-1-12 Nozzle(360˚) | B76: 40A | C76: EA | D76: 1 | E76: =TRUNC(단가대비표!O72,0) -> 52000 | F76: =TRUNC(E76*D76, 0) -> 52000 | G76: =TRUNC(단가대비표!P72,0) -> 52306 | H76: =TRUNC(G76*D76, 0) -> 52306 | I76: =TRUNC(단가대비표!V72,0) -> 0 | J76: =TRUNC(I76*D76, 0) -> 0 | K76: =TRUNC(E76+G76+I76, 0) -> 104306 | L76: =TRUNC(F76+H76+J76, 0) -> 104306 | M76: 자재 56 | N76: 51859163152E473D6A10602155A92333E6E644 | Q76: 0102 | R76: F | S76: F | T76: T | AU76: 010251859163152E473D6A10602155A92333E6E644 | AV76: 51 | AW76: =CONCATENATE(A76," ",B76) -> FK-5-1-12 Nozzle(360˚) 40A
... A135: 소공간 공구손료 | B135: 노무비의 3% | C135: 식 | D135: 1 | E135: =TRUNC(단가대비표!O131,0) -> 16567 | F135: =TRUNC(E135*D135, 0) -> 16567 | G135: =TRUNC(단가대비표!P131,0) -> 0 | H135: =TRUNC(G135*D135, 0) -> 0 | I135: =TRUNC(단가대비표!V131,0) -> 0 | J135: =TRUNC(I135*D135, 0) -> 0 | K135: =TRUNC(E135+G135+I135, 0) -> 16567 | L135: =TRUNC(F135+H135+J135, 0) -> 16567 | M135: 자재 115 | N135: 51859163152E473D6A10602155A92333E6E03E | Q135: 0102 | R135: F | S135: F | T135: T | AU135: 010251859163152E473D6A10602155A92333E6E03E | AV135: 110 | AW135: =CONCATENATE(A135," ",B135) -> 소공간 공구손료 노무비의 3%
Q136: 0102 | AW136: =CONCATENATE(A136," ",B136)
Q137: 0102 | AW137: =CONCATENATE(A137," ",B137)
Q138: 0102 | AW138: =CONCATENATE(A138," ",B138)
Q139: 0102 | AW139: =CONCATENATE(A139," ",B139)
Q140: 0102 | AW140: =CONCATENATE(A140," ",B140)
A141: [ 합 계 ] | F141: =SUMIF(Q65:Q140,"0102",F65:F140) -> 89756813 | H141: =SUMIF(Q65:Q140,"0102",H65:H140) -> 29694742 | J141: =SUMIF(Q65:Q140,"0102",J65:J140) -> 0 | L141: =SUMIF(Q65:Q140,"0102",L65:L140) -> 119451555 | N141: TOTAL | AW141: =CONCATENATE(A141," ",B141) -> [ 합 계 ]
A142: 0103 철거공사 | Q142: 0103 | AW142: =CONCATENATE(A142," ",B142) -> 0103 철거공사
A143: CO2실린더 철거 | B143: 68L/45KG | C143: BTL | D143: 37 | E143: =TRUNC(단가대비표!O132,0) -> 0 | F143: =TRUNC(E143*D143, 0) -> 0 | G143: =TRUNC(단가대비표!P132,0) -> 77212 | H143: =TRUNC(G143*D143, 0) -> 2856844 | I143: =TRUNC(단가대비표!V132,0) -> 0 | J143: =TRUNC(I143*D143, 0) -> 0 | K143: =TRUNC(E143+G143+I143, 0) -> 77212 | L143: =TRUNC(F143+H143+J143, 0) -> 2856844 | M143: 자재 116 | N143: 51859163152E473D6A10602155A92333E6E030 | Q143: 0103 | R143: F | S143: F | T143: T | AU143: 010351859163152E473D6A10602155A92333E6E030 | AV143: 112 | AW143: =CONCATENATE(A143," ",B143) -> CO2실린더 철거 68L/45KG
A144: 선택밸브 철거 | B144: 80A | C144: 개소 | D144: 2 | E144: =TRUNC(단가대비표!O133,0) -> 0 | F144: =TRUNC(E144*D144, 0) -> 0 | G144: =TRUNC(단가대비표!P133,0) -> 154425 | H144: =TRUNC(G144*D144, 0) -> 308850 | I144: =TRUNC(단가대비표!V133,0) -> 0 | J144: =TRUNC(I144*D144, 0) -> 0 | K144: =TRUNC(E144+G144+I144, 0) -> 154425 | L144: =TRUNC(F144+H144+J144, 0) -> 308850 | M144: 자재 117 | N144: 51859163152E473D6A10602155A92333E6E031 | Q144: 0103 | R144: F | S144: F | T144: T | AU144: 010351859163152E473D6A10602155A92333E6E031 | AV144: 113 | AW144: =CONCATENATE(A144," ",B144) -> 선택밸브 철거 80A
A145: 기동용기함 철거 | B145: 0 | C145: 개소 | D145: 5 | E145: =TRUNC(단가대비표!O134,0) -> 0 | F145: =TRUNC(E145*D145, 0) -> 0 | G145: =TRUNC(단가대비표!P134,0) -> 77212 | H145: =TRUNC(G145*D145, 0) -> 386060 | I145: =TRUNC(단가대비표!V134,0) -> 0 | J145: =TRUNC(I145*D145, 0) -> 0 | K145: =TRUNC(E145+G145+I145, 0) -> 77212 | L145: =TRUNC(F145+H145+J145, 0) -> 386060 | M145: 자재 118 | N145: 51859163152E473D6A10602155A92333E6EFBD | Q145: 0103 | R145: F | S145: F | T145: T | AU145: 010351859163152E473D6A10602155A92333E6EFBD | AV145: 114 | AW145: =CONCATENATE(A145," ",B145) -> 기동용기함 철거 0
A146: SCH80 PIPE 철거 | B146: 80A | C146: M | D146: 32 | E146: =TRUNC(단가대비표!O135,0) -> 0 | F146: =TRUNC(E146*D146, 0) -> 0 | G146: =TRUNC(단가대비표!P135,0) -> 24332 | H146: =TRUNC(G146*D146, 0) -> 778624 | I146: =TRUNC(단가대비표!V135,0) -> 0 | J146: =TRUNC(I146*D146, 0) -> 0 | K146: =TRUNC(E146+G146+I146, 0) -> 24332 | L146: =TRUNC(F146+H146+J146, 0) -> 778624 | M146: 자재 119 | N146: 51859163152E473D6A10602155A92333E6EFBC | Q146: 0103 | R146: F | S146: F | T146: T | AU146: 010351859163152E473D6A10602155A92333E6EFBC | AV146: 115 | AW146: =CONCATENATE(A146," ",B146) -> SCH80 PIPE 철거 80A
A147: SCH80 PIPE 철거 | B147: 65A | C147: M | D147: 36 | E147: =TRUNC(단가대비표!O136,0) -> 0 | F147: =TRUNC(E147*D147, 0) -> 0 | G147: =TRUNC(단가대비표!P136,0) -> 19210 | H147: =TRUNC(G147*D147, 0) -> 691560 | I147: =TRUNC(단가대비표!V136,0) -> 0 | J147: =TRUNC(I147*D147, 0) -> 0 | K147: =TRUNC(E147+G147+I147, 0) -> 19210 | L147: =TRUNC(F147+H147+J147, 0) -> 691560 | M147: 자재 120 | N147: 51859163152E473D6A10602155A92333E6EFBF | Q147: 0103 | R147: F | S147: F | T147: T | AU147: 010351859163152E473D6A10602155A92333E6EFBF | AV147: 116 | AW147: =CONCATENATE(A147," ",B147) -> SCH80 PIPE 철거 65A
A148: SCH80 PIPE 철거 | B148: 40A | C148: M | D148: 22 | E148: =TRUNC(단가대비표!O137,0) -> 0 | F148: =TRUNC(E148*D148, 0) -> 0 | G148: =TRUNC(단가대비표!P137,0) -> 12877 | H148: =TRUNC(G148*D148, 0) -> 283294 | I148: =TRUNC(단가대비표!V137,0) -> 0 | J148: =TRUNC(I148*D148, 0) -> 0 | K148: =TRUNC(E148+G148+I148, 0) -> 12877 | L148: =TRUNC(F148+H148+J148, 0) -> 283294 | M148: 자재 121 | N148: 51859163152E473D6A10602155A92333E6EFBE | Q148: 0103 | R148: F | S148: F | T148: T | AU148: 010351859163152E473D6A10602155A92333E6EFBE | AV148: 117 | AW148: =CONCATENATE(A148," ",B148) -> SCH80 PIPE 철거 40A
A149: SCH80 PIPE 철거 | B149: 32A | C149: M | D149: 11 | E149: =TRUNC(단가대비표!O138,0) -> 0 | F149: =TRUNC(E149*D149, 0) -> 0 | G149: =TRUNC(단가대비표!P138,0) -> 11665 | H149: =TRUNC(G149*D149, 0) -> 128315 | I149: =TRUNC(단가대비표!V138,0) -> 0 | J149: =TRUNC(I149*D149, 0) -> 0 | K149: =TRUNC(E149+G149+I149, 0) -> 11665 | L149: =TRUNC(F149+H149+J149, 0) -> 128315 | M149: 자재 122 | N149: 51859163152E473D6A10602155A92333E6EFB9 | Q149: 0103 | R149: F | S149: F | T149: T | AU149: 010351859163152E473D6A10602155A92333E6EFB9 | AV149: 118 | AW149: =CONCATENATE(A149," ",B149) -> SCH80 PIPE 철거 32A
A150: SCH80 PIPE 철거 | B150: 25A | C150: M | D150: 20 | E150: =TRUNC(단가대비표!O139,0) -> 0 | F150: =TRUNC(E150*D150, 0) -> 0 | G150: =TRUNC(단가대비표!P139,0) -> 10013 | H150: =TRUNC(G150*D150, 0) -> 200260 | I150: =TRUNC(단가대비표!V139,0) -> 0 | J150: =TRUNC(I150*D150, 0) -> 0 | K150: =TRUNC(E150+G150+I150, 0) -> 10013 | L150: =TRUNC(F150+H150+J150, 0) -> 200260 | M150: 자재 123 | N150: 51859163152E473D6A10602155A92333E6EFB8 | Q150: 0103 | R150: F | S150: F | T150: T | AU150: 010351859163152E473D6A10602155A92333E6EFB8 | AV150: 119 | AW150: =CONCATENATE(A150," ",B150) -> SCH80 PIPE 철거 25A
A151: CO2 노즐 철거 | B151: 25A | C151: EA | D151: 11 | E151: =TRUNC(단가대비표!O140,0) -> 0 | F151: =TRUNC(E151*D151, 0) -> 0 | G151: =TRUNC(단가대비표!P140,0) -> 26152 | H151: =TRUNC(G151*D151, 0) -> 287672 | I151: =TRUNC(단가대비표!V140,0) -> 0 | J151: =TRUNC(I151*D151, 0) -> 0 | K151: =TRUNC(E151+G151+I151, 0) -> 26152 | L151: =TRUNC(F151+H151+J151, 0) -> 287672 | M151: 자재 124 | N151: 51859163152E473D6A10602155A92333E6EFBB | Q151: 0103 | R151: F | S151: F | T151: T | AU151: 010351859163152E473D6A10602155A92333E6EFBB | AV151: 120 | AW151: =CONCATENATE(A151," ",B151) -> CO2 노즐 철거 25A
A152: 철거 공구손료 | B152: 노무비의 3% | C152: 식 | D152: 1 | E152: =TRUNC(단가대비표!O141,0) -> 177644 | F152: =TRUNC(E152*D152, 0) -> 177644 | G152: =TRUNC(단가대비표!P141,0) -> 0 | H152: =TRUNC(G152*D152, 0) -> 0 | I152: =TRUNC(단가대비표!V141,0) -> 0 | J152: =TRUNC(I152*D152, 0) -> 0 | K152: =TRUNC(E152+G152+I152, 0) -> 177644 | L152: =TRUNC(F152+H152+J152, 0) -> 177644 | M152: 자재 125 | N152: 51859163152E473D6A10602155A92333E6EFBA | Q152: 0103 | R152: F | S152: F | T152: T | AU152: 010351859163152E473D6A10602155A92333E6EFBA | AV152: 121 | AW152: =CONCATENATE(A152," ",B152) -> 철거 공구손료 노무비의 3%
Q153: 0103 | AW153: =CONCATENATE(A153," ",B153)
Q154: 0103 | AW154: =CONCATENATE(A154," ",B154)
Q155: 0103 | AW155: =CONCATENATE(A155," ",B155)
Q156: 0103 | AW156: =CONCATENATE(A156," ",B156)
Q157: 0103 | AW157: =CONCATENATE(A157," ",B157)
Q158: 0103 | AW158: =CONCATENATE(A158," ",B158)
Q159: 0103 | AW159: =CONCATENATE(A159," ",B159)
Q160: 0103 | AW160: =CONCATENATE(A160," ",B160)
Q161: 0103 | AW161: =CONCATENATE(A161," ",B161)
Q162: 0103 | AW162: =CONCATENATE(A162," ",B162)
Q163: 0103 | AW163: =CONCATENATE(A163," ",B163)
Q164: 0103 | AW164: =CONCATENATE(A164," ",B164)
... Q166: 0103 | AW166: =CONCATENATE(A166," ",B166)
A167: [ 합 계 ] | F167: =SUMIF(Q143:Q166,"0103",F143:F166) -> 177644 | H167: =SUMIF(Q143:Q166,"0103",H143:H166) -> 5921479 | J167: =SUMIF(Q143:Q166,"0103",J143:J166) -> 0 | L167: =SUMIF(Q143:Q166,"0103",L143:L166) -> 6099123 | N167: TOTAL | AW167: =CONCATENATE(A167," ",B167) -> [ 합 계 ]

Sheet 공종별내역서(할로겐)
A1: ='공종별내역서(소방전기)'!A1 -> [ 사옥 이산화탄소 소화설비 교체공사 ]
A2: 품 명 | B2: 규 격 | C2: 단위 | D2: 수량 | E2: 재 료 비 | G2: 노 무 비 | I2: 경 비 | K2: 합 계 | M2: 비 고 | N2: 품목코드 | O2: 변수 | P2: 설정 | Q2: 공종코드 | R2: 일위 | S2: 단산 | T2: 자재 | U2: 손료적용 | V2: 손료저장 | W2: 적용율 | X2: JUK1 | Y2: JUK2 | Z2: JUK3 | AA2: JUK4 | AB2: JUK5 | AC2: JUK6 | AD2: JUK7 | AE2: JUK8 | AF2: JUK9 | AG2: JUK10 | AH2: JUK11 | AI2: JUK12 | AJ2: JUK13 | AK2: JUK14 | AL2: JUK15 | AM2: JUK16 | AN2: JUK17 | AO2: JUK18 | AP2: JUK19 | AQ2: JUK20 | AR2: 자재구분 | AS2: 공종구분 | AT2: 공종레벨 | AU2: 공종+자재 | AV2: 고유번호
E3: 단 가 | F3: 금 액 | G3: 단 가 | H3: 금 액 | I3: 단 가 | J3: 금 액 | K3: 단 가 | L3: 금 액
A4: 0101 소방전기설비공사 | Q4: 0101
A5: 450/75OV 저독성난연가교폴리올레핀절연전선(HFIX) | B5: 1.38㎜ | C5: m | D5: 40 | E5: =TRUNC(일위대가목록!E18,0) -> 0 | F5: =TRUNC(E5*D5, 0) -> 0 | G5: =TRUNC(일위대가목록!F18,0) -> 0 | H5: =TRUNC(G5*D5, 0) -> 0 | I5: =TRUNC(일위대가목록!G18,0) -> 0 | J5: =TRUNC(I5*D5, 0) -> 0 | K5: =TRUNC(E5+G5+I5, 0) -> 0 | L5: =TRUNC(F5+H5+J5, 0) -> 0 | M5: 호표 15 | N5: 505B01641A59413E6CB4C82253D1D6 | Q5: 0101 | R5: T | S5: F | T5: F | AU5: 0101505B01641A59413E6CB4C82253D1D6 | AV5: 21 | AW5: =CONCATENATE(A5," ",B5) -> 450/75OV 저독성난연가교폴리올레핀절연전선(HFIX) 1.38㎜
A6: 450/75OV 저독성난연가교폴리올레핀절연전선(HFIX) | B6: HFIX, 1.38㎜ (할증분 10%) | C6: m | D6: =ROUNDDOWN(D5*0.1,0) -> 4 | E6: =TRUNC(일위대가목록!E18,0) -> 0 | F6: =TRUNC(E6*D6, 0) -> 0 | G6: =TRUNC(일위대가목록!F19,0) -> 0 | H6: =TRUNC(G6*D6, 0) -> 0 | I6: =TRUNC(일위대가목록!G19,0) -> 0 | J6: =TRUNC(I6*D6, 0) -> 0 | K6: =TRUNC(E6+G6+I6, 0) -> 0 | L6: =TRUNC(F6+H6+J6, 0) -> 0 | M6: 호표 15 | N6: 505B01641A59413E6CB4C82253D1D6 | Q6: 0101 | R6: T | S6: F | T6: F | AU6: 0101505B01641A59413E6CB4C82253D1D6 | AV6: 21 | AW6: =CONCATENATE(A6," ",B6) -> 450/75OV 저독성난연가교폴리올레핀절연전선(HFIX) HFIX, 1.38㎜ (할증분 10%)
A7: 450/75OV 저독성난연가교폴리올레핀절연전선(HFIX) | B7: 1.78㎜ | C7: m | D7: 2548 | E7: =TRUNC(일위대가목록!E19,0) -> 0 | F7: =TRUNC(E7*D7, 0) -> 0 | G7: =TRUNC(일위대가목록!F18,0) -> 0 | H7: =TRUNC(G7*D7, 0) -> 0 | I7: =TRUNC(일위대가목록!G18,0) -> 0 | J7: =TRUNC(I7*D7, 0) -> 0 | K7: =TRUNC(E7+G7+I7, 0) -> 0 | L7: =TRUNC(F7+H7+J7, 0) -> 0 | M7: 호표 16 | N7: 505B01641A59413E6CB4C82253D2FF | Q7: 0101 | R7: T | S7: F | T7: F | AU7: 0101505B01641A59413E6CB4C82253D2FF | AV7: 22 | AW7: =CONCATENATE(A7," ",B7) -> 450/75OV 저독성난연가교폴리올레핀절연전선(HFIX) 1.78㎜
A8: 450/75OV 저독성난연가교폴리올레핀절연전선(HFIX) | B8: HFIX, 1.78㎜(할증분 10%) | C8: m | D8: =ROUNDDOWN(D7*0.1,0) -> 254 | E8: =TRUNC(일위대가목록!E19,0) -> 0 | F8: =TRUNC(E8*D8, 0) -> 0 | G8: =TRUNC(일위대가목록!F19,0) -> 0 | H8: =TRUNC(G8*D8, 0) -> 0 | I8: =TRUNC(일위대가목록!G19,0) -> 0 | J8: =TRUNC(I8*D8, 0) -> 0 | K8: =TRUNC(E8+G8+I8, 0) -> 0 | L8: =TRUNC(F8+H8+J8, 0) -> 0 | M8: 호표 16 | N8: 505B01641A59413E6CB4C82253D2FF | Q8: 0101 | R8: T | S8: F | T8: F | AU8: 0101505B01641A59413E6CB4C82253D2FF | AV8: 22 | AW8: =CONCATENATE(A8," ",B8) -> 450/75OV 저독성난연가교폴리올레핀절연전선(HFIX) HFIX, 1.78㎜(할증분 10%)
A9: 0.6/1kV 내화 케이블 (F-FR-8) | B9: 3C 2.5㎟ | C9: m | D9: 10 | E9: =TRUNC(일위대가목록!E20,0) -> 0 | F9: =TRUNC(E9*D9, 0) -> 0 | G9: =TRUNC(일위대가목록!F20,0) -> 0 | H9: =TRUNC(G9*D9, 0) -> 0 | I9: =TRUNC(일위대가목록!G20,0) -> 0 | J9: =TRUNC(I9*D9, 0) -> 0 | K9: =TRUNC(E9+G9+I9, 0) -> 0 | L9: =TRUNC(F9+H9+J9, 0) -> 0 | M9: 호표 17 | N9: 505B01641A484BD16D60AB21A7ADF0 | Q9: 0101 | R9: T | S9: F | T9: F | AU9: 0101505B01641A484BD16D60AB21A7ADF0 | AV9: 23 | AW9: =CONCATENATE(A9," ",B9) -> 0.6/1kV 내화 케이블 (F-FR-8) 3C 2.5㎟
A10: 0.6/1kV 내화 케이블 (F-FR-8) | B10: 3C*2.5㎟ (할증분 5%) | C10: m | D10: =ROUNDDOWN(D9*0.1,0) -> 1 | E10: =TRUNC(일위대가목록!E20,0) -> 0 | F10: =TRUNC(E10*D10, 0) -> 0 | G10: =TRUNC(일위대가목록!F20,0) -> 0 | H10: =TRUNC(G10*D10, 0) -> 0 | I10: =TRUNC(일위대가목록!G21,0) -> 0 | J10: =TRUNC(I10*D10, 0) -> 0 | K10: =TRUNC(E10+G10+I10, 0) -> 0 | L10: =TRUNC(F10+H10+J10, 0) -> 0 | M10: 호표 17 | N10: 505B01641A484BD16D60AB21A7ADF0 | Q10: 0101 | R10: T | S10: F | T10: F | AU10: 0101505B01641A484BD16D60AB21A7ADF0 | AV10: 23 | AW10: =CONCATENATE(A10," ",B10) -> 0.6/1kV 내화 케이블 (F-FR-8) 3C*2.5㎟ (할증분 5%)
A11: 강제 전선관 | B11: 아연도 16 mm | C11: M | D11: 66 | E11: =TRUNC(일위대가목록!E11,0) -> 0 | F11: =TRUNC(E11*D11, 0) -> 0 | G11: =TRUNC(일위대가목록!F11,0) -> 0 | H11: =TRUNC(G11*D11, 0) -> 0 | I11: =TRUNC(일위대가목록!G11,0) -> 0 | J11: =TRUNC(I11*D11, 0) -> 0 | K11: =TRUNC(E11+G11+I11, 0) -> 0 | L11: =TRUNC(F11+H11+J11, 0) -> 0 | M11: 호표 8 | N11: 505B01641A6B48CC6AE99620450FAC | Q11: 0101 | R11: T | S11: F | T11: F | AU11: 0101505B01641A6B48CC6AE99620450FAC | AV11: 14 | AW11: =CONCATENATE(A11," ",B11) -> 강제 전선관 아연도 16 mm
A12: 강제 전선관 | B12: 아연도 16 mm(할증분 10%) | C12: M | D12: =ROUNDDOWN(D11*0.1,0) -> 6 | E12: =TRUNC(일위대가목록!E11,0) -> 0 | F12: =TRUNC(E12*D12, 0) -> 0 | G12: =TRUNC(일위대가목록!F11,0) -> 0 | H12: =TRUNC(G12*D12, 0) -> 0 | I12: =TRUNC(일위대가목록!G12,0) -> 0 | J12: =TRUNC(I12*D12, 0) -> 0 | K12: =TRUNC(E12+G12+I12, 0) -> 0 | L12: =TRUNC(F12+H12+J12, 0) -> 0 | M12: 호표 8 | N12: 505B01641A6B48CC6AE99620450FAC | Q12: 0101 | R12: T | S12: F | T12: F | AU12: 0101505B01641A6B48CC6AE99620450FAC | AV12: 14 | AW12: =CONCATENATE(A12," ",B12) -> 강제 전선관 아연도 16 mm(할증분 10%)
A13: 강제 전선관 | B13: 아연도 22 mm | C13: M | D13: 259 | E13: =TRUNC(일위대가목록!E12,0) -> 0 | F13: =TRUNC(E13*D13, 0) -> 0 | G13: =TRUNC(일위대가목록!F12,0) -> 0 | H13: =TRUNC(G13*D13, 0) -> 0 | I13: =TRUNC(일위대가목록!G11,0) -> 0 | J13: =TRUNC(I13*D13, 0) -> 0 | K13: =TRUNC(E13+G13+I13, 0) -> 0 | L13: =TRUNC(F13+H13+J13, 0) -> 0 | M13: 호표 9 | N13: 505B01641A6B48CC6AE99620450CD7 | Q13: 0101 | R13: T | S13: F | T13: F | AU13: 0101505B01641A6B48CC6AE99620450CD7 | AV13: 15 | AW13: =CONCATENATE(A13," ",B13) -> 강제 전선관 아연도 22 mm
A14: 강제 전선관 | B14: 아연도 22 mm(할증분 10%) | C14: M | D14: =ROUNDDOWN(D13*0.1,0) -> 25 | E14: =TRUNC(일위대가목록!E12,0) -> 0 | F14: =TRUNC(E14*D14, 0) -> 0 | G14: =TRUNC(일위대가목록!F12,0) -> 0 | H14: =TRUNC(G14*D14, 0) -> 0 | I14: =TRUNC(일위대가목록!G12,0) -> 0 | J14: =TRUNC(I14*D14, 0) -> 0 | K14: =TRUNC(E14+G14+I14, 0) -> 0 | L14: =TRUNC(F14+H14+J14, 0) -> 0 | M14: 호표 9 | N14: 505B01641A6B48CC6AE99620450CD7 | Q14: 0101 | R14: T | S14: F | T14: F | AU14: 0101505B01641A6B48CC6AE99620450CD7 | AV14: 15 | AW14: =CONCATENATE(A14," ",B14) -> 강제 전선관 아연도 22 mm(할증분 10%)
A15: 강제 전선관 | B15: 아연도 28 mm | C15: M | D15: 131 | E15: =TRUNC(일위대가목록!E13,0) -> 0 | F15: =TRUNC(E15*D15, 0) -> 0 | G15: =TRUNC(일위대가목록!F13,0) -> 0 | H15: =TRUNC(G15*D15, 0) -> 0 | I15: =TRUNC(일위대가목록!G13,0) -> 0 | J15: =TRUNC(I15*D15, 0) -> 0 | K15: =TRUNC(E15+G15+I15, 0) -> 0 | L15: =TRUNC(F15+H15+J15, 0) -> 0 | M15: 호표 10 | N15: 505B01641A6B48CC6AE99620450DFE | Q15: 0101 | R15: T | S15: F | T15: F | AU15: 0101505B01641A6B48CC6AE99620450DFE | AV15: 16 | AW15: =CONCATENATE(A15," ",B15) -> 강제 전선관 아연도 28 mm
A16: 강제 전선관 | B16: 아연도 28 mm(할증분 10%) | C16: M | D16: =ROUNDDOWN(D15*0.1,0) -> 13 | E16: =TRUNC(일위대가목록!E13,0) -> 0 | F16: =TRUNC(E16*D16, 0) -> 0 | G16: =TRUNC(일위대가목록!F13,0) -> 0 | H16: =TRUNC(G16*D16, 0) -> 0 | I16: =TRUNC(일위대가목록!G14,0) -> 0 | J16: =TRUNC(I16*D16, 0) -> 0 | K16: =TRUNC(E16+G16+I16, 0) -> 0 | L16: =TRUNC(F16+H16+J16, 0) -> 0 | M16: 호표 10 | N16: 505B01641A6B48CC6AE99620450DFE | Q16: 0101 | R16: T | S16: F | T16: F | AU16: 0101505B01641A6B48CC6AE99620450DFE | AV16: 16 | AW16: =CONCATENATE(A16," ",B16) -> 강제 전선관 아연도 28 mm(할증분 10%)
A17: 1종금속제가요전선관 | B17: 16 mm 비방수 | C17: M | D17: 10 | E17: =TRUNC(일위대가목록!E14,0) -> 0 | F17: =TRUNC(E17*D17, 0) -> 0 | G17: =TRUNC(일위대가목록!F14,0) -> 0 | H17: =TRUNC(G17*D17, 0) -> 0 | I17: =TRUNC(일위대가목록!G14,0) -> 0 | J17: =TRUNC(I17*D17, 0) -> 0 | K17: =TRUNC(E17+G17+I17, 0) -> 0 | L17: =TRUNC(F17+H17+J17, 0) -> 0 | M17: 호표 11 | N17: 505B01641A6B48CD6B5886243C171B | Q17: 0101 | R17: T | S17: F | T17: F | AU17: 0101505B01641A6B48CD6B5886243C171B | AV17: 17 | AW17: =CONCATENATE(A17," ",B17) -> 1종금속제가요전선관 16 mm 비방수
A18: 1종금속제가요전선관 | B18: 16 mm 비방수(할증분 10%) | C18: M | D18: =ROUNDDOWN(D17*0.1,0) -> 1 | E18: =TRUNC(일위대가목록!E14,0) -> 0 | F18: =TRUNC(E18*D18, 0) -> 0 | G18: =TRUNC(일위대가목록!F14,0) -> 0 | H18: =TRUNC(G18*D18, 0) -> 0 | I18: =TRUNC(일위대가목록!G15,0) -> 0 | J18: =TRUNC(I18*D18, 0) -> 0 | K18: =TRUNC(E18+G18+I18, 0) -> 0 | L18: =TRUNC(F18+H18+J18, 0) -> 0 | M18: 호표 11 | N18: 505B01641A6B48CD6B5886243C171B | Q18: 0101 | R18: T | S18: F | T18: F | AU18: 0101505B01641A6B48CD6B5886243C171B | AV18: 17 | AW18: =CONCATENATE(A18," ",B18) -> 1종금속제가요전선관 16 mm 비방수(할증분 10%)
A19: 전선관지지대 | B19: 16 C | C19: kg/m | D19: ='산출조사서(소방전기)'!L47+'산출조사서(소방전기)'!L50+'산출조사서(소방전기)'!L65+'산출조사서(소방전기)'!L114 -> 43.999 | E19: =TRUNC(일위대가목록!E15,0) -> 0 | F19: =TRUNC(E19*D19, 0) -> 0 | G19: =TRUNC(일위대가목록!F15,0) -> 0 | H19: =TRUNC(G19*D19, 0) -> 0 | I19: =TRUNC(일위대가목록!G15,0) -> 0 | J19: =TRUNC(I19*D19, 0) -> 0 | K19: =TRUNC(E19+G19+I19, 0) -> 0 | L19: =TRUNC(F19+H19+J19, 0) -> 0 | M19: 호표 12 | N19: 505B01641A6B48C06FD8E029F22B81 | Q19: 0101 | R19: T | S19: F | T19: F | AU19: 0101505B01641A6B48C06FD8E029F22B81 | AV19: 18 | AW19: =CONCATENATE(A19," ",B19) -> 전선관지지대 16 C
A20: 전선관지지대 | B20: 22 C | C20: kg/m | D20: ='산출조사서(소방전기)'!L8+'산출조사서(소방전기)'!L11+'산출조사서(소방전기)'!L14+'산출조사서(소방전기)'!L21+'산출조사서(소방전기)'!L78+'산출조사서(소방전기)'!L90+'산출조사서(소방전기)'!L150+'산출조사서(소방전기)'!L153 -> 172.666 | E20: =TRUNC(일위대가목록!E16,0) -> 0 | F20: =TRUNC(E20*D20, 0) -> 0 | G20: =TRUNC(일위대가목록!F16,0) -> 0 | H20: =TRUNC(G20*D20, 0) -> 0 | I20: =TRUNC(일위대가목록!G16,0) -> 0 | J20: =TRUNC(I20*D20, 0) -> 0 | K20: =TRUNC(E20+G20+I20, 0) -> 0 | L20: =TRUNC(F20+H20+J20, 0) -> 0 | M20: 호표 13 | N20: 505B01641A6B48C06FD8E029F228CD | Q20: 0101 | R20: T | S20: F | T20: F | AU20: 0101505B01641A6B48C06FD8E029F228CD | AV20: 19 | AW20: =CONCATENATE(A20," ",B20) -> 전선관지지대 22 C
A21: 전선관지지대 | B21: 28 C | C21: kg/m | D21: ='산출조사서(소방전기)'!L73+'산출조사서(소방전기)'!L77+'산출조사서(소방전기)'!L83+'산출조사서(소방전기)'!L84+'산출조사서(소방전기)'!L91+'산출조사서(소방전기)'!L92+'산출조사서(소방전기)'!L99+'산출조사서(소방전기)'!L100+'산출조사서(소방전기)'!L101+'산출조사서(소방전기)'!L106 -> 87.328 | E21: =TRUNC(일위대가목록!E17,0) -> 0 | F21: =TRUNC(E21*D21, 0) -> 0 | G21: =TRUNC(일위대가목록!F17,0) -> 0 | H21: =TRUNC(G21*D21, 0) -> 0 | I21: =TRUNC(일위대가목록!G17,0) -> 0 | J21: =TRUNC(I21*D21, 0) -> 0 | K21: =TRUNC(E21+G21+I21, 0) -> 0 | L21: =TRUNC(F21+H21+J21, 0) -> 0 | M21: 호표 14 | N21: 505B01641A6B48C06FD8E029F229D4 | Q21: 0101 | R21: T | S21: F | T21: F | AU21: 0101505B01641A6B48C06FD8E029F229D4 | AV21: 20 | AW21: =CONCATENATE(A21," ",B21) -> 전선관지지대 28 C
A22: 잡철물설치(철제) | B22: 간단 | C22: kg | D22: 36 | E22: =TRUNC(일위대가목록!E8,0) -> 0 | F22: =TRUNC(E22*D22, 0) -> 0 | G22: =TRUNC(일위대가목록!F8,0) -> 0 | H22: =TRUNC(G22*D22, 0) -> 0 | I22: =TRUNC(일위대가목록!G8,0) -> 0 | J22: =TRUNC(I22*D22, 0) -> 0 | K22: =TRUNC(E22+G22+I22, 0) -> 0 | L22: =TRUNC(F22+H22+J22, 0) -> 0 | M22: 호표 5 | N22: 5011016F24EC46326CCAB425E4BD33 | Q22: 0101 | R22: T | S22: F | T22: F | AU22: 01015011016F24EC46326CCAB425E4BD33 | AV22: 11 | AW22: =CONCATENATE(A22," ",B22) -> 잡철물설치(철제) 간단
A23: 텍스 철거후 재설치 | C23: ㎡ | D23: 9.72 | E23: =TRUNC(일위대가목록!E9,0) -> 0 | F23: =TRUNC(E23*D23, 0) -> 0 | G23: =TRUNC(일위대가목록!F9,0) -> 0 | H23: =TRUNC(G23*D23, 0) -> 0 | I23: =TRUNC(일위대가목록!G9,0) -> 0 | J23: =TRUNC(I23*D23, 0) -> 0 | K23: =TRUNC(E23+G23+I23, 0) -> 0 | L23: =TRUNC(F23+H23+J23, 0) -> 0 | M23: 호표 6 | N23: 5010B167C66E4E4D6D7CDD288F9415 | Q23: 0101 | R23: T | S23: F | T23: F | AU23: 01015010B167C66E4E4D6D7CDD288F9415 | AV23: 12 | AW23: =CONCATENATE(A23," ",B23) -> 텍스 철거후 재설치
A24: 배관용 구멍뚫기(코어드릴)-Con,c | B24: 두께 30cm 이하 ∮25mm, 벽 | C24: 개소 | D24: 8 | E24: =TRUNC(일위대가목록!E10,0) -> 0 | F24: =TRUNC(E24*D24, 0) -> 0 | G24: =TRUNC(일위대가목록!F10,0) -> 0 | H24: =TRUNC(G24*D24, 0) -> 0 | I24: =TRUNC(일위대가목록!G10,0) -> 0 | J24: =TRUNC(I24*D24, 0) -> 0 | K24: =TRUNC(E24+G24+I24, 0) -> 0 | L24: =TRUNC(F24+H24+J24, 0) -> 0 | M24: 호표 7 | N24: 505B016322B745D26B9118298EB0BB | Q24: 0101 | R24: T | S24: F | T24: F | AU24: 0101505B016322B745D26B9118298EB0BB | AV24: 13 | AW24: =CONCATENATE(A24," ",B24) -> 배관용 구멍뚫기(코어드릴)-Con,c 두께 30cm 이하 ∮25mm, 벽
A25: 가스수신반 | C25: 대 | D25: 1 | E25: =TRUNC(일위대가목록!E33,0) -> 0 | F25: =TRUNC(E25*D25, 0) -> 0 | G25: =TRUNC(일위대가목록!F33,0) -> 0 | H25: =TRUNC(G25*D25, 0) -> 0 | I25: =TRUNC(일위대가목록!G33,0) -> 0 | J25: =TRUNC(I25*D25, 0) -> 0 | K25: =TRUNC(E25+G25+I25, 0) -> 0 | L25: =TRUNC(F25+H25+J25, 0) -> 0 | M25: 호표 30 | N25: 505B016424A64E5269CAC822D55C9C | Q25: 0101 | R25: T | S25: F | T25: F | AU25: 0101505B016424A64E5269CAC822D55C9C | AV25: 34 | AW25: =CONCATENATE(A25," ",B25) -> 가스수신반
A26: 전원반 | B26: 자동폐쇄장치전원반, 15A | C26: 대 | D26: 1 | E26: =TRUNC(일위대가목록!E35,0) -> 0 | F26: =TRUNC(E26*D26, 0) -> 0 | G26: =TRUNC(일위대가목록!F35,0) -> 0 | H26: =TRUNC(G26*D26, 0) -> 0 | I26: =TRUNC(일위대가목록!G35,0) -> 0 | J26: =TRUNC(I26*D26, 0) -> 0 | K26: =TRUNC(E26+G26+I26, 0) -> 0 | L26: =TRUNC(F26+H26+J26, 0) -> 0 | M26: 호표 32 | N26: 505B016424A64E5269CAC822D44BBF | Q26: 0101 | R26: T | S26: F | T26: F | AU26: 0101505B016424A64E5269CAC822D44BBF | AV26: 36 | AW26: =CONCATENATE(A26," ",B26) -> 전원반 자동폐쇄장치전원반, 15A
A27: 경종 설치 | C27: 개 | D27: 1 | E27: =TRUNC(일위대가목록!E21,0) -> 0 | F27: =TRUNC(E27*D27, 0) -> 0 | G27: =TRUNC(일위대가목록!F21,0) -> 0 | H27: =TRUNC(G27*D27, 0) -> 0 | I27: =TRUNC(일위대가목록!G21,0) -> 0 | J27: =TRUNC(I27*D27, 0) -> 0 | K27: =TRUNC(E27+G27+I27, 0) -> 0 | L27: =TRUNC(F27+H27+J27, 0) -> 0 | M27: 호표 18 | N27: 505B01641AE84E05648CA52A944A2D | Q27: 0101 | R27: T | S27: F | T27: F | AU27: 0101505B01641AE84E05648CA52A944A2D | AV27: 24 | AW27: =CONCATENATE(A27," ",B27) -> 경종 설치
A28: 화재감지기 | B28: 열감지기,차동식스포트형 | C28: 개 | D28: 10 | E28: =TRUNC(일위대가목록!E22,0) -> 0 | F28: =TRUNC(E28*D28, 0) -> 0 | G28: =TRUNC(일위대가목록!F22,0) -> 0 | H28: =TRUNC(G28*D28, 0) -> 0 | I28: =TRUNC(일위대가목록!G22,0) -> 0 | J28: =TRUNC(I28*D28, 0) -> 0 | K28: =TRUNC(E28+G28+I28, 0) -> 0 | L28: =TRUNC(F28+H28+J28, 0) -> 0 | M28: 호표 19 | N28: 505B016424A64E5269CA9C2E10B513 | Q28: 0101 | R28: T | S28: F | T28: F | AU28: 0101505B016424A64E5269CA9C2E10B513 | AV28: 25 | AW28: =CONCATENATE(A28," ",B28) -> 화재감지기 열감지기,차동식스포트형
A29: 화재감지기 | B29: 연기감지기,광전식2종-비축적 | C29: 개 | D29: 10 | E29: =TRUNC(일위대가목록!E25,0) -> 0 | F29: =TRUNC(E29*D29, 0) -> 0 | G29: =TRUNC(일위대가목록!F25,0) -> 0 | H29: =TRUNC(G29*D29, 0) -> 0 | I29: =TRUNC(일위대가목록!G25,0) -> 0 | J29: =TRUNC(I29*D29, 0) -> 0 | K29: =TRUNC(E29+G29+I29, 0) -> 0 | L29: =TRUNC(F29+H29+J29, 0) -> 0 | M29: 호표 22 | N29: 505B016424A64E5269CA9C2E10B095 | Q29: 0101 | R29: T | S29: F | T29: F | AU29: 0101505B016424A64E5269CA9C2E10B095 | AV29: 26 | AW29: =CONCATENATE(A29," ",B29) -> 화재감지기 연기감지기,광전식2종-비축적
A30: 전자사이렌 설치 | B30: DC 24V | C30: 개 | D30: 6 | E30: =TRUNC(일위대가목록!E28,0) -> 0 | F30: =TRUNC(E30*D30, 0) -> 0 | G30: =TRUNC(일위대가목록!F28,0) -> 0 | H30: =TRUNC(G30*D30, 0) -> 0 | I30: =TRUNC(일위대가목록!G28,0) -> 0 | J30: =TRUNC(I30*D30, 0) -> 0 | K30: =TRUNC(E30+G30+I30, 0) -> 0 | L30: =TRUNC(F30+H30+J30, 0) -> 0 | M30: 호표 25 | N30: 505B016424A64E5269CAAD250205F0 | Q30: 0101 | R30: T | S30: F | T30: F | AU30: 0101505B016424A64E5269CAAD250205F0 | AV30: 29 | AW30: =CONCATENATE(A30," ",B30) -> 전자사이렌 설치 DC 24V
A31: 자동폐쇄장치-창문형 | B31: DC-24V | C31: 개 | D31: 2 | E31: =TRUNC(일위대가목록!E29,0) -> 0 | F31: =TRUNC(E31*D31, 0) -> 0 | G31: =TRUNC(일위대가목록!F29,0) -> 0 | H31: =TRUNC(G31*D31, 0) -> 0 | I31: =TRUNC(일위대가목록!G29,0) -> 0 | J31: =TRUNC(I31*D31, 0) -> 0 | K31: =TRUNC(E31+G31+I31, 0) -> 0 | L31: =TRUNC(F31+H31+J31, 0) -> 0 | M31: 호표 26 | N31: 505B016424A64E5269CABF2B04DBB6 | Q31: 0101 | R31: T | S31: F | T31: F | AU31: 0101505B016424A64E5269CABF2B04DBB6 | AV31: 30 | AW31: =CONCATENATE(A31," ",B31) -> 자동폐쇄장치-창문형 DC-24V
A32: 자동폐쇄장치-방화문 | B32: DC-24V | C32: 개 | D32: 10 | E32: =TRUNC(일위대가목록!E30,0) -> 0 | F32: =TRUNC(E32*D32, 0) -> 0 | G32: =TRUNC(일위대가목록!F30,0) -> 0 | H32: =TRUNC(G32*D32, 0) -> 0 | I32: =TRUNC(일위대가목록!G30,0) -> 0 | J32: =TRUNC(I32*D32, 0) -> 0 | K32: =TRUNC(E32+G32+I32, 0) -> 0 | L32: =TRUNC(F32+H32+J32, 0) -> 0 | M32: 호표 27 | N32: 505B016424A64E5269CABF2B04DA98 | Q32: 0101 | R32: T | S32: F | T32: F | AU32: 0101505B016424A64E5269CABF2B04DA98 | AV32: 31 | AW32: =CONCATENATE(A32," ",B32) -> 자동폐쇄장치-방화문 DC-24V
A33: 경비실 부수신기 재결선 | B33: 지하층 2구역 철거 및 지하수신기 1구역 연동 | C33: 대 | D33: 1 | E33: =TRUNC(일위대가목록!E31,0) -> 0 | F33: =TRUNC(E33*D33, 0) -> 0 | G33: =TRUNC(일위대가목록!F31,0) -> 0 | H33: =TRUNC(G33*D33, 0) -> 0 | I33: =TRUNC(일위대가목록!G31,0) -> 0 | J33: =TRUNC(I33*D33, 0) -> 0 | K33: =TRUNC(E33+G33+I33, 0) -> 0 | L33: =TRUNC(F33+H33+J33, 0) -> 0 | M33: 호표 28 | N33: 505B016424A64E5269CAC822D7000C | Q33: 0101 | R33: T | S33: F | T33: F | AU33: 0101505B016424A64E5269CAC822D7000C | AV33: 32 | AW33: =CONCATENATE(A33," ",B33) -> 경비실 부수신기 재결선 지하층 2구역 철거 및 지하수신기 1구역 연동
A34: 통제실 메인수신기 재결선 | B34: 지하층 2구역 철거 및 지하수신기 1구역 연동 | C34: 대 | D34: 1 | E34: =TRUNC(일위대가목록!E32,0) -> 0 | F34: =TRUNC(E34*D34, 0) -> 0 | G34: =TRUNC(일위대가목록!F32,0) -> 0 | H34: =TRUNC(G34*D34, 0) -> 0 | I34: =TRUNC(일위대가목록!G32,0) -> 0 | J34: =TRUNC(I34*D34, 0) -> 0 | K34: =TRUNC(E34+G34+I34, 0) -> 0 | L34: =TRUNC(F34+H34+J34, 0) -> 0 | M34: 호표 29 | N34: 505B016424A64E5269CAC822D7000F | Q34: 0101 | R34: T | S34: F | T34: F | AU34: 0101505B016424A64E5269CAC822D7000F | AV34: 33 | AW34: =CONCATENATE(A34," ",B34) -> 통제실 메인수신기 재결선 지하층 2구역 철거 및 지하수신기 1구역 연동
A35: 걸이시설설치 | B35: 생명줄포함 | C35: 개소 | D35: ='산출조사서(소방전기)'!L32 -> 16 | E35: =TRUNC(일위대가목록!E34,0) -> 0 | F35: =TRUNC(E35*D35, 0) -> 0 | G35: =TRUNC(일위대가목록!F34,0) -> 0 | H35: =TRUNC(G35*D35, 0) -> 0 | I35: =TRUNC(일위대가목록!G34,0) -> 0 | J35: =TRUNC(I35*D35, 0) -> 0 | K35: =TRUNC(E35+G35+I35, 0) -> 0 | L35: =TRUNC(F35+H35+J35, 0) -> 0 | M35: 호표 31 | N35: 505B016424A64E5269CAC822D44C45 | Q35: 0101 | R35: T | S35: F | T35: F | AU35: 0101505B016424A64E5269CAC822D44C45 | AV35: 35 | AW35: =CONCATENATE(A35," ",B35) -> 걸이시설설치 생명줄포함
A36: 화재감지기 - 철거 | C36: 개 | D36: 20 | E36: =TRUNC(일위대가목록!E26,0) -> 0 | F36: =TRUNC(E36*D36, 0) -> 0 | G36: =TRUNC(일위대가목록!F26,0) -> 0 | H36: =TRUNC(G36*D36, 0) -> 0 | I36: =TRUNC(일위대가목록!G26,0) -> 0 | J36: =TRUNC(I36*D36, 0) -> 0 | K36: =TRUNC(E36+G36+I36, 0) -> 0 | L36: =TRUNC(F36+H36+J36, 0) -> 0 | M36: 호표 23 | N36: 505B016424A64E5269CA9C2E10B25F | Q36: 0101 | R36: T | S36: F | T36: F | AU36: 0101505B016424A64E5269CA9C2E10B25F | AV36: 27 | AW36: =CONCATENATE(A36," ",B36) -> 화재감지기 - 철거
A37: 전자싸이렌 - 철거 | C37: M | D37: 6 | E37: =TRUNC(일위대가목록!E27,0) -> 0 | F37: =TRUNC(E37*D37, 0) -> 0 | G37: =TRUNC(일위대가목록!F27,0) -> 0 | H37: =TRUNC(G37*D37, 0) -> 0 | I37: =TRUNC(일위대가목록!G27,0) -> 0 | J37: =TRUNC(I37*D37, 0) -> 0 | K37: =TRUNC(E37+G37+I37, 0) -> 0 | L37: =TRUNC(F37+H37+J37, 0) -> 0 | M37: 호표 24 | N37: 505B016424A64E5269CA9C2E10BC4B | Q37: 0101 | R37: T | S37: F | T37: F | AU37: 0101505B016424A64E5269CA9C2E10BC4B | AV37: 28 | AW37: =CONCATENATE(A37," ",B37) -> 전자싸이렌 - 철거
A38: 아우트렛박스 | B38: 중형4각 54㎜ | C38: 대 | D38: 6 | E38: =TRUNC(일위대가목록!E37,0) -> 0 | F38: =TRUNC(E38*D38, 0) -> 0 | G38: =TRUNC(일위대가목록!F37,0) -> 0 | H38: =TRUNC(G38*D38, 0) -> 0 | I38: =TRUNC(일위대가목록!G37,0) -> 0 | J38: =TRUNC(I38*D38, 0) -> 0 | K38: =TRUNC(E38+G38+I38, 0) -> 0 | L38: =TRUNC(F38+H38+J38, 0) -> 0 | M38: 호표 33 | N38: 505B016424794B996FF06424F6D40C | Q38: 0101 | R38: T | S38: F | T38: F | AU38: 0101505B016424794B996FF06424F6D40C | AV38: 37 | AW38: =CONCATENATE(A38," ",B38) -> 아우트렛박스 중형4각 54㎜
A39: 덕트관통부채움 | C39: EA | D39: 4 | E39: =TRUNC(일위대가목록!E23,0) -> 0 | F39: =TRUNC(E39*D39, 0) -> 0 | G39: =TRUNC(일위대가목록!F23,0) -> 0 | H39: =TRUNC(G39*D39, 0) -> 0 | I39: =TRUNC(일위대가목록!G23,0) -> 0 | J39: =TRUNC(I39*D39, 0) -> 0 | K39: =TRUNC(E39+G39+I39, 0) -> 0 | L39: =TRUNC(F39+H39+J39, 0) -> 0 | M39: 호표 20 | N39: 505B016424A64E5269CA9C2E10B510 | Q39: 0101 | R39: T | S39: F | T39: F | AU39: 0101505B016424A64E5269CA9C2E10B510 | AV39: 4 | AW39: =CONCATENATE(A39," ",B39) -> 덕트관통부채움
A40: 배관관통부채움 | C40: EA | D40: 1 | E40: =TRUNC(일위대가목록!E24,0) -> 0 | F40: =TRUNC(E40*D40, 0) -> 0 | G40: =TRUNC(일위대가목록!F24,0) -> 0 | H40: =TRUNC(G40*D40, 0) -> 0 | I40: =TRUNC(일위대가목록!G24,0) -> 0 | J40: =TRUNC(I40*D40, 0) -> 0 | K40: =TRUNC(E40+G40+I40, 0) -> 0 | L40: =TRUNC(F40+H40+J40, 0) -> 0 | M40: 호표 21 | N40: 505B016424A64E5269CA9C2E10B517 | Q40: 0101 | R40: T | S40: F | T40: F | AU40: 0101505B016424A64E5269CA9C2E10B517 | AV40: 5 | AW40: =CONCATENATE(A40," ",B40) -> 배관관통부채움
A41: 강관 조립말비계(이동식)설치 및 해체 | B41: 높이 4m, 3개월 | C41: 대 | D41: 4 | E41: =TRUNC(일위대가목록!E7,0) -> 0 | F41: =TRUNC(E41*D41, 0) -> 0 | G41: =TRUNC(일위대가목록!F7,0) -> 0 | H41: =TRUNC(G41*D41, 0) -> 0 | I41: =TRUNC(일위대가목록!G7,0) -> 0 | J41: =TRUNC(I41*D41, 0) -> 0 | K41: =TRUNC(E41+G41+I41, 0) -> 0 | L41: =TRUNC(F41+H41+J41, 0) -> 0 | M41: 호표 4 | N41: 5011B16E8E4F41386BB4A82D93F3F7 | Q41: 0101 | R41: T | S41: F | T41: F | AU41: 01015011B16E8E4F41386BB4A82D93F3F7 | AV41: 38 | AW41: =CONCATENATE(A41," ",B41) -> 강관 조립말비계(이동식)설치 및 해체 높이 4m, 3개월
A42: 방화실리콘 실란트 | B42: 300ml | C42: 개 | D42: 13 | E42: =TRUNC(단가대비표!O25,0) -> 11000 | F42: =TRUNC(E42*D42, 0) -> 143000 | G42: =TRUNC(단가대비표!P25,0) -> 0 | H42: =TRUNC(G42*D42, 0) -> 0 | I42: =TRUNC(단가대비표!V25,0) -> 0 | J42: =TRUNC(I42*D42, 0) -> 0 | K42: =TRUNC(E42+G42+I42, 0) -> 11000 | L42: =TRUNC(F42+H42+J42, 0) -> 143000 | M42: 자재 21 | N42: 5732A16FD39B4CFA63CA662B17FC2C1E7F660A | Q42: 0101 | R42: F | S42: F | T42: T | AU42: 01015732A16FD39B4CFA63CA662B17FC2C1E7F660A | AV42: 6 | AW42: =CONCATENATE(A42," ",B42) -> 방화실리콘 실란트 300ml
A43: PVC 파이프 캡 | C43: 개 | D43: 10 | E43: =TRUNC(단가대비표!O28,0) -> 640 | F43: =TRUNC(E43*D43, 0) -> 6400 | G43: =TRUNC(단가대비표!P28,0) -> 0 | H43: =TRUNC(G43*D43, 0) -> 0 | I43: =TRUNC(단가대비표!V28,0) -> 0 | J43: =TRUNC(I43*D43, 0) -> 0 | K43: =TRUNC(E43+G43+I43, 0) -> 640 | L43: =TRUNC(F43+H43+J43, 0) -> 6400 | M43: 자재 24 | N43: 5732216A746F4D936A27A42493CA481FC1D8E1 | Q43: 0101 | R43: F | S43: F | T43: T | AU43: 01015732216A746F4D936A27A42493CA481FC1D8E1 | AV43: 7 | AW43: =CONCATENATE(A43," ",B43) -> PVC 파이프 캡
A44: 화물트럭 운반비 | B44: 1TON 기준 | C44: 일 | D44: 1 | E44: =TRUNC(단가대비표!O40,0) -> 0 | F44: =TRUNC(E44*D44, 0) -> 0 | G44: =TRUNC(단가대비표!P40,0) -> 0 | H44: =TRUNC(G44*D44, 0) -> 0 | I44: =TRUNC(단가대비표!V40,0) -> 195900 | J44: =TRUNC(I44*D44, 0) -> 195900 | K44: =TRUNC(E44+G44+I44, 0) -> 195900 | L44: =TRUNC(F44+H44+J44, 0) -> 195900 | M44: 자재 36 | N44: 5743416A3BB7490C6653CC265A7FA04F60A5B4 | Q44: 0101 | R44: F | S44: F | T44: T | AU44: 01015743416A3BB7490C6653CC265A7FA04F60A5B4 | AV44: 9 | AW44: =CONCATENATE(A44," ",B44) -> 화물트럭 운반비 1TON 기준
A45: 방화포 | C45: ROLL | D45: 1 | E45: =TRUNC(단가대비표!O45,0) -> 781000 | F45: =TRUNC(E45*D45, 0) -> 781000 | G45: =TRUNC(단가대비표!P45,0) -> 0 | H45: =TRUNC(G45*D45, 0) -> 0 | I45: =TRUNC(단가대비표!V45,0) -> 0 | J45: =TRUNC(I45*D45, 0) -> 0 | K45: =TRUNC(E45+G45+I45, 0) -> 781000 | L45: =TRUNC(F45+H45+J45, 0) -> 781000 | M45: 자재 41 | N45: 5743416A3B4C482B60E2AF2047342E7407CDA9 | Q45: 0101 | R45: F | S45: F | T45: T | AU45: 01015743416A3B4C482B60E2AF2047342E7407CDA9 | AV45: 10 | AW45: =CONCATENATE(A45," ",B45) -> 방화포
A46: 공구손료 | B46: 노무비의 3% | C46: 식 | D46: 1 | E46: =H62*0.03 -> 0 | F46: =TRUNC(E46*D46, 0) -> 0 | L46: =TRUNC(F46+H46+J46, 0) -> 0 | Q46: 0101 | AW46: =CONCATENATE(A46," ",B46) -> 공구손료 노무비의 3%
Q47: 0101 | AW47: =CONCATENATE(A47," ",B47)
Q48: 0101 | AW48: =CONCATENATE(A48," ",B48)
Q49: 0101 | AW49: =CONCATENATE(A49," ",B49)
Q50: 0101 | AW50: =CONCATENATE(A50," ",B50)
Q51: 0101 | AW51: =CONCATENATE(A51," ",B51)
Q52: 0101 | AW52: =CONCATENATE(A52," ",B52)
Q53: 0101 | AW53: =CONCATENATE(A53," ",B53)
Q54: 0101 | AW54: =CONCATENATE(A54," ",B54)
Q55: 0101 | AW55: =CONCATENATE(A55," ",B55)
Q56: 0101 | AW56: =CONCATENATE(A56," ",B56)
Q57: 0101 | AW57: =CONCATENATE(A57," ",B57)
Q58: 0101 | AW58: =CONCATENATE(A58," ",B58)
... Q61: 0101 | AW61: =CONCATENATE(A61," ",B61)
A62: [ 합 계 ] | F62: =SUMIF(Q5:Q61,"0101",F5:F61) -> 930400 | H62: =SUMIF(Q5:Q61,"0101",H5:H61) -> 0 | J62: =SUMIF(Q5:Q61,"0101",J5:J61) -> 195900 | L62: =SUMIF(Q5:Q61,"0101",L5:L61) -> 1126300 | N62: TOTAL | AW62: =CONCATENATE(A62," ",B62) -> [ 합 계 ]
A63: 0102 할로겐소화약제설비공사 | Q63: 0102 | AW63: =CONCATENATE(A63," ",B63) -> 0102 할로겐소화약제설비공사
A64: AnyFire(FK-5-1-12) 모듈러 | B64: 82.5L/90KG/2BT | C64: SET | M64: 자재 45 | N64: 51859163152E473D6A10602155A92333E6E763 | Q64: 0102 | R64: F | S64: F | T64: T | AU64: 010251859163152E473D6A10602155A92333E6E763 | AV64: 40 | AW64: =CONCATENATE(A64," ",B64) -> AnyFire(FK-5-1-12) 모듈러 82.5L/90KG/2BT
A65: AnyFire(FK-5-1-12) 모듈러 | B65: 82.5L/80KG/2BT | C65: SET | M65: 자재 46 | N65: 51859163152E473D6A10602155A92333E6E762 | Q65: 0102 | R65: F | S65: F | T65: T | AU65: 010251859163152E473D6A10602155A92333E6E762 | AV65: 41 | AW65: =CONCATENATE(A65," ",B65) -> AnyFire(FK-5-1-12) 모듈러 82.5L/80KG/2BT
A66: AnyFire(FK-5-1-12) 모듈러 | B66: 82.5L/70KG/2BT | C66: SET | M66: 자재 47 | N66: 51859163152E473D6A10602155A92333E6E761 | Q66: 0102 | R66: F | S66: F | T66: T | AU66: 010251859163152E473D6A10602155A92333E6E761 | AV66: 42 | AW66: =CONCATENATE(A66," ",B66) -> AnyFire(FK-5-1-12) 모듈러 82.5L/70KG/2BT
A67: AnyFire(FK-5-1-12) 모듈러 | B67: 82.5L/70KG/1BT | C67: SET | M67: 자재 48 | N67: 51859163152E473D6A10602155A92333E6E760 | Q67: 0102 | R67: F | S67: F | T67: T | AU67: 010251859163152E473D6A10602155A92333E6E760 | AV67: 43 | AW67: =CONCATENATE(A67," ",B67) -> AnyFire(FK-5-1-12) 모듈러 82.5L/70KG/1BT
A68: AnyFire(FK-5-1-12) 모듈러 | B68: 82.5L/60KG/1BT | C68: SET | M68: 자재 49 | N68: 51859163152E473D6A10602155A92333E6E76F | Q68: 0102 | R68: F | S68: F | T68: T | AU68: 010251859163152E473D6A10602155A92333E6E76F | AV68: 44 | AW68: =CONCATENATE(A68," ",B68) -> AnyFire(FK-5-1-12) 모듈러 82.5L/60KG/1BT
A69: 솔레노이드밸브 | B69: DC-24V | C69: EA | M69: 자재 50 | N69: 51859163152E473D6A10602155A92333E6E76E | Q69: 0102 | R69: F | S69: F | T69: T | AU69: 010251859163152E473D6A10602155A92333E6E76E | AV69: 45 | AW69: =CONCATENATE(A69," ",B69) -> 솔레노이드밸브 DC-24V
A70: 니들밸브 | B70: 6A | C70: EA | M70: 자재 51 | N70: 51859163152E473D6A10602155A92333E6E641 | Q70: 0102 | R70: F | S70: F | T70: T | AU70: 010251859163152E473D6A10602155A92333E6E641 | AV70: 46 | AW70: =CONCATENATE(A70," ",B70) -> 니들밸브 6A
A71: 내진가대(기본형) | B71: 모듈러 -2BT | C71: EA | M71: 자재 52 | N71: 51859163152E473D6A10602155A92333E6E640 | Q71: 0102 | R71: F | S71: F | T71: T | AU71: 010251859163152E473D6A10602155A92333E6E640 | AV71: 47 | AW71: =CONCATENATE(A71," ",B71) -> 내진가대(기본형) 모듈러 -2BT
A72: 내진가대(기본형) | B72: 모듈러 -1BT | C72: EA | M72: 자재 53 | N72: 51859163152E473D6A10602155A92333E6E643 | Q72: 0102 | R72: F | S72: F | T72: T | AU72: 010251859163152E473D6A10602155A92333E6E643 | AV72: 48 | AW72: =CONCATENATE(A72," ",B72) -> 내진가대(기본형) 모듈러 -1BT
A73: FK-5-1-12 Nozzle(360˚) | B73: 50A | C73: EA | M73: 자재 54 | N73: 51859163152E473D6A10602155A92333E6E642 | Q73: 0102 | R73: F | S73: F | T73: T | AU73: 010251859163152E473D6A10602155A92333E6E642 | AV73: 49 | AW73: =CONCATENATE(A73," ",B73) -> FK-5-1-12 Nozzle(360˚) 50A
A74: FK-5-1-12 Nozzle(180˚) | B74: 50A | C74: EA | M74: 자재 55 | N74: 51859163152E473D6A10602155A92333E6E645 | Q74: 0102 | R74: F | S74: F | T74: T | AU74: 010251859163152E473D6A10602155A92333E6E645 | AV74: 50 | AW74: =CONCATENATE(A74," ",B74) -> FK-5-1-12 Nozzle(180˚) 50A
A75: FK-5-1-12 Nozzle(360˚) | B75: 40A | C75: EA | M75: 자재 56 | N75: 51859163152E473D6A10602155A92333E6E644 | Q75: 0102 | R75: F | S75: F | T75: T | AU75: 010251859163152E473D6A10602155A92333E6E644 | AV75: 51 | AW75: =CONCATENATE(A75," ",B75) -> FK-5-1-12 Nozzle(360˚) 40A
... A134: 소공간 공구손료 | B134: 노무비의 3% | C134: 식 | M134: 자재 115 | N134: 51859163152E473D6A10602155A92333E6E03E | Q134: 0102 | R134: F | S134: F | T134: T | AU134: 010251859163152E473D6A10602155A92333E6E03E | AV134: 110 | AW134: =CONCATENATE(A134," ",B134) -> 소공간 공구손료 노무비의 3%
Q135: 0102 | AW135: =CONCATENATE(A135," ",B135)
Q136: 0102 | AW136: =CONCATENATE(A136," ",B136)
Q137: 0102 | AW137: =CONCATENATE(A137," ",B137)
Q138: 0102 | AW138: =CONCATENATE(A138," ",B138)
Q139: 0102 | AW139: =CONCATENATE(A139," ",B139)
A140: [ 합 계 ] | F140: =SUMIF(Q64:Q139,"0102",F64:F139) -> 0 | H140: =SUMIF(Q64:Q139,"0102",H64:H139) -> 0 | J140: =SUMIF(Q64:Q139,"0102",J64:J139) -> 0 | L140: =SUMIF(Q64:Q139,"0102",L64:L139) -> 0 | N140: TOTAL | AW140: =CONCATENATE(A140," ",B140) -> [ 합 계 ]
A141: 0103 철거공사 | Q141: 0103 | AW141: =CONCATENATE(A141," ",B141) -> 0103 철거공사
A142: CO2실린더 철거 | B142: 68L/45KG | C142: BTL | D142: 37 | E142: =TRUNC(단가대비표!O132,0) -> 0 | F142: =TRUNC(E142*D142, 0) -> 0 | G142: =TRUNC(단가대비표!P132,0) -> 77212 | H142: =TRUNC(G142*D142, 0) -> 2856844 | I142: =TRUNC(단가대비표!V132,0) -> 0 | J142: =TRUNC(I142*D142, 0) -> 0 | K142: =TRUNC(E142+G142+I142, 0) -> 77212 | L142: =TRUNC(F142+H142+J142, 0) -> 2856844 | M142: 자재 116 | N142: 51859163152E473D6A10602155A92333E6E030 | Q142: 0103 | R142: F | S142: F | T142: T | AU142: 010351859163152E473D6A10602155A92333E6E030 | AV142: 112 | AW142: =CONCATENATE(A142," ",B142) -> CO2실린더 철거 68L/45KG
A143: 선택밸브 철거 | B143: 80A | C143: 개소 | D143: 2 | E143: =TRUNC(단가대비표!O133,0) -> 0 | F143: =TRUNC(E143*D143, 0) -> 0 | G143: =TRUNC(단가대비표!P133,0) -> 154425 | H143: =TRUNC(G143*D143, 0) -> 308850 | I143: =TRUNC(단가대비표!V133,0) -> 0 | J143: =TRUNC(I143*D143, 0) -> 0 | K143: =TRUNC(E143+G143+I143, 0) -> 154425 | L143: =TRUNC(F143+H143+J143, 0) -> 308850 | M143: 자재 117 | N143: 51859163152E473D6A10602155A92333E6E031 | Q143: 0103 | R143: F | S143: F | T143: T | AU143: 010351859163152E473D6A10602155A92333E6E031 | AV143: 113 | AW143: =CONCATENATE(A143," ",B143) -> 선택밸브 철거 80A
A144: 기동용기함 철거 | B144: 0 | C144: 개소 | D144: 5 | E144: =TRUNC(단가대비표!O134,0) -> 0 | F144: =TRUNC(E144*D144, 0) -> 0 | G144: =TRUNC(단가대비표!P134,0) -> 77212 | H144: =TRUNC(G144*D144, 0) -> 386060 | I144: =TRUNC(단가대비표!V134,0) -> 0 | J144: =TRUNC(I144*D144, 0) -> 0 | K144: =TRUNC(E144+G144+I144, 0) -> 77212 | L144: =TRUNC(F144+H144+J144, 0) -> 386060 | M144: 자재 118 | N144: 51859163152E473D6A10602155A92333E6EFBD | Q144: 0103 | R144: F | S144: F | T144: T | AU144: 010351859163152E473D6A10602155A92333E6EFBD | AV144: 114 | AW144: =CONCATENATE(A144," ",B144) -> 기동용기함 철거 0
A145: SCH80 PIPE 철거 | B145: 80A | C145: M | D145: 32 | E145: =TRUNC(단가대비표!O135,0) -> 0 | F145: =TRUNC(E145*D145, 0) -> 0 | G145: =TRUNC(단가대비표!P135,0) -> 24332 | H145: =TRUNC(G145*D145, 0) -> 778624 | I145: =TRUNC(단가대비표!V135,0) -> 0 | J145: =TRUNC(I145*D145, 0) -> 0 | K145: =TRUNC(E145+G145+I145, 0) -> 24332 | L145: =TRUNC(F145+H145+J145, 0) -> 778624 | M145: 자재 119 | N145: 51859163152E473D6A10602155A92333E6EFBC | Q145: 0103 | R145: F | S145: F | T145: T | AU145: 010351859163152E473D6A10602155A92333E6EFBC | AV145: 115 | AW145: =CONCATENATE(A145," ",B145) -> SCH80 PIPE 철거 80A
A146: SCH80 PIPE 철거 | B146: 65A | C146: M | D146: 36 | E146: =TRUNC(단가대비표!O136,0) -> 0 | F146: =TRUNC(E146*D146, 0) -> 0 | G146: =TRUNC(단가대비표!P136,0) -> 19210 | H146: =TRUNC(G146*D146, 0) -> 691560 | I146: =TRUNC(단가대비표!V136,0) -> 0 | J146: =TRUNC(I146*D146, 0) -> 0 | K146: =TRUNC(E146+G146+I146, 0) -> 19210 | L146: =TRUNC(F146+H146+J146, 0) -> 691560 | M146: 자재 120 | N146: 51859163152E473D6A10602155A92333E6EFBF | Q146: 0103 | R146: F | S146: F | T146: T | AU146: 010351859163152E473D6A10602155A92333E6EFBF | AV146: 116 | AW146: =CONCATENATE(A146," ",B146) -> SCH80 PIPE 철거 65A
A147: SCH80 PIPE 철거 | B147: 40A | C147: M | D147: 22 | E147: =TRUNC(단가대비표!O137,0) -> 0 | F147: =TRUNC(E147*D147, 0) -> 0 | G147: =TRUNC(단가대비표!P137,0) -> 12877 | H147: =TRUNC(G147*D147, 0) -> 283294 | I147: =TRUNC(단가대비표!V137,0) -> 0 | J147: =TRUNC(I147*D147, 0) -> 0 | K147: =TRUNC(E147+G147+I147, 0) -> 12877 | L147: =TRUNC(F147+H147+J147, 0) -> 283294 | M147: 자재 121 | N147: 51859163152E473D6A10602155A92333E6EFBE | Q147: 0103 | R147: F | S147: F | T147: T | AU147: 010351859163152E473D6A10602155A92333E6EFBE | AV147: 117 | AW147: =CONCATENATE(A147," ",B147) -> SCH80 PIPE 철거 40A
A148: SCH80 PIPE 철거 | B148: 32A | C148: M | D148: 11 | E148: =TRUNC(단가대비표!O138,0) -> 0 | F148: =TRUNC(E148*D148, 0) -> 0 | G148: =TRUNC(단가대비표!P138,0) -> 11665 | H148: =TRUNC(G148*D148, 0) -> 128315 | I148: =TRUNC(단가대비표!V138,0) -> 0 | J148: =TRUNC(I148*D148, 0) -> 0 | K148: =TRUNC(E148+G148+I148, 0) -> 11665 | L148: =TRUNC(F148+H148+J148, 0) -> 128315 | M148: 자재 122 | N148: 51859163152E473D6A10602155A92333E6EFB9 | Q148: 0103 | R148: F | S148: F | T148: T | AU148: 010351859163152E473D6A10602155A92333E6EFB9 | AV148: 118 | AW148: =CONCATENATE(A148," ",B148) -> SCH80 PIPE 철거 32A
A149: SCH80 PIPE 철거 | B149: 25A | C149: M | D149: 20 | E149: =TRUNC(단가대비표!O139,0) -> 0 | F149: =TRUNC(E149*D149, 0) -> 0 | G149: =TRUNC(단가대비표!P139,0) -> 10013 | H149: =TRUNC(G149*D149, 0) -> 200260 | I149: =TRUNC(단가대비표!V139,0) -> 0 | J149: =TRUNC(I149*D149, 0) -> 0 | K149: =TRUNC(E149+G149+I149, 0) -> 10013 | L149: =TRUNC(F149+H149+J149, 0) -> 200260 | M149: 자재 123 | N149: 51859163152E473D6A10602155A92333E6EFB8 | Q149: 0103 | R149: F | S149: F | T149: T | AU149: 010351859163152E473D6A10602155A92333E6EFB8 | AV149: 119 | AW149: =CONCATENATE(A149," ",B149) -> SCH80 PIPE 철거 25A
A150: CO2 노즐 철거 | B150: 25A | C150: EA | D150: 11 | E150: =TRUNC(단가대비표!O140,0) -> 0 | F150: =TRUNC(E150*D150, 0) -> 0 | G150: =TRUNC(단가대비표!P140,0) -> 26152 | H150: =TRUNC(G150*D150, 0) -> 287672 | I150: =TRUNC(단가대비표!V140,0) -> 0 | J150: =TRUNC(I150*D150, 0) -> 0 | K150: =TRUNC(E150+G150+I150, 0) -> 26152 | L150: =TRUNC(F150+H150+J150, 0) -> 287672 | M150: 자재 124 | N150: 51859163152E473D6A10602155A92333E6EFBB | Q150: 0103 | R150: F | S150: F | T150: T | AU150: 010351859163152E473D6A10602155A92333E6EFBB | AV150: 120 | AW150: =CONCATENATE(A150," ",B150) -> CO2 노즐 철거 25A
A151: 철거 공구손료 | B151: 노무비의 3% | C151: 식 | D151: 1 | E151: =TRUNC(단가대비표!O141,0) -> 177644 | F151: =TRUNC(E151*D151, 0) -> 177644 | G151: =TRUNC(단가대비표!P141,0) -> 0 | H151: =TRUNC(G151*D151, 0) -> 0 | I151: =TRUNC(단가대비표!V141,0) -> 0 | J151: =TRUNC(I151*D151, 0) -> 0 | K151: =TRUNC(E151+G151+I151, 0) -> 177644 | L151: =TRUNC(F151+H151+J151, 0) -> 177644 | M151: 자재 125 | N151: 51859163152E473D6A10602155A92333E6EFBA | Q151: 0103 | R151: F | S151: F | T151: T | AU151: 010351859163152E473D6A10602155A92333E6EFBA | AV151: 121 | AW151: =CONCATENATE(A151," ",B151) -> 철거 공구손료 노무비의 3%
Q152: 0103 | AW152: =CONCATENATE(A152," ",B152)
Q153: 0103 | AW153: =CONCATENATE(A153," ",B153)
Q154: 0103 | AW154: =CONCATENATE(A154," ",B154)
Q155: 0103 | AW155: =CONCATENATE(A155," ",B155)
Q156: 0103 | AW156: =CONCATENATE(A156," ",B156)
Q157: 0103 | AW157: =CONCATENATE(A157," ",B157)
Q158: 0103 | AW158: =CONCATENATE(A158," ",B158)
Q159: 0103 | AW159: =CONCATENATE(A159," ",B159)
Q160: 0103 | AW160: =CONCATENATE(A160," ",B160)
...

Sheet 공종별내역서(철거)
A1: ='공종별내역서(할로겐)'!A1 -> [ 사옥 이산화탄소 소화설비 교체공사 ]
A2: 품 명 | B2: 규 격 | C2: 단위 | D2: 수량 | E2: 재 료 비 | G2: 노 무 비 | I2: 경 비 | K2: 합 계 | M2: 비 고 | N2: 품목코드 | O2: 변수 | P2: 설정 | Q2: 공종코드 | R2: 일위 | S2: 단산 | T2: 자재 | U2: 손료적용 | V2: 손료저장 | W2: 적용율 | X2: JUK1 | Y2: JUK2 | Z2: JUK3 | AA2: JUK4 | AB2: JUK5 | AC2: JUK6 | AD2: JUK7 | AE2: JUK8 | AF2: JUK9 | AG2: JUK10 | AH2: JUK11 | AI2: JUK12 | AJ2: JUK13 | AK2: JUK14 | AL2: JUK15 | AM2: JUK16 | AN2: JUK17 | AO2: JUK18 | AP2: JUK19 | AQ2: JUK20 | AR2: 자재구분 | AS2: 공종구분 | AT2: 공종레벨 | AU2: 공종+자재 | AV2: 고유번호
E3: 단 가 | F3: 금 액 | G3: 단 가 | H3: 금 액 | I3: 단 가 | J3: 금 액 | K3: 단 가 | L3: 금 액
A4: 0101 소방전기설비공사 | Q4: 0101
A5: 450/75OV 저독성난연가교폴리올레핀절연전선(HFIX) | B5: 1.38㎜ | C5: m | D5: 40 | E5: =TRUNC(일위대가목록!E18,0) -> 0 | F5: =TRUNC(E5*D5, 0) -> 0 | G5: =TRUNC(일위대가목록!F18,0) -> 0 | H5: =TRUNC(G5*D5, 0) -> 0 | I5: =TRUNC(일위대가목록!G18,0) -> 0 | J5: =TRUNC(I5*D5, 0) -> 0 | K5: =TRUNC(E5+G5+I5, 0) -> 0 | L5: =TRUNC(F5+H5+J5, 0) -> 0 | M5: 호표 15 | N5: 505B01641A59413E6CB4C82253D1D6 | Q5: 0101 | R5: T | S5: F | T5: F | AU5: 0101505B01641A59413E6CB4C82253D1D6 | AV5: 21 | AW5: =CONCATENATE(A5," ",B5) -> 450/75OV 저독성난연가교폴리올레핀절연전선(HFIX) 1.38㎜
A6: 450/75OV 저독성난연가교폴리올레핀절연전선(HFIX) | B6: HFIX, 1.38㎜ (할증분 10%) | C6: m | D6: =ROUNDDOWN(D5*0.1,0) -> 4 | E6: =TRUNC(일위대가목록!E18,0) -> 0 | F6: =TRUNC(E6*D6, 0) -> 0 | G6: =TRUNC(일위대가목록!F19,0) -> 0 | H6: =TRUNC(G6*D6, 0) -> 0 | I6: =TRUNC(일위대가목록!G19,0) -> 0 | J6: =TRUNC(I6*D6, 0) -> 0 | K6: =TRUNC(E6+G6+I6, 0) -> 0 | L6: =TRUNC(F6+H6+J6, 0) -> 0 | M6: 호표 15 | N6: 505B01641A59413E6CB4C82253D1D6 | Q6: 0101 | R6: T | S6: F | T6: F | AU6: 0101505B01641A59413E6CB4C82253D1D6 | AV6: 21 | AW6: =CONCATENATE(A6," ",B6) -> 450/75OV 저독성난연가교폴리올레핀절연전선(HFIX) HFIX, 1.38㎜ (할증분 10%)
A7: 450/75OV 저독성난연가교폴리올레핀절연전선(HFIX) | B7: 1.78㎜ | C7: m | D7: 2548 | E7: =TRUNC(일위대가목록!E19,0) -> 0 | F7: =TRUNC(E7*D7, 0) -> 0 | G7: =TRUNC(일위대가목록!F18,0) -> 0 | H7: =TRUNC(G7*D7, 0) -> 0 | I7: =TRUNC(일위대가목록!G18,0) -> 0 | J7: =TRUNC(I7*D7, 0) -> 0 | K7: =TRUNC(E7+G7+I7, 0) -> 0 | L7: =TRUNC(F7+H7+J7, 0) -> 0 | M7: 호표 16 | N7: 505B01641A59413E6CB4C82253D2FF | Q7: 0101 | R7: T | S7: F | T7: F | AU7: 0101505B01641A59413E6CB4C82253D2FF | AV7: 22 | AW7: =CONCATENATE(A7," ",B7) -> 450/75OV 저독성난연가교폴리올레핀절연전선(HFIX) 1.78㎜
A8: 450/75OV 저독성난연가교폴리올레핀절연전선(HFIX) | B8: HFIX, 1.78㎜(할증분 10%) | C8: m | D8: =ROUNDDOWN(D7*0.1,0) -> 254 | E8: =TRUNC(일위대가목록!E19,0) -> 0 | F8: =TRUNC(E8*D8, 0) -> 0 | G8: =TRUNC(일위대가목록!F19,0) -> 0 | H8: =TRUNC(G8*D8, 0) -> 0 | I8: =TRUNC(일위대가목록!G19,0) -> 0 | J8: =TRUNC(I8*D8, 0) -> 0 | K8: =TRUNC(E8+G8+I8, 0) -> 0 | L8: =TRUNC(F8+H8+J8, 0) -> 0 | M8: 호표 16 | N8: 505B01641A59413E6CB4C82253D2FF | Q8: 0101 | R8: T | S8: F | T8: F | AU8: 0101505B01641A59413E6CB4C82253D2FF | AV8: 22 | AW8: =CONCATENATE(A8," ",B8) -> 450/75OV 저독성난연가교폴리올레핀절연전선(HFIX) HFIX, 1.78㎜(할증분 10%)
A9: 0.6/1kV 내화 케이블 (F-FR-8) | B9: 3C 2.5㎟ | C9: m | D9: 10 | E9: =TRUNC(일위대가목록!E20,0) -> 0 | F9: =TRUNC(E9*D9, 0) -> 0 | G9: =TRUNC(일위대가목록!F20,0) -> 0 | H9: =TRUNC(G9*D9, 0) -> 0 | I9: =TRUNC(일위대가목록!G20,0) -> 0 | J9: =TRUNC(I9*D9, 0) -> 0 | K9: =TRUNC(E9+G9+I9, 0) -> 0 | L9: =TRUNC(F9+H9+J9, 0) -> 0 | M9: 호표 17 | N9: 505B01641A484BD16D60AB21A7ADF0 | Q9: 0101 | R9: T | S9: F | T9: F | AU9: 0101505B01641A484BD16D60AB21A7ADF0 | AV9: 23 | AW9: =CONCATENATE(A9," ",B9) -> 0.6/1kV 내화 케이블 (F-FR-8) 3C 2.5㎟
A10: 0.6/1kV 내화 케이블 (F-FR-8) | B10: 3C*2.5㎟ (할증분 5%) | C10: m | D10: =ROUNDDOWN(D9*0.1,0) -> 1 | E10: =TRUNC(일위대가목록!E20,0) -> 0 | F10: =TRUNC(E10*D10, 0) -> 0 | G10: =TRUNC(일위대가목록!F20,0) -> 0 | H10: =TRUNC(G10*D10, 0) -> 0 | I10: =TRUNC(일위대가목록!G21,0) -> 0 | J10: =TRUNC(I10*D10, 0) -> 0 | K10: =TRUNC(E10+G10+I10, 0) -> 0 | L10: =TRUNC(F10+H10+J10, 0) -> 0 | M10: 호표 17 | N10: 505B01641A484BD16D60AB21A7ADF0 | Q10: 0101 | R10: T | S10: F | T10: F | AU10: 0101505B01641A484BD16D60AB21A7ADF0 | AV10: 23 | AW10: =CONCATENATE(A10," ",B10) -> 0.6/1kV 내화 케이블 (F-FR-8) 3C*2.5㎟ (할증분 5%)
A11: 강제 전선관 | B11: 아연도 16 mm | C11: M | D11: 66 | E11: =TRUNC(일위대가목록!E11,0) -> 0 | F11: =TRUNC(E11*D11, 0) -> 0 | G11: =TRUNC(일위대가목록!F11,0) -> 0 | H11: =TRUNC(G11*D11, 0) -> 0 | I11: =TRUNC(일위대가목록!G11,0) -> 0 | J11: =TRUNC(I11*D11, 0) -> 0 | K11: =TRUNC(E11+G11+I11, 0) -> 0 | L11: =TRUNC(F11+H11+J11, 0) -> 0 | M11: 호표 8 | N11: 505B01641A6B48CC6AE99620450FAC | Q11: 0101 | R11: T | S11: F | T11: F | AU11: 0101505B01641A6B48CC6AE99620450FAC | AV11: 14 | AW11: =CONCATENATE(A11," ",B11) -> 강제 전선관 아연도 16 mm
A12: 강제 전선관 | B12: 아연도 16 mm(할증분 10%) | C12: M | D12: =ROUNDDOWN(D11*0.1,0) -> 6 | E12: =TRUNC(일위대가목록!E11,0) -> 0 | F12: =TRUNC(E12*D12, 0) -> 0 | G12: =TRUNC(일위대가목록!F11,0) -> 0 | H12: =TRUNC(G12*D12, 0) -> 0 | I12: =TRUNC(일위대가목록!G12,0) -> 0 | J12: =TRUNC(I12*D12, 0) -> 0 | K12: =TRUNC(E12+G12+I12, 0) -> 0 | L12: =TRUNC(F12+H12+J12, 0) -> 0 | M12: 호표 8 | N12: 505B01641A6B48CC6AE99620450FAC | Q12: 0101 | R12: T | S12: F | T12: F | AU12: 0101505B01641A6B48CC6AE99620450FAC | AV12: 14 | AW12: =CONCATENATE(A12," ",B12) -> 강제 전선관 아연도 16 mm(할증분 10%)
A13: 강제 전선관 | B13: 아연도 22 mm | C13: M | D13: 259 | E13: =TRUNC(일위대가목록!E12,0) -> 0 | F13: =TRUNC(E13*D13, 0) -> 0 | G13: =TRUNC(일위대가목록!F12,0) -> 0 | H13: =TRUNC(G13*D13, 0) -> 0 | I13: =TRUNC(일위대가목록!G11,0) -> 0 | J13: =TRUNC(I13*D13, 0) -> 0 | K13: =TRUNC(E13+G13+I13, 0) -> 0 | L13: =TRUNC(F13+H13+J13, 0) -> 0 | M13: 호표 9 | N13: 505B01641A6B48CC6AE99620450CD7 | Q13: 0101 | R13: T | S13: F | T13: F | AU13: 0101505B01641A6B48CC6AE99620450CD7 | AV13: 15 | AW13: =CONCATENATE(A13," ",B13) -> 강제 전선관 아연도 22 mm
A14: 강제 전선관 | B14: 아연도 22 mm(할증분 10%) | C14: M | D14: =ROUNDDOWN(D13*0.1,0) -> 25 | E14: =TRUNC(일위대가목록!E12,0) -> 0 | F14: =TRUNC(E14*D14, 0) -> 0 | G14: =TRUNC(일위대가목록!F12,0) -> 0 | H14: =TRUNC(G14*D14, 0) -> 0 | I14: =TRUNC(일위대가목록!G12,0) -> 0 | J14: =TRUNC(I14*D14, 0) -> 0 | K14: =TRUNC(E14+G14+I14, 0) -> 0 | L14: =TRUNC(F14+H14+J14, 0) -> 0 | M14: 호표 9 | N14: 505B01641A6B48CC6AE99620450CD7 | Q14: 0101 | R14: T | S14: F | T14: F | AU14: 0101505B01641A6B48CC6AE99620450CD7 | AV14: 15 | AW14: =CONCATENATE(A14," ",B14) -> 강제 전선관 아연도 22 mm(할증분 10%)
A15: 강제 전선관 | B15: 아연도 28 mm | C15: M | D15: 131 | E15: =TRUNC(일위대가목록!E13,0) -> 0 | F15: =TRUNC(E15*D15, 0) -> 0 | G15: =TRUNC(일위대가목록!F13,0) -> 0 | H15: =TRUNC(G15*D15, 0) -> 0 | I15: =TRUNC(일위대가목록!G13,0) -> 0 | J15: =TRUNC(I15*D15, 0) -> 0 | K15: =TRUNC(E15+G15+I15, 0) -> 0 | L15: =TRUNC(F15+H15+J15, 0) -> 0 | M15: 호표 10 | N15: 505B01641A6B48CC6AE99620450DFE | Q15: 0101 | R15: T | S15: F | T15: F | AU15: 0101505B01641A6B48CC6AE99620450DFE | AV15: 16 | AW15: =CONCATENATE(A15," ",B15) -> 강제 전선관 아연도 28 mm
A16: 강제 전선관 | B16: 아연도 28 mm(할증분 10%) | C16: M | D16: =ROUNDDOWN(D15*0.1,0) -> 13 | E16: =TRUNC(일위대가목록!E13,0) -> 0 | F16: =TRUNC(E16*D16, 0) -> 0 | G16: =TRUNC(일위대가목록!F13,0) -> 0 | H16: =TRUNC(G16*D16, 0) -> 0 | I16: =TRUNC(일위대가목록!G14,0) -> 0 | J16: =TRUNC(I16*D16, 0) -> 0 | K16: =TRUNC(E16+G16+I16, 0) -> 0 | L16: =TRUNC(F16+H16+J16, 0) -> 0 | M16: 호표 10 | N16: 505B01641A6B48CC6AE99620450DFE | Q16: 0101 | R16: T | S16: F | T16: F | AU16: 0101505B01641A6B48CC6AE99620450DFE | AV16: 16 | AW16: =CONCATENATE(A16," ",B16) -> 강제 전선관 아연도 28 mm(할증분 10%)
A17: 1종금속제가요전선관 | B17: 16 mm 비방수 | C17: M | D17: 10 | E17: =TRUNC(일위대가목록!E14,0) -> 0 | F17: =TRUNC(E17*D17, 0) -> 0 | G17: =TRUNC(일위대가목록!F14,0) -> 0 | H17: =TRUNC(G17*D17, 0) -> 0 | I17: =TRUNC(일위대가목록!G14,0) -> 0 | J17: =TRUNC(I17*D17, 0) -> 0 | K17: =TRUNC(E17+G17+I17, 0) -> 0 | L17: =TRUNC(F17+H17+J17, 0) -> 0 | M17: 호표 11 | N17: 505B01641A6B48CD6B5886243C171B | Q17: 0101 | R17: T | S17: F | T17: F | AU17: 0101505B01641A6B48CD6B5886243C171B | AV17: 17 | AW17: =CONCATENATE(A17," ",B17) -> 1종금속제가요전선관 16 mm 비방수
A18: 1종금속제가요전선관 | B18: 16 mm 비방수(할증분 10%) | C18: M | D18: =ROUNDDOWN(D17*0.1,0) -> 1 | E18: =TRUNC(일위대가목록!E14,0) -> 0 | F18: =TRUNC(E18*D18, 0) -> 0 | G18: =TRUNC(일위대가목록!F14,0) -> 0 | H18: =TRUNC(G18*D18, 0) -> 0 | I18: =TRUNC(일위대가목록!G15,0) -> 0 | J18: =TRUNC(I18*D18, 0) -> 0 | K18: =TRUNC(E18+G18+I18, 0) -> 0 | L18: =TRUNC(F18+H18+J18, 0) -> 0 | M18: 호표 11 | N18: 505B01641A6B48CD6B5886243C171B | Q18: 0101 | R18: T | S18: F | T18: F | AU18: 0101505B01641A6B48CD6B5886243C171B | AV18: 17 | AW18: =CONCATENATE(A18," ",B18) -> 1종금속제가요전선관 16 mm 비방수(할증분 10%)
A19: 전선관지지대 | B19: 16 C | C19: kg/m | D19: ='산출조사서(소방전기)'!L47+'산출조사서(소방전기)'!L50+'산출조사서(소방전기)'!L65+'산출조사서(소방전기)'!L114 -> 43.999 | E19: =TRUNC(일위대가목록!E15,0) -> 0 | F19: =TRUNC(E19*D19, 0) -> 0 | G19: =TRUNC(일위대가목록!F15,0) -> 0 | H19: =TRUNC(G19*D19, 0) -> 0 | I19: =TRUNC(일위대가목록!G15,0) -> 0 | J19: =TRUNC(I19*D19, 0) -> 0 | K19: =TRUNC(E19+G19+I19, 0) -> 0 | L19: =TRUNC(F19+H19+J19, 0) -> 0 | M19: 호표 12 | N19: 505B01641A6B48C06FD8E029F22B81 | Q19: 0101 | R19: T | S19: F | T19: F | AU19: 0101505B01641A6B48C06FD8E029F22B81 | AV19: 18 | AW19: =CONCATENATE(A19," ",B19) -> 전선관지지대 16 C
A20: 전선관지지대 | B20: 22 C | C20: kg/m | D20: ='산출조사서(소방전기)'!L8+'산출조사서(소방전기)'!L11+'산출조사서(소방전기)'!L14+'산출조사서(소방전기)'!L21+'산출조사서(소방전기)'!L78+'산출조사서(소방전기)'!L90+'산출조사서(소방전기)'!L150+'산출조사서(소방전기)'!L153 -> 172.666 | E20: =TRUNC(일위대가목록!E16,0) -> 0 | F20: =TRUNC(E20*D20, 0) -> 0 | G20: =TRUNC(일위대가목록!F16,0) -> 0 | H20: =TRUNC(G20*D20, 0) -> 0 | I20: =TRUNC(일위대가목록!G16,0) -> 0 | J20: =TRUNC(I20*D20, 0) -> 0 | K20: =TRUNC(E20+G20+I20, 0) -> 0 | L20: =TRUNC(F20+H20+J20, 0) -> 0 | M20: 호표 13 | N20: 505B01641A6B48C06FD8E029F228CD | Q20: 0101 | R20: T | S20: F | T20: F | AU20: 0101505B01641A6B48C06FD8E029F228CD | AV20: 19 | AW20: =CONCATENATE(A20," ",B20) -> 전선관지지대 22 C
A21: 전선관지지대 | B21: 28 C | C21: kg/m | D21: ='산출조사서(소방전기)'!L73+'산출조사서(소방전기)'!L77+'산출조사서(소방전기)'!L83+'산출조사서(소방전기)'!L84+'산출조사서(소방전기)'!L91+'산출조사서(소방전기)'!L92+'산출조사서(소방전기)'!L99+'산출조사서(소방전기)'!L100+'산출조사서(소방전기)'!L101+'산출조사서(소방전기)'!L106 -> 87.328 | E21: =TRUNC(일위대가목록!E17,0) -> 0 | F21: =TRUNC(E21*D21, 0) -> 0 | G21: =TRUNC(일위대가목록!F17,0) -> 0 | H21: =TRUNC(G21*D21, 0) -> 0 | I21: =TRUNC(일위대가목록!G17,0) -> 0 | J21: =TRUNC(I21*D21, 0) -> 0 | K21: =TRUNC(E21+G21+I21, 0) -> 0 | L21: =TRUNC(F21+H21+J21, 0) -> 0 | M21: 호표 14 | N21: 505B01641A6B48C06FD8E029F229D4 | Q21: 0101 | R21: T | S21: F | T21: F | AU21: 0101505B01641A6B48C06FD8E029F229D4 | AV21: 20 | AW21: =CONCATENATE(A21," ",B21) -> 전선관지지대 28 C
A22: 잡철물설치(철제) | B22: 간단 | C22: kg | D22: 36 | E22: =TRUNC(일위대가목록!E8,0) -> 0 | F22: =TRUNC(E22*D22, 0) -> 0 | G22: =TRUNC(일위대가목록!F8,0) -> 0 | H22: =TRUNC(G22*D22, 0) -> 0 | I22: =TRUNC(일위대가목록!G8,0) -> 0 | J22: =TRUNC(I22*D22, 0) -> 0 | K22: =TRUNC(E22+G22+I22, 0) -> 0 | L22: =TRUNC(F22+H22+J22, 0) -> 0 | M22: 호표 5 | N22: 5011016F24EC46326CCAB425E4BD33 | Q22: 0101 | R22: T | S22: F | T22: F | AU22: 01015011016F24EC46326CCAB425E4BD33 | AV22: 11 | AW22: =CONCATENATE(A22," ",B22) -> 잡철물설치(철제) 간단
A23: 텍스 철거후 재설치 | C23: ㎡ | D23: 9.72 | E23: =TRUNC(일위대가목록!E9,0) -> 0 | F23: =TRUNC(E23*D23, 0) -> 0 | G23: =TRUNC(일위대가목록!F9,0) -> 0 | H23: =TRUNC(G23*D23, 0) -> 0 | I23: =TRUNC(일위대가목록!G9,0) -> 0 | J23: =TRUNC(I23*D23, 0) -> 0 | K23: =TRUNC(E23+G23+I23, 0) -> 0 | L23: =TRUNC(F23+H23+J23, 0) -> 0 | M23: 호표 6 | N23: 5010B167C66E4E4D6D7CDD288F9415 | Q23: 0101 | R23: T | S23: F | T23: F | AU23: 01015010B167C66E4E4D6D7CDD288F9415 | AV23: 12 | AW23: =CONCATENATE(A23," ",B23) -> 텍스 철거후 재설치
A24: 배관용 구멍뚫기(코어드릴)-Con,c | B24: 두께 30cm 이하 ∮25mm, 벽 | C24: 개소 | D24: 8 | E24: =TRUNC(일위대가목록!E10,0) -> 0 | F24: =TRUNC(E24*D24, 0) -> 0 | G24: =TRUNC(일위대가목록!F10,0) -> 0 | H24: =TRUNC(G24*D24, 0) -> 0 | I24: =TRUNC(일위대가목록!G10,0) -> 0 | J24: =TRUNC(I24*D24, 0) -> 0 | K24: =TRUNC(E24+G24+I24, 0) -> 0 | L24: =TRUNC(F24+H24+J24, 0) -> 0 | M24: 호표 7 | N24: 505B016322B745D26B9118298EB0BB | Q24: 0101 | R24: T | S24: F | T24: F | AU24: 0101505B016322B745D26B9118298EB0BB | AV24: 13 | AW24: =CONCATENATE(A24," ",B24) -> 배관용 구멍뚫기(코어드릴)-Con,c 두께 30cm 이하 ∮25mm, 벽
A25: 가스수신반 | C25: 대 | D25: 1 | E25: =TRUNC(일위대가목록!E33,0) -> 0 | F25: =TRUNC(E25*D25, 0) -> 0 | G25: =TRUNC(일위대가목록!F33,0) -> 0 | H25: =TRUNC(G25*D25, 0) -> 0 | I25: =TRUNC(일위대가목록!G33,0) -> 0 | J25: =TRUNC(I25*D25, 0) -> 0 | K25: =TRUNC(E25+G25+I25, 0) -> 0 | L25: =TRUNC(F25+H25+J25, 0) -> 0 | M25: 호표 30 | N25: 505B016424A64E5269CAC822D55C9C | Q25: 0101 | R25: T | S25: F | T25: F | AU25: 0101505B016424A64E5269CAC822D55C9C | AV25: 34 | AW25: =CONCATENATE(A25," ",B25) -> 가스수신반
A26: 전원반 | B26: 자동폐쇄장치전원반, 15A | C26: 대 | D26: 1 | E26: =TRUNC(일위대가목록!E35,0) -> 0 | F26: =TRUNC(E26*D26, 0) -> 0 | G26: =TRUNC(일위대가목록!F35,0) -> 0 | H26: =TRUNC(G26*D26, 0) -> 0 | I26: =TRUNC(일위대가목록!G35,0) -> 0 | J26: =TRUNC(I26*D26, 0) -> 0 | K26: =TRUNC(E26+G26+I26, 0) -> 0 | L26: =TRUNC(F26+H26+J26, 0) -> 0 | M26: 호표 32 | N26: 505B016424A64E5269CAC822D44BBF | Q26: 0101 | R26: T | S26: F | T26: F | AU26: 0101505B016424A64E5269CAC822D44BBF | AV26: 36 | AW26: =CONCATENATE(A26," ",B26) -> 전원반 자동폐쇄장치전원반, 15A
A27: 경종 설치 | C27: 개 | D27: 1 | E27: =TRUNC(일위대가목록!E21,0) -> 0 | F27: =TRUNC(E27*D27, 0) -> 0 | G27: =TRUNC(일위대가목록!F21,0) -> 0 | H27: =TRUNC(G27*D27, 0) -> 0 | I27: =TRUNC(일위대가목록!G21,0) -> 0 | J27: =TRUNC(I27*D27, 0) -> 0 | K27: =TRUNC(E27+G27+I27, 0) -> 0 | L27: =TRUNC(F27+H27+J27, 0) -> 0 | M27: 호표 18 | N27: 505B01641AE84E05648CA52A944A2D | Q27: 0101 | R27: T | S27: F | T27: F | AU27: 0101505B01641AE84E05648CA52A944A2D | AV27: 24 | AW27: =CONCATENATE(A27," ",B27) -> 경종 설치
A28: 화재감지기 | B28: 열감지기,차동식스포트형 | C28: 개 | D28: 10 | E28: =TRUNC(일위대가목록!E22,0) -> 0 | F28: =TRUNC(E28*D28, 0) -> 0 | G28: =TRUNC(일위대가목록!F22,0) -> 0 | H28: =TRUNC(G28*D28, 0) -> 0 | I28: =TRUNC(일위대가목록!G22,0) -> 0 | J28: =TRUNC(I28*D28, 0) -> 0 | K28: =TRUNC(E28+G28+I28, 0) -> 0 | L28: =TRUNC(F28+H28+J28, 0) -> 0 | M28: 호표 19 | N28: 505B016424A64E5269CA9C2E10B513 | Q28: 0101 | R28: T | S28: F | T28: F | AU28: 0101505B016424A64E5269CA9C2E10B513 | AV28: 25 | AW28: =CONCATENATE(A28," ",B28) -> 화재감지기 열감지기,차동식스포트형
A29: 화재감지기 | B29: 연기감지기,광전식2종-비축적 | C29: 개 | D29: 10 | E29: =TRUNC(일위대가목록!E25,0) -> 0 | F29: =TRUNC(E29*D29, 0) -> 0 | G29: =TRUNC(일위대가목록!F25,0) -> 0 | H29: =TRUNC(G29*D29, 0) -> 0 | I29: =TRUNC(일위대가목록!G25,0) -> 0 | J29: =TRUNC(I29*D29, 0) -> 0 | K29: =TRUNC(E29+G29+I29, 0) -> 0 | L29: =TRUNC(F29+H29+J29, 0) -> 0 | M29: 호표 22 | N29: 505B016424A64E5269CA9C2E10B095 | Q29: 0101 | R29: T | S29: F | T29: F | AU29: 0101505B016424A64E5269CA9C2E10B095 | AV29: 26 | AW29: =CONCATENATE(A29," ",B29) -> 화재감지기 연기감지기,광전식2종-비축적
A30: 전자사이렌 설치 | B30: DC 24V | C30: 개 | D30: 6 | E30: =TRUNC(일위대가목록!E28,0) -> 0 | F30: =TRUNC(E30*D30, 0) -> 0 | G30: =TRUNC(일위대가목록!F28,0) -> 0 | H30: =TRUNC(G30*D30, 0) -> 0 | I30: =TRUNC(일위대가목록!G28,0) -> 0 | J30: =TRUNC(I30*D30, 0) -> 0 | K30: =TRUNC(E30+G30+I30, 0) -> 0 | L30: =TRUNC(F30+H30+J30, 0) -> 0 | M30: 호표 25 | N30: 505B016424A64E5269CAAD250205F0 | Q30: 0101 | R30: T | S30: F | T30: F | AU30: 0101505B016424A64E5269CAAD250205F0 | AV30: 29 | AW30: =CONCATENATE(A30," ",B30) -> 전자사이렌 설치 DC 24V
A31: 자동폐쇄장치-창문형 | B31: DC-24V | C31: 개 | D31: 2 | E31: =TRUNC(일위대가목록!E29,0) -> 0 | F31: =TRUNC(E31*D31, 0) -> 0 | G31: =TRUNC(일위대가목록!F29,0) -> 0 | H31: =TRUNC(G31*D31, 0) -> 0 | I31: =TRUNC(일위대가목록!G29,0) -> 0 | J31: =TRUNC(I31*D31, 0) -> 0 | K31: =TRUNC(E31+G31+I31, 0) -> 0 | L31: =TRUNC(F31+H31+J31, 0) -> 0 | M31: 호표 26 | N31: 505B016424A64E5269CABF2B04DBB6 | Q31: 0101 | R31: T | S31: F | T31: F | AU31: 0101505B016424A64E5269CABF2B04DBB6 | AV31: 30 | AW31: =CONCATENATE(A31," ",B31) -> 자동폐쇄장치-창문형 DC-24V
A32: 자동폐쇄장치-방화문 | B32: DC-24V | C32: 개 | D32: 10 | E32: =TRUNC(일위대가목록!E30,0) -> 0 | F32: =TRUNC(E32*D32, 0) -> 0 | G32: =TRUNC(일위대가목록!F30,0) -> 0 | H32: =TRUNC(G32*D32, 0) -> 0 | I32: =TRUNC(일위대가목록!G30,0) -> 0 | J32: =TRUNC(I32*D32, 0) -> 0 | K32: =TRUNC(E32+G32+I32, 0) -> 0 | L32: =TRUNC(F32+H32+J32, 0) -> 0 | M32: 호표 27 | N32: 505B016424A64E5269CABF2B04DA98 | Q32: 0101 | R32: T | S32: F | T32: F | AU32: 0101505B016424A64E5269CABF2B04DA98 | AV32: 31 | AW32: =CONCATENATE(A32," ",B32) -> 자동폐쇄장치-방화문 DC-24V
A33: 경비실 부수신기 재결선 | B33: 지하층 2구역 철거 및 지하수신기 1구역 연동 | C33: 대 | D33: 1 | E33: =TRUNC(일위대가목록!E31,0) -> 0 | F33: =TRUNC(E33*D33, 0) -> 0 | G33: =TRUNC(일위대가목록!F31,0) -> 0 | H33: =TRUNC(G33*D33, 0) -> 0 | I33: =TRUNC(일위대가목록!G31,0) -> 0 | J33: =TRUNC(I33*D33, 0) -> 0 | K33: =TRUNC(E33+G33+I33, 0) -> 0 | L33: =TRUNC(F33+H33+J33, 0) -> 0 | M33: 호표 28 | N33: 505B016424A64E5269CAC822D7000C | Q33: 0101 | R33: T | S33: F | T33: F | AU33: 0101505B016424A64E5269CAC822D7000C | AV33: 32 | AW33: =CONCATENATE(A33," ",B33) -> 경비실 부수신기 재결선 지하층 2구역 철거 및 지하수신기 1구역 연동
A34: 통제실 메인수신기 재결선 | B34: 지하층 2구역 철거 및 지하수신기 1구역 연동 | C34: 대 | D34: 1 | E34: =TRUNC(일위대가목록!E32,0) -> 0 | F34: =TRUNC(E34*D34, 0) -> 0 | G34: =TRUNC(일위대가목록!F32,0) -> 0 | H34: =TRUNC(G34*D34, 0) -> 0 | I34: =TRUNC(일위대가목록!G32,0) -> 0 | J34: =TRUNC(I34*D34, 0) -> 0 | K34: =TRUNC(E34+G34+I34, 0) -> 0 | L34: =TRUNC(F34+H34+J34, 0) -> 0 | M34: 호표 29 | N34: 505B016424A64E5269CAC822D7000F | Q34: 0101 | R34: T | S34: F | T34: F | AU34: 0101505B016424A64E5269CAC822D7000F | AV34: 33 | AW34: =CONCATENATE(A34," ",B34) -> 통제실 메인수신기 재결선 지하층 2구역 철거 및 지하수신기 1구역 연동
A35: 걸이시설설치 | B35: 생명줄포함 | C35: 개소 | D35: ='산출조사서(소방전기)'!L32 -> 16 | E35: =TRUNC(일위대가목록!E34,0) -> 0 | F35: =TRUNC(E35*D35, 0) -> 0 | G35: =TRUNC(일위대가목록!F34,0) -> 0 | H35: =TRUNC(G35*D35, 0) -> 0 | I35: =TRUNC(일위대가목록!G34,0) -> 0 | J35: =TRUNC(I35*D35, 0) -> 0 | K35: =TRUNC(E35+G35+I35, 0) -> 0 | L35: =TRUNC(F35+H35+J35, 0) -> 0 | M35: 호표 31 | N35: 505B016424A64E5269CAC822D44C45 | Q35: 0101 | R35: T | S35: F | T35: F | AU35: 0101505B016424A64E5269CAC822D44C45 | AV35: 35 | AW35: =CONCATENATE(A35," ",B35) -> 걸이시설설치 생명줄포함
A36: 화재감지기 - 철거 | C36: 개 | D36: 20 | E36: =TRUNC(일위대가목록!E26,0) -> 0 | F36: =TRUNC(E36*D36, 0) -> 0 | G36: =TRUNC(일위대가목록!F26,0) -> 0 | H36: =TRUNC(G36*D36, 0) -> 0 | I36: =TRUNC(일위대가목록!G26,0) -> 0 | J36: =TRUNC(I36*D36, 0) -> 0 | K36: =TRUNC(E36+G36+I36, 0) -> 0 | L36: =TRUNC(F36+H36+J36, 0) -> 0 | M36: 호표 23 | N36: 505B016424A64E5269CA9C2E10B25F | Q36: 0101 | R36: T | S36: F | T36: F | AU36: 0101505B016424A64E5269CA9C2E10B25F | AV36: 27 | AW36: =CONCATENATE(A36," ",B36) -> 화재감지기 - 철거
A37: 전자싸이렌 - 철거 | C37: M | D37: 6 | E37: =TRUNC(일위대가목록!E27,0) -> 0 | F37: =TRUNC(E37*D37, 0) -> 0 | G37: =TRUNC(일위대가목록!F27,0) -> 0 | H37: =TRUNC(G37*D37, 0) -> 0 | I37: =TRUNC(일위대가목록!G27,0) -> 0 | J37: =TRUNC(I37*D37, 0) -> 0 | K37: =TRUNC(E37+G37+I37, 0) -> 0 | L37: =TRUNC(F37+H37+J37, 0) -> 0 | M37: 호표 24 | N37: 505B016424A64E5269CA9C2E10BC4B | Q37: 0101 | R37: T | S37: F | T37: F | AU37: 0101505B016424A64E5269CA9C2E10BC4B | AV37: 28 | AW37: =CONCATENATE(A37," ",B37) -> 전자싸이렌 - 철거
A38: 아우트렛박스 | B38: 중형4각 54㎜ | C38: 대 | D38: 6 | E38: =TRUNC(일위대가목록!E37,0) -> 0 | F38: =TRUNC(E38*D38, 0) -> 0 | G38: =TRUNC(일위대가목록!F37,0) -> 0 | H38: =TRUNC(G38*D38, 0) -> 0 | I38: =TRUNC(일위대가목록!G37,0) -> 0 | J38: =TRUNC(I38*D38, 0) -> 0 | K38: =TRUNC(E38+G38+I38, 0) -> 0 | L38: =TRUNC(F38+H38+J38, 0) -> 0 | M38: 호표 33 | N38: 505B016424794B996FF06424F6D40C | Q38: 0101 | R38: T | S38: F | T38: F | AU38: 0101505B016424794B996FF06424F6D40C | AV38: 37 | AW38: =CONCATENATE(A38," ",B38) -> 아우트렛박스 중형4각 54㎜
A39: 덕트관통부채움 | C39: EA | D39: 4 | E39: =TRUNC(일위대가목록!E23,0) -> 0 | F39: =TRUNC(E39*D39, 0) -> 0 | G39: =TRUNC(일위대가목록!F23,0) -> 0 | H39: =TRUNC(G39*D39, 0) -> 0 | I39: =TRUNC(일위대가목록!G23,0) -> 0 | J39: =TRUNC(I39*D39, 0) -> 0 | K39: =TRUNC(E39+G39+I39, 0) -> 0 | L39: =TRUNC(F39+H39+J39, 0) -> 0 | M39: 호표 20 | N39: 505B016424A64E5269CA9C2E10B510 | Q39: 0101 | R39: T | S39: F | T39: F | AU39: 0101505B016424A64E5269CA9C2E10B510 | AV39: 4 | AW39: =CONCATENATE(A39," ",B39) -> 덕트관통부채움
A40: 배관관통부채움 | C40: EA | D40: 1 | E40: =TRUNC(일위대가목록!E24,0) -> 0 | F40: =TRUNC(E40*D40, 0) -> 0 | G40: =TRUNC(일위대가목록!F24,0) -> 0 | H40: =TRUNC(G40*D40, 0) -> 0 | I40: =TRUNC(일위대가목록!G24,0) -> 0 | J40: =TRUNC(I40*D40, 0) -> 0 | K40: =TRUNC(E40+G40+I40, 0) -> 0 | L40: =TRUNC(F40+H40+J40, 0) -> 0 | M40: 호표 21 | N40: 505B016424A64E5269CA9C2E10B517 | Q40: 0101 | R40: T | S40: F | T40: F | AU40: 0101505B016424A64E5269CA9C2E10B517 | AV40: 5 | AW40: =CONCATENATE(A40," ",B40) -> 배관관통부채움
A41: 강관 조립말비계(이동식)설치 및 해체 | B41: 높이 4m, 3개월 | C41: 대 | D41: 4 | E41: =TRUNC(일위대가목록!E7,0) -> 0 | F41: =TRUNC(E41*D41, 0) -> 0 | G41: =TRUNC(일위대가목록!F7,0) -> 0 | H41: =TRUNC(G41*D41, 0) -> 0 | I41: =TRUNC(일위대가목록!G7,0) -> 0 | J41: =TRUNC(I41*D41, 0) -> 0 | K41: =TRUNC(E41+G41+I41, 0) -> 0 | L41: =TRUNC(F41+H41+J41, 0) -> 0 | M41: 호표 4 | N41: 5011B16E8E4F41386BB4A82D93F3F7 | Q41: 0101 | R41: T | S41: F | T41: F | AU41: 01015011B16E8E4F41386BB4A82D93F3F7 | AV41: 38 | AW41: =CONCATENATE(A41," ",B41) -> 강관 조립말비계(이동식)설치 및 해체 높이 4m, 3개월
A42: 방화실리콘 실란트 | B42: 300ml | C42: 개 | D42: 13 | E42: =TRUNC(단가대비표!O25,0) -> 11000 | F42: =TRUNC(E42*D42, 0) -> 143000 | G42: =TRUNC(단가대비표!P25,0) -> 0 | H42: =TRUNC(G42*D42, 0) -> 0 | I42: =TRUNC(단가대비표!V25,0) -> 0 | J42: =TRUNC(I42*D42, 0) -> 0 | K42: =TRUNC(E42+G42+I42, 0) -> 11000 | L42: =TRUNC(F42+H42+J42, 0) -> 143000 | M42: 자재 21 | N42: 5732A16FD39B4CFA63CA662B17FC2C1E7F660A | Q42: 0101 | R42: F | S42: F | T42: T | AU42: 01015732A16FD39B4CFA63CA662B17FC2C1E7F660A | AV42: 6 | AW42: =CONCATENATE(A42," ",B42) -> 방화실리콘 실란트 300ml
A43: PVC 파이프 캡 | C43: 개 | D43: 10 | E43: =TRUNC(단가대비표!O28,0) -> 640 | F43: =TRUNC(E43*D43, 0) -> 6400 | G43: =TRUNC(단가대비표!P28,0) -> 0 | H43: =TRUNC(G43*D43, 0) -> 0 | I43: =TRUNC(단가대비표!V28,0) -> 0 | J43: =TRUNC(I43*D43, 0) -> 0 | K43: =TRUNC(E43+G43+I43, 0) -> 640 | L43: =TRUNC(F43+H43+J43, 0) -> 6400 | M43: 자재 24 | N43: 5732216A746F4D936A27A42493CA481FC1D8E1 | Q43: 0101 | R43: F | S43: F | T43: T | AU43: 01015732216A746F4D936A27A42493CA481FC1D8E1 | AV43: 7 | AW43: =CONCATENATE(A43," ",B43) -> PVC 파이프 캡
A44: 화물트럭 운반비 | B44: 1TON 기준 | C44: 일 | D44: 1 | E44: =TRUNC(단가대비표!O40,0) -> 0 | F44: =TRUNC(E44*D44, 0) -> 0 | G44: =TRUNC(단가대비표!P40,0) -> 0 | H44: =TRUNC(G44*D44, 0) -> 0 | I44: =TRUNC(단가대비표!V40,0) -> 195900 | J44: =TRUNC(I44*D44, 0) -> 195900 | K44: =TRUNC(E44+G44+I44, 0) -> 195900 | L44: =TRUNC(F44+H44+J44, 0) -> 195900 | M44: 자재 36 | N44: 5743416A3BB7490C6653CC265A7FA04F60A5B4 | Q44: 0101 | R44: F | S44: F | T44: T | AU44: 01015743416A3BB7490C6653CC265A7FA04F60A5B4 | AV44: 9 | AW44: =CONCATENATE(A44," ",B44) -> 화물트럭 운반비 1TON 기준
A45: 방화포 | C45: ROLL | D45: 1 | E45: =TRUNC(단가대비표!O45,0) -> 781000 | F45: =TRUNC(E45*D45, 0) -> 781000 | G45: =TRUNC(단가대비표!P45,0) -> 0 | H45: =TRUNC(G45*D45, 0) -> 0 | I45: =TRUNC(단가대비표!V45,0) -> 0 | J45: =TRUNC(I45*D45, 0) -> 0 | K45: =TRUNC(E45+G45+I45, 0) -> 781000 | L45: =TRUNC(F45+H45+J45, 0) -> 781000 | M45: 자재 41 | N45: 5743416A3B4C482B60E2AF2047342E7407CDA9 | Q45: 0101 | R45: F | S45: F | T45: T | AU45: 01015743416A3B4C482B60E2AF2047342E7407CDA9 | AV45: 10 | AW45: =CONCATENATE(A45," ",B45) -> 방화포
A46: 공구손료 | B46: 노무비의 3% | C46: 식 | D46: 1 | E46: =H62*0.03 -> 0 | F46: =TRUNC(E46*D46, 0) -> 0 | L46: =TRUNC(F46+H46+J46, 0) -> 0 | Q46: 0101 | AW46: =CONCATENATE(A46," ",B46) -> 공구손료 노무비의 3%
Q47: 0101 | AW47: =CONCATENATE(A47," ",B47)
Q48: 0101 | AW48: =CONCATENATE(A48," ",B48)
Q49: 0101 | AW49: =CONCATENATE(A49," ",B49)
Q50: 0101 | AW50: =CONCATENATE(A50," ",B50)
Q51: 0101 | AW51: =CONCATENATE(A51," ",B51)
Q52: 0101 | AW52: =CONCATENATE(A52," ",B52)
Q53: 0101 | AW53: =CONCATENATE(A53," ",B53)
Q54: 0101 | AW54: =CONCATENATE(A54," ",B54)
Q55: 0101 | AW55: =CONCATENATE(A55," ",B55)
Q56: 0101 | AW56: =CONCATENATE(A56," ",B56)
Q57: 0101 | AW57: =CONCATENATE(A57," ",B57)
Q58: 0101 | AW58: =CONCATENATE(A58," ",B58)
... Q61: 0101 | AW61: =CONCATENATE(A61," ",B61)
A62: [ 합 계 ] | F62: =SUMIF(Q5:Q61,"0101",F5:F61) -> 930400 | H62: =SUMIF(Q5:Q61,"0101",H5:H61) -> 0 | J62: =SUMIF(Q5:Q61,"0101",J5:J61) -> 195900 | L62: =SUMIF(Q5:Q61,"0101",L5:L61) -> 1126300 | N62: TOTAL | AW62: =CONCATENATE(A62," ",B62) -> [ 합 계 ]
A63: 0102 할로겐소화약제설비공사 | Q63: 0102 | AW63: =CONCATENATE(A63," ",B63) -> 0102 할로겐소화약제설비공사
A64: AnyFire(FK-5-1-12) 모듈러 | B64: 82.5L/90KG/2BT | C64: SET | D64: 1 | E64: =TRUNC(단가대비표!O61,0) -> 9600000 | F64: =TRUNC(E64*D64, 0) -> 9600000 | G64: =TRUNC(단가대비표!P61,0) -> 308851 | H64: =TRUNC(G64*D64, 0) -> 308851 | I64: =TRUNC(단가대비표!V61,0) -> 0 | J64: =TRUNC(I64*D64, 0) -> 0 | K64: =TRUNC(E64+G64+I64, 0) -> 9908851 | L64: =TRUNC(F64+H64+J64, 0) -> 9908851 | M64: 자재 45 | N64: 51859163152E473D6A10602155A92333E6E763 | Q64: 0102 | R64: F | S64: F | T64: T | AU64: 010251859163152E473D6A10602155A92333E6E763 | AV64: 40 | AW64: =CONCATENATE(A64," ",B64) -> AnyFire(FK-5-1-12) 모듈러 82.5L/90KG/2BT
A65: AnyFire(FK-5-1-12) 모듈러 | B65: 82.5L/80KG/2BT | C65: SET | D65: 4 | E65: =TRUNC(단가대비표!O62,0) -> 8800000 | F65: =TRUNC(E65*D65, 0) -> 35200000 | G65: =TRUNC(단가대비표!P62,0) -> 308851 | H65: =TRUNC(G65*D65, 0) -> 1235404 | I65: =TRUNC(단가대비표!V62,0) -> 0 | J65: =TRUNC(I65*D65, 0) -> 0 | K65: =TRUNC(E65+G65+I65, 0) -> 9108851 | L65: =TRUNC(F65+H65+J65, 0) -> 36435404 | M65: 자재 46 | N65: 51859163152E473D6A10602155A92333E6E762 | Q65: 0102 | R65: F | S65: F | T65: T | AU65: 010251859163152E473D6A10602155A92333E6E762 | AV65: 41 | AW65: =CONCATENATE(A65," ",B65) -> AnyFire(FK-5-1-12) 모듈러 82.5L/80KG/2BT
A66: AnyFire(FK-5-1-12) 모듈러 | B66: 82.5L/70KG/2BT | C66: SET | D66: 1 | E66: =TRUNC(단가대비표!O63,0) -> 8000000 | F66: =TRUNC(E66*D66, 0) -> 8000000 | G66: =TRUNC(단가대비표!P63,0) -> 308851 | H66: =TRUNC(G66*D66, 0) -> 308851 | I66: =TRUNC(단가대비표!V63,0) -> 0 | J66: =TRUNC(I66*D66, 0) -> 0 | K66: =TRUNC(E66+G66+I66, 0) -> 8308851 | L66: =TRUNC(F66+H66+J66, 0) -> 8308851 | M66: 자재 47 | N66: 51859163152E473D6A10602155A92333E6E761 | Q66: 0102 | R66: F | S66: F | T66: T | AU66: 010251859163152E473D6A10602155A92333E6E761 | AV66: 42 | AW66: =CONCATENATE(A66," ",B66) -> AnyFire(FK-5-1-12) 모듈러 82.5L/70KG/2BT
A67: AnyFire(FK-5-1-12) 모듈러 | B67: 82.5L/70KG/1BT | C67: SET | D67: 1 | E67: =TRUNC(단가대비표!O64,0) -> 4400000 | F67: =TRUNC(E67*D67, 0) -> 4400000 | G67: =TRUNC(단가대비표!P64,0) -> 154426 | H67: =TRUNC(G67*D67, 0) -> 154426 | I67: =TRUNC(단가대비표!V64,0) -> 0 | J67: =TRUNC(I67*D67, 0) -> 0 | K67: =TRUNC(E67+G67+I67, 0) -> 4554426 | L67: =TRUNC(F67+H67+J67, 0) -> 4554426 | M67: 자재 48 | N67: 51859163152E473D6A10602155A92333E6E760 | Q67: 0102 | R67: F | S67: F | T67: T | AU67: 010251859163152E473D6A10602155A92333E6E760 | AV67: 43 | AW67: =CONCATENATE(A67," ",B67) -> AnyFire(FK-5-1-12) 모듈러 82.5L/70KG/1BT
A68: AnyFire(FK-5-1-12) 모듈러 | B68: 82.5L/60KG/1BT | C68: SET | D68: 2 | E68: =TRUNC(단가대비표!O65,0) -> 4000000 | F68: =TRUNC(E68*D68, 0) -> 8000000 | G68: =TRUNC(단가대비표!P65,0) -> 154426 | H68: =TRUNC(G68*D68, 0) -> 308852 | I68: =TRUNC(단가대비표!V65,0) -> 0 | J68: =TRUNC(I68*D68, 0) -> 0 | K68: =TRUNC(E68+G68+I68, 0) -> 4154426 | L68: =TRUNC(F68+H68+J68, 0) -> 8308852 | M68: 자재 49 | N68: 51859163152E473D6A10602155A92333E6E76F | Q68: 0102 | R68: F | S68: F | T68: T | AU68: 010251859163152E473D6A10602155A92333E6E76F | AV68: 44 | AW68: =CONCATENATE(A68," ",B68) -> AnyFire(FK-5-1-12) 모듈러 82.5L/60KG/1BT
A69: 솔레노이드밸브 | B69: DC-24V | C69: EA | D69: 6 | E69: =TRUNC(단가대비표!O66,0) -> 150000 | F69: =TRUNC(E69*D69, 0) -> 900000 | G69: =TRUNC(단가대비표!P66,0) -> 0 | H69: =TRUNC(G69*D69, 0) -> 0 | I69: =TRUNC(단가대비표!V66,0) -> 0 | J69: =TRUNC(I69*D69, 0) -> 0 | K69: =TRUNC(E69+G69+I69, 0) -> 150000 | L69: =TRUNC(F69+H69+J69, 0) -> 900000 | M69: 자재 50 | N69: 51859163152E473D6A10602155A92333E6E76E | Q69: 0102 | R69: F | S69: F | T69: T | AU69: 010251859163152E473D6A10602155A92333E6E76E | AV69: 45 | AW69: =CONCATENATE(A69," ",B69) -> 솔레노이드밸브 DC-24V
A70: 니들밸브 | B70: 6A | C70: EA | D70: 9 | E70: =TRUNC(단가대비표!O67,0) -> 50000 | F70: =TRUNC(E70*D70, 0) -> 450000 | G70: =TRUNC(단가대비표!P67,0) -> 0 | H70: =TRUNC(G70*D70, 0) -> 0 | I70: =TRUNC(단가대비표!V67,0) -> 0 | J70: =TRUNC(I70*D70, 0) -> 0 | K70: =TRUNC(E70+G70+I70, 0) -> 50000 | L70: =TRUNC(F70+H70+J70, 0) -> 450000 | M70: 자재 51 | N70: 51859163152E473D6A10602155A92333E6E641 | Q70: 0102 | R70: F | S70: F | T70: T | AU70: 010251859163152E473D6A10602155A92333E6E641 | AV70: 46 | AW70: =CONCATENATE(A70," ",B70) -> 니들밸브 6A
A71: 내진가대(기본형) | B71: 모듈러 -2BT | C71: EA | D71: 6 | E71: =TRUNC(단가대비표!O68,0) -> 850000 | F71: =TRUNC(E71*D71, 0) -> 5100000 | G71: =TRUNC(단가대비표!P68,0) -> 256546 | H71: =TRUNC(G71*D71, 0) -> 1539276 | I71: =TRUNC(단가대비표!V68,0) -> 0 | J71: =TRUNC(I71*D71, 0) -> 0 | K71: =TRUNC(E71+G71+I71, 0) -> 1106546 | L71: =TRUNC(F71+H71+J71, 0) -> 6639276 | M71: 자재 52 | N71: 51859163152E473D6A10602155A92333E6E640 | Q71: 0102 | R71: F | S71: F | T71: T | AU71: 010251859163152E473D6A10602155A92333E6E640 | AV71: 47 | AW71: =CONCATENATE(A71," ",B71) -> 내진가대(기본형) 모듈러 -2BT
A72: 내진가대(기본형) | B72: 모듈러 -1BT | C72: EA | D72: 3 | E72: =TRUNC(단가대비표!O69,0) -> 750000 | F72: =TRUNC(E72*D72, 0) -> 2250000 | G72: =TRUNC(단가대비표!P69,0) -> 256546 | H72: =TRUNC(G72*D72, 0) -> 769638 | I72: =TRUNC(단가대비표!V69,0) -> 0 | J72: =TRUNC(I72*D72, 0) -> 0 | K72: =TRUNC(E72+G72+I72, 0) -> 1006546 | L72: =TRUNC(F72+H72+J72, 0) -> 3019638 | M72: 자재 53 | N72: 51859163152E473D6A10602155A92333E6E643 | Q72: 0102 | R72: F | S72: F | T72: T | AU72: 010251859163152E473D6A10602155A92333E6E643 | AV72: 48 | AW72: =CONCATENATE(A72," ",B72) -> 내진가대(기본형) 모듈러 -1BT
A73: FK-5-1-12 Nozzle(360˚) | B73: 50A | C73: EA | D73: 3 | E73: =TRUNC(단가대비표!O70,0) -> 65000 | F73: =TRUNC(E73*D73, 0) -> 195000 | G73: =TRUNC(단가대비표!P70,0) -> 52306 | H73: =TRUNC(G73*D73, 0) -> 156918 | I73: =TRUNC(단가대비표!V70,0) -> 0 | J73: =TRUNC(I73*D73, 0) -> 0 | K73: =TRUNC(E73+G73+I73, 0) -> 117306 | L73: =TRUNC(F73+H73+J73, 0) -> 351918 | M73: 자재 54 | N73: 51859163152E473D6A10602155A92333E6E642 | Q73: 0102 | R73: F | S73: F | T73: T | AU73: 010251859163152E473D6A10602155A92333E6E642 | AV73: 49 | AW73: =CONCATENATE(A73," ",B73) -> FK-5-1-12 Nozzle(360˚) 50A
A74: FK-5-1-12 Nozzle(180˚) | B74: 50A | C74: EA | D74: 3 | E74: =TRUNC(단가대비표!O71,0) -> 65000 | F74: =TRUNC(E74*D74, 0) -> 195000 | G74: =TRUNC(단가대비표!P71,0) -> 52306 | H74: =TRUNC(G74*D74, 0) -> 156918 | I74: =TRUNC(단가대비표!V71,0) -> 0 | J74: =TRUNC(I74*D74, 0) -> 0 | K74: =TRUNC(E74+G74+I74, 0) -> 117306 | L74: =TRUNC(F74+H74+J74, 0) -> 351918 | M74: 자재 55 | N74: 51859163152E473D6A10602155A92333E6E645 | Q74: 0102 | R74: F | S74: F | T74: T | AU74: 010251859163152E473D6A10602155A92333E6E645 | AV74: 50 | AW74: =CONCATENATE(A74," ",B74) -> FK-5-1-12 Nozzle(180˚) 50A
A75: FK-5-1-12 Nozzle(360˚) | B75: 40A | C75: EA | D75: 1 | E75: =TRUNC(단가대비표!O72,0) -> 52000 | F75: =TRUNC(E75*D75, 0) -> 52000 | G75: =TRUNC(단가대비표!P72,0) -> 52306 | H75: =TRUNC(G75*D75, 0) -> 52306 | I75: =TRUNC(단가대비표!V72,0) -> 0 | J75: =TRUNC(I75*D75, 0) -> 0 | K75: =TRUNC(E75+G75+I75, 0) -> 104306 | L75: =TRUNC(F75+H75+J75, 0) -> 104306 | M75: 자재 56 | N75: 51859163152E473D6A10602155A92333E6E644 | Q75: 0102 | R75: F | S75: F | T75: T | AU75: 010251859163152E473D6A10602155A92333E6E644 | AV75: 51 | AW75: =CONCATENATE(A75," ",B75) -> FK-5-1-12 Nozzle(360˚) 40A
... A134: 소공간 공구손료 | B134: 노무비의 3% | C134: 식 | D134: 1 | E134: =TRUNC(단가대비표!O131,0) -> 16567 | F134: =TRUNC(E134*D134, 0) -> 16567 | G134: =TRUNC(단가대비표!P131,0) -> 0 | H134: =TRUNC(G134*D134, 0) -> 0 | I134: =TRUNC(단가대비표!V131,0) -> 0 | J134: =TRUNC(I134*D134, 0) -> 0 | K134: =TRUNC(E134+G134+I134, 0) -> 16567 | L134: =TRUNC(F134+H134+J134, 0) -> 16567 | M134: 자재 115 | N134: 51859163152E473D6A10602155A92333E6E03E | Q134: 0102 | R134: F | S134: F | T134: T | AU134: 010251859163152E473D6A10602155A92333E6E03E | AV134: 110 | AW134: =CONCATENATE(A134," ",B134) -> 소공간 공구손료 노무비의 3%
Q135: 0102 | AW135: =CONCATENATE(A135," ",B135)
Q136: 0102 | AW136: =CONCATENATE(A136," ",B136)
Q137: 0102 | AW137: =CONCATENATE(A137," ",B137)
Q138: 0102 | AW138: =CONCATENATE(A138," ",B138)
Q139: 0102 | AW139: =CONCATENATE(A139," ",B139)
A140: [ 합 계 ] | F140: =SUMIF(Q64:Q139,"0102",F64:F139) -> 89756813 | H140: =SUMIF(Q64:Q139,"0102",H64:H139) -> 29694742 | J140: =SUMIF(Q64:Q139,"0102",J64:J139) -> 0 | L140: =SUMIF(Q64:Q139,"0102",L64:L139) -> 119451555 | N140: TOTAL | AW140: =CONCATENATE(A140," ",B140) -> [ 합 계 ]
A141: 0103 철거공사 | Q141: 0103 | AW141: =CONCATENATE(A141," ",B141) -> 0103 철거공사
A142: CO2실린더 철거 | B142: 68L/45KG | C142: BTL | M142: 자재 116 | N142: 51859163152E473D6A10602155A92333E6E030 | Q142: 0103 | R142: F | S142: F | T142: T | AU142: 010351859163152E473D6A10602155A92333E6E030 | AV142: 112 | AW142: =CONCATENATE(A142," ",B142) -> CO2실린더 철거 68L/45KG
A143: 선택밸브 철거 | B143: 80A | C143: 개소 | M143: 자재 117 | N143: 51859163152E473D6A10602155A92333E6E031 | Q143: 0103 | R143: F | S143: F | T143: T | AU143: 010351859163152E473D6A10602155A92333E6E031 | AV143: 113 | AW143: =CONCATENATE(A143," ",B143) -> 선택밸브 철거 80A
A144: 기동용기함 철거 | B144: 0 | C144: 개소 | M144: 자재 118 | N144: 51859163152E473D6A10602155A92333E6EFBD | Q144: 0103 | R144: F | S144: F | T144: T | AU144: 010351859163152E473D6A10602155A92333E6EFBD | AV144: 114 | AW144: =CONCATENATE(A144," ",B144) -> 기동용기함 철거 0
A145: SCH80 PIPE 철거 | B145: 80A | C145: M | M145: 자재 119 | N145: 51859163152E473D6A10602155A92333E6EFBC | Q145: 0103 | R145: F | S145: F | T145: T | AU145: 010351859163152E473D6A10602155A92333E6EFBC | AV145: 115 | AW145: =CONCATENATE(A145," ",B145) -> SCH80 PIPE 철거 80A
A146: SCH80 PIPE 철거 | B146: 65A | C146: M | M146: 자재 120 | N146: 51859163152E473D6A10602155A92333E6EFBF | Q146: 0103 | R146: F | S146: F | T146: T | AU146: 010351859163152E473D6A10602155A92333E6EFBF | AV146: 116 | AW146: =CONCATENATE(A146," ",B146) -> SCH80 PIPE 철거 65A
A147: SCH80 PIPE 철거 | B147: 40A | C147: M | M147: 자재 121 | N147: 51859163152E473D6A10602155A92333E6EFBE | Q147: 0103 | R147: F | S147: F | T147: T | AU147: 010351859163152E473D6A10602155A92333E6EFBE | AV147: 117 | AW147: =CONCATENATE(A147," ",B147) -> SCH80 PIPE 철거 40A
A148: SCH80 PIPE 철거 | B148: 32A | C148: M | M148: 자재 122 | N148: 51859163152E473D6A10602155A92333E6EFB9 | Q148: 0103 | R148: F | S148: F | T148: T | AU148: 010351859163152E473D6A10602155A92333E6EFB9 | AV148: 118 | AW148: =CONCATENATE(A148," ",B148) -> SCH80 PIPE 철거 32A
A149: SCH80 PIPE 철거 | B149: 25A | C149: M | M149: 자재 123 | N149: 51859163152E473D6A10602155A92333E6EFB8 | Q149: 0103 | R149: F | S149: F | T149: T | AU149: 010351859163152E473D6A10602155A92333E6EFB8 | AV149: 119 | AW149: =CONCATENATE(A149," ",B149) -> SCH80 PIPE 철거 25A
A150: CO2 노즐 철거 | B150: 25A | C150: EA | M150: 자재 124 | N150: 51859163152E473D6A10602155A92333E6EFBB | Q150: 0103 | R150: F | S150: F | T150: T | AU150: 010351859163152E473D6A10602155A92333E6EFBB | AV150: 120 | AW150: =CONCATENATE(A150," ",B150) -> CO2 노즐 철거 25A
A151: 철거 공구손료 | B151: 노무비의 3% | C151: 식 | M151: 자재 125 | N151: 51859163152E473D6A10602155A92333E6EFBA | Q151: 0103 | R151: F | S151: F | T151: T | AU151: 010351859163152E473D6A10602155A92333E6EFBA | AV151: 121 | AW151: =CONCATENATE(A151," ",B151) -> 철거 공구손료 노무비의 3%
Q152: 0103 | AW152: =CONCATENATE(A152," ",B152)
Q153: 0103 | AW153: =CONCATENATE(A153," ",B153)
Q154: 0103 | AW154: =CONCATENATE(A154," ",B154)
Q155: 0103 | AW155: =CONCATENATE(A155," ",B155)
Q156: 0103 | AW156: =CONCATENATE(A156," ",B156)
Q157: 0103 | AW157: =CONCATENATE(A157," ",B157)
Q158: 0103 | AW158: =CONCATENATE(A158," ",B158)
Q159: 0103 | AW159: =CONCATENATE(A159," ",B159)
Q160: 0103 | AW160: =CONCATENATE(A160," ",B160)
...

Sheet 일위대가목록
B1: 일 위 대 가 목 록
B2: ='공종별내역서(철거)'!A1 -> [ 사옥 이산화탄소 소화설비 교체공사 ]
A3: 코 드 | B3: 품 명 | C3: 규 격 | D3: 단위 | E3: 재 료 비 | F3: 노 무 비 | G3: 경 비 | H3: 합 계 | I3: 번 호 | J3: 비 고 | K3: 노임계수 | L3: 할증 | M3: 품셈개요 | N3: 장비일위
A4: 570571624ABE4A0163D71B258390B9F8003DC7D9 | B4: 코아드릴 | C4: 15.24cm | D4: HR | I4: 호표 1 | K4: A | M4: 공통 8-3(5901) | N4: T
A5: 570571624ABE485D6445CD2588BD1A84505F2A5F | B5: 용접기(교류) | C5: 500Amp | D5: HR | I5: 호표 2 | K5: A | M5: 공통 8-3(7611) | N5: T
A6: 5011B16E8E4F41386BB4A82F4045DA | B6: 강관 조립말비계(이동식)설치 및 해체 | C6: 높이 4m, 노무비 | D6: 대 | I6: 호표 3 | M6: 공통 2-7-6
A7: 5011B16E8E4F41386BB4A82D93F3F7 | B7: 강관 조립말비계(이동식)설치 및 해체 | C7: 높이 4m, 3개월 | D7: 대 | I7: 호표 4 | M7: 공통 2-7-6, 2-2-5
A8: 5011016F24EC46326CCAB425E4BD33 | B8: 잡철물설치(철제) | C8: 간단 | D8: kg | I8: 호표 5 | M8: 건축 8-4-1
A9: 5010B167C66E4E4D6D7CDD288F9415 | B9: 텍스 철거후 재설치 | D9: ㎡ | I9: 호표 6 | M9: 건축 12-2-1
A10: 505B016322B745D26B9118298EB0BB | B10: 배관용 구멍뚫기(코어드릴)-Con,c | C10: 두께 30cm 이하 ∮25mm, 벽 | D10: 개소 | I10: 호표 7 | M10: 전기 5-29-2.나
A11: 505B01641A6B48CC6AE99620450FAC | B11: 강제 전선관 | C11: 아연도 16 mm | D11: M | I11: 호표 8 | M11: 전기 5-1
A12: 505B01641A6B48CC6AE99620450CD7 | B12: 강제 전선관 | C12: 아연도 22 mm | D12: M | I12: 호표 9 | M12: 전기 5-1
A13: 505B01641A6B48CC6AE99620450DFE | B13: 강제 전선관 | C13: 아연도 28 mm | D13: M | I13: 호표 10 | M13: 전기 5-1
A14: 505B01641A6B48CD6B5886243C171B | B14: 1종금속제가요전선관 | C14: 16 mm 비방수 | D14: M | I14: 호표 11 | M14: 전기 5-1
A15: 505B01641A6B48C06FD8E029F22B81 | B15: 전선관지지대 | C15: 16 C | D15: 개소 | I15: 호표 12
A16: 505B01641A6B48C06FD8E029F228CD | B16: 전선관지지대 | C16: 22 C | D16: 개소 | I16: 호표 13
A17: 505B01641A6B48C06FD8E029F229D4 | B17: 전선관지지대 | C17: 28 C | D17: 개소 | I17: 호표 14
A18: 505B01641A59413E6CB4C82253D1D6 | B18: 450/75OV 저독성난연가교폴리올레핀절연전선(HFIX) | C18: 1.38㎜ | D18: m | I18: 호표 15 | M18: 전기 5-10
A19: 505B01641A59413E6CB4C82253D2FF | B19: 450/75OV 저독성난연가교폴리올레핀절연전선(HFIX) | C19: 1.78㎜ | D19: m | I19: 호표 16 | M19: 전기 5-10
A20: 505B01641A484BD16D60AB21A7ADF0 | B20: 0.6/1kV 내화 케이블 (F-FR-8) | C20: 3C 2.5㎟ | D20: m | I20: 호표 17 | M20: 전기 5-13
A21: 505B01641AE84E05648CA52A944A2D | B21: 경종 설치 | D21: 개 | I21: 호표 18 | M21: 전기 10-2-5
A22: 505B016424A64E5269CA9C2E10B513 | B22: 화재감지기 | C22: 열감지기,차동식스포트형 | D22: 개 | I22: 호표 19 | M22: 전기 10-2-1
A23: 505B016424A64E5269CA9C2E10B510 | B23: 덕트관통부채움 | D23: EA | I23: 호표 20 | M23: 소방 2-7-4
A24: 505B016424A64E5269CA9C2E10B517 | B24: 배관관통부채움 | D24: EA | I24: 호표 21 | M24: 소방 2-7-4
A25: 505B016424A64E5269CA9C2E10B095 | B25: 화재감지기 | C25: 연기감지기,광전식2종-비축적 | D25: 개 | I25: 호표 22 | M25: 전기 10-2-1
A26: 505B016424A64E5269CA9C2E10B25F | B26: 화재감지기 - 철거 | D26: 개 | I26: 호표 23 | M26: 전기 10-2-1
A27: 505B016424A64E5269CA9C2E10BC4B | B27: 전자싸이렌 - 철거 | D27: M | I27: 호표 24 | M27: 전기 10-2-5
A28: 505B016424A64E5269CAAD250205F0 | B28: 전자사이렌 설치 | C28: DC 24V | D28: 개 | I28: 호표 25 | M28: 전기 10-2-5
A29: 505B016424A64E5269CABF2B04DBB6 | B29: 자동폐쇄장치-창문형 | C29: DC-24V | D29: 개 | I29: 호표 26 | M29: 전기 10-1-1
A30: 505B016424A64E5269CABF2B04DA98 | B30: 자동폐쇄장치-방화문 | C30: DC-24V | D30: 개 | I30: 호표 27 | M30: 전기 10-1-1
A31: 505B016424A64E5269CAC822D7000C | B31: 경비실 부수신기 재결선 | C31: 지하층 2구역 철거 및 지하수신기 1구역 연동 | D31: 대 | I31: 호표 28 | M31: 전기 10-2-7
A32: 505B016424A64E5269CAC822D7000F | B32: 통제실 메인수신기 재결선 | C32: 지하층 2구역 철거 및 지하수신기 1구역 연동 | D32: 대 | I32: 호표 29 | M32: 전기 10-2-7
A33: 505B016424A64E5269CAC822D55C9C | B33: 가스수신반 | D33: 대 | I33: 호표 30 | M33: 전기 10-2-7
A34: 505B016424A64E5269CAC822D44C45 | B34: 걸이시설설치 | C34: 생명줄포함 | D34: 개소 | I34: 호표 31 | M34: 전기 5-29
A35: 505B016424A64E5269CAC822D44BBF | B35: 전원반 | C35: 자동폐쇄장치전원반, 15A | D35: 대 | I35: 호표 32 | M35: 전기 10-2-10
A36: 505B016424794B996FF06424F6D40C | B36: 아우트렛박스 | C36: 중형4각 54㎜ | D36: 대 | I36: 호표 33 | M36: 전기 5-3
A37: 505B016424794B996FF06424F6D40C | B37: U-CHANNEL | C37: 케이블트레이부속품, U Channel, 41*41*t2.6mm | D37: kg | I37: 호표 34 | M37: 건축 24-1

Sheet 일위대가
A1: =일위대가목록!B2 -> [ 사옥 이산화탄소 소화설비 교체공사 ]
A2: 품 명 | B2: 규 격 | C2: 단위 | D2: 수량 | E2: 재 료 비 | G2: 노 무 비 | I2: 경 비 | K2: 합 계 | M2: 비 고 | N2: 일위대가 | O2: 품목코드 | P2: 일위 | Q2: 단산 | R2: 자재 | S2: 손료적용 | T2: 손료저장 | U2: 적용율 | V2: JUK1 | W2: JUK2 | X2: JUK3 | Y2: JUK4 | Z2: JUK5 | AA2: JUK6 | AB2: JUK7 | AC2: JUK8 | AD2: JUK9 | AE2: JUK10 | AF2: JUK11 | AG2: JUK12 | AH2: JUK13 | AI2: JUK14 | AJ2: JUK15 | AK2: JUK16 | AL2: JUK17 | AM2: JUK18 | AN2: JUK19 | AO2: JUK20 | AP2: 할증적용 | AQ2: 할증저장 | AR2: 할증율 | AS2: HAL1 | AT2: HAL2 | AU2: HAL3 | AV2: 자재구분 | AW2: 일위대가+자재 | AX2: 장비일위 | AY2: 설정 | AZ2: 할증체크
E3: 단 가 | F3: 금 액 | G3: 단 가 | H3: 금 액 | I3: 단 가 | J3: 금 액 | K3: 단 가 | L3: 금 액
A4: 코아드릴 15.24cm HR 공통 8-3(5901) ( 호표 1 ) | N4: 570571624ABE4A0163D71B258390B9F8003DC7D9
A5: 코어드릴 | B5: 15.24cm | C5: 대 | M5: 자재 1 | N5: 570571624ABE4A0163D71B258390B9F8003DC7D9 | O5: 570571624ABE4A0163D71B258390B9F8003DC7 | P5: F | Q5: F | R5: T | AW5: 570571624ABE4A0163D71B258390B9F8003DC7D9570571624ABE4A0163D71B258390B9F8003DC7
A6: [ 합 계 ] | N6: TOTAL | O6: TOTAL
A8: 용접기(교류) 500Amp HR 공통 8-3(7611) ( 호표 2 ) | N8: 570571624ABE485D6445CD2588BD1A84505F2A5F
A9: 용접기(교류) | B9: 500Amp | C9: 대 | M9: 자재 2 | N9: 570571624ABE485D6445CD2588BD1A84505F2A5F | O9: 570571624ABE485D6445CD2588BD1A84505F2A | P9: F | Q9: F | R9: T | AW9: 570571624ABE485D6445CD2588BD1A84505F2A5F570571624ABE485D6445CD2588BD1A84505F2A
A10: [ 합 계 ] | N10: TOTAL | O10: TOTAL | AX10: T
A12: 강관 조립말비계(이동식)설치 및 해체 높이 4m, 노무비 대 공통 2-7-6 ( 호표 3 ) | N12: 5011B16E8E4F41386BB4A82F4045DA
A13: 비계공 | B13: 일반공사 직종 | C13: 인 | M13: 노임 3 | N13: 5011B16E8E4F41386BB4A82F4045DA | O13: 50C74160D719457B65AD7F2A23B3B54D7ED052 | P13: F | Q13: F | R13: T | AW13: 5011B16E8E4F41386BB4A82F4045DA50C74160D719457B65AD7F2A23B3B54D7ED052
A14: 보통인부 | B14: 일반공사 직종 | C14: 인 | M14: 노임 1 | N14: 5011B16E8E4F41386BB4A82F4045DA | O14: 50C74160D719457B65AD7F2A23B3B54D7ED056 | P14: F | Q14: F | R14: T | AW14: 5011B16E8E4F41386BB4A82F4045DA50C74160D719457B65AD7F2A23B3B54D7ED056
A15: [ 합 계 ] | N15: TOTAL | O15: TOTAL
A17: 강관 조립말비계(이동식)설치 및 해체 높이 4m, 3개월 대 공통 2-7-6, 2-2-5 ( 호표 4 ) | N17: 5011B16E8E4F41386BB4A82D93F3F7
A18: 비계안정장치 | B18: 비계안정장치, 비계기본틀, 기둥, 1.2*1.7m | C18: 개 | M18: 자재 10 | N18: 5011B16E8E4F41386BB4A82D93F3F7 | O18: 5732B1682CAE413763799E20EE1FEAF7BF5639 | P18: F | Q18: F | R18: T | AW18: 5011B16E8E4F41386BB4A82D93F3F75732B1682CAE413763799E20EE1FEAF7BF5639
A19: 비계안정장치 | B19: 비계안정장치, 가새, 1.2*1.9m | C19: 개 | M19: 자재 11 | N19: 5011B16E8E4F41386BB4A82D93F3F7 | O19: 5732B1682CAE413763799E20EE1FEAF7BF5637 | P19: F | Q19: F | R19: T | AW19: 5011B16E8E4F41386BB4A82D93F3F75732B1682CAE413763799E20EE1FEAF7BF5637
A20: 비계안정장치 | B20: 비계안정장치, 수평띠장, 1829mm | C20: 개 | M20: 자재 12 | N20: 5011B16E8E4F41386BB4A82D93F3F7 | O20: 5732B1682CAE413763799E20EE1FEAF7BF59F0 | P20: F | Q20: F | R20: T | AW20: 5011B16E8E4F41386BB4A82D93F3F75732B1682CAE413763799E20EE1FEAF7BF59F0
A21: 비계안정장치 | B21: 비계안정장치, 손잡이기둥 | C21: 개 | M21: 자재 15 | N21: 5011B16E8E4F41386BB4A82D93F3F7 | O21: 5732B1682CAE413763799E20EE1FEAF7BF59F7 | P21: F | Q21: F | R21: T | AW21: 5011B16E8E4F41386BB4A82D93F3F75732B1682CAE413763799E20EE1FEAF7BF59F7
A22: 비계안정장치 | B22: 비계안정장치, 손잡이, 1229mm | C22: 개 | M22: 자재 13 | N22: 5011B16E8E4F41386BB4A82D93F3F7 | O22: 5732B1682CAE413763799E20EE1FEAF7BF59F1 | P22: F | Q22: F | R22: T | AW22: 5011B16E8E4F41386BB4A82D93F3F75732B1682CAE413763799E20EE1FEAF7BF59F1
A23: 비계안정장치 | B23: 비계안정장치, 손잡이, 1829mm | C23: 개 | M23: 자재 14 | N23: 5011B16E8E4F41386BB4A82D93F3F7 | O23: 5732B1682CAE413763799E20EE1FEAF7BF59F6 | P23: F | Q23: F | R23: T | AW23: 5011B16E8E4F41386BB4A82D93F3F75732B1682CAE413763799E20EE1FEAF7BF59F6
A24: 비계안정장치 | B24: 비계안정장치, 이음철물, 연결핀 | C24: 개 | M24: 자재 9 | N24: 5011B16E8E4F41386BB4A82D93F3F7 | O24: 5732B1682CAE413763799E20EE1FEAF7BF5477 | P24: F | Q24: F | R24: T | AW24: 5011B16E8E4F41386BB4A82D93F3F75732B1682CAE413763799E20EE1FEAF7BF5477
A25: 비계안정장치 | B25: 비계안정장치, 바퀴 | C25: 개 | M25: 자재 16 | N25: 5011B16E8E4F41386BB4A82D93F3F7 | O25: 5732B1682CAE413763799E20EE1FEAF7BF59F4 | P25: F | Q25: F | R25: T | AW25: 5011B16E8E4F41386BB4A82D93F3F75732B1682CAE413763799E20EE1FEAF7BF59F4
A26: 비계안정장치 | B26: 비계안정장치, 쟈키 | C26: 개 | M26: 자재 17 | N26: 5011B16E8E4F41386BB4A82D93F3F7 | O26: 5732B1682CAE413763799E20EE1FEAF7BF59F5 | P26: F | Q26: F | R26: T | AW26: 5011B16E8E4F41386BB4A82D93F3F75732B1682CAE413763799E20EE1FEAF7BF59F5
A27: 비계안정장치 | B27: 비계안정장치, 발판, 40*200*2000 | C27: 장 | M27: 자재 18 | N27: 5011B16E8E4F41386BB4A82D93F3F7 | O27: 5732B1682CAE413763799E20EC530B719E553D | P27: F | Q27: F | R27: T | AW27: 5011B16E8E4F41386BB4A82D93F3F75732B1682CAE413763799E20EC530B719E553D
A28: 강관 조립말비계(이동식)설치 및 해체 | B28: 높이 4m, 노무비 | C28: 대 | M28: 호표 3 | N28: 5011B16E8E4F41386BB4A82D93F3F7 | O28: 5011B16E8E4F41386BB4A82F4045DA | P28: T | Q28: F | R28: F | AW28: 5011B16E8E4F41386BB4A82D93F3F75011B16E8E4F41386BB4A82F4045DA
A29: [ 합 계 ] | N29: TOTAL | O29: TOTAL
A31: 잡철물설치(철제) 간단 kg 건축 8-4-1 ( 호표 5 ) | N31: 5011016F24EC46326CCAB425E4BD33
A32: 용접봉(연강용) | B32: 3.2(KSE4301) | C32: kg | M32: 자재 5 | N32: 5011016F24EC46326CCAB425E4BD33 | O32: 57207164FAAE4B7E620D7C27C5884E50B80F81 | P32: F | Q32: F | R32: T | AW32: 5011016F24EC46326CCAB425E4BD3357207164FAAE4B7E620D7C27C5884E50B80F81
A33: 산소가스 | B33: 기체 | C33: L | M33: 자재 3 | N33: 5011016F24EC46326CCAB425E4BD33 | O33: 5717C160104142526D70C722B0B8ACD98816FF | P33: F | Q33: F | R33: T | AW33: 5011016F24EC46326CCAB425E4BD335717C160104142526D70C722B0B8ACD98816FF
A34: 아세틸렌가스 | B34: 아세틸렌가스, kg | C34: kg | M34: 자재 4 | N34: 5011016F24EC46326CCAB425E4BD33 | O34: 5717B167881045D46C86D92AEBE8E4813D0A6D | P34: F | Q34: F | R34: T | AW34: 5011016F24EC46326CCAB425E4BD335717B167881045D46C86D92AEBE8E4813D0A6D
A35: 용접기(교류) | B35: 500Amp | C35: HR | M35: 호표 2 | N35: 5011016F24EC46326CCAB425E4BD33 | O35: 570571624ABE485D6445CD2588BD1A84505F2A5F | P35: T | Q35: F | R35: F | AW35: 5011016F24EC46326CCAB425E4BD33570571624ABE485D6445CD2588BD1A84505F2A5F
A36: 철공 | B36: 일반공사 직종 | C36: 인 | M36: 노임 4 | N36: 5011016F24EC46326CCAB425E4BD33 | O36: 50C74160D719457B65AD7F2A23B3B54D7ED05D | P36: F | Q36: F | R36: T | AW36: 5011016F24EC46326CCAB425E4BD3350C74160D719457B65AD7F2A23B3B54D7ED05D
A37: 보통인부 | B37: 일반공사 직종 | C37: 인 | M37: 노임 1 | N37: 5011016F24EC46326CCAB425E4BD33 | O37: 50C74160D719457B65AD7F2A23B3B54D7ED056 | P37: F | Q37: F | R37: T | AW37: 5011016F24EC46326CCAB425E4BD3350C74160D719457B65AD7F2A23B3B54D7ED056
A38: 용접공 | B38: 일반공사 직종 | C38: 인 | M38: 노임 6 | N38: 5011016F24EC46326CCAB425E4BD33 | O38: 50C74160D719457B65AD7F2A23B3B54D7ED179 | P38: F | Q38: F | R38: T | AW38: 5011016F24EC46326CCAB425E4BD3350C74160D719457B65AD7F2A23B3B54D7ED179
A39: 특별인부 | B39: 일반공사 직종 | C39: 인 | M39: 노임 2 | N39: 5011016F24EC46326CCAB425E4BD33 | O39: 50C74160D719457B65AD7F2A23B3B54D7ED057 | P39: F | Q39: F | R39: T | AW39: 5011016F24EC46326CCAB425E4BD3350C74160D719457B65AD7F2A23B3B54D7ED057
A40: [ 합 계 ] | N40: TOTAL | O40: TOTAL
A42: 텍스 철거후 재설치 ㎡ 건축 12-2-1 ( 호표 6 ) | N42: 5010B167C66E4E4D6D7CDD288F9415
A43: 건축목공 | B43: 일반공사 직종 | C43: 인 | M43: 노임 7 | N43: 5010B167C66E4E4D6D7CDD288F9415 | O43: 50C74160D719457B65AD7F2A23B3B54D7ED201 | P43: F | Q43: F | R43: T | AW43: 5010B167C66E4E4D6D7CDD288F941550C74160D719457B65AD7F2A23B3B54D7ED201
A44: 보통인부 | B44: 일반공사 직종 | C44: 인 | M44: 노임 1 | N44: 5010B167C66E4E4D6D7CDD288F9415 | O44: 50C74160D719457B65AD7F2A23B3B54D7ED056 | P44: F | Q44: F | R44: T | AW44: 5010B167C66E4E4D6D7CDD288F941550C74160D719457B65AD7F2A23B3B54D7ED056
A45: [ 합 계 ] | N45: TOTAL | O45: TOTAL
A47: 배관용 구멍뚫기(코어드릴)-Con,c 두께 30cm 이하 ∮25mm, 벽 개소 전기 5-29-2.나 ( 호표 7 ) | N47: 505B016322B745D26B9118298EB0BB
A48: 코아드릴 | B48: 15.24cm | C48: HR | M48: 호표 1 | N48: 505B016322B745D26B9118298EB0BB | O48: 570571624ABE4A0163D71B258390B9F8003DC7D9 | P48: T | Q48: F | R48: F | AW48: 505B016322B745D26B9118298EB0BB570571624ABE4A0163D71B258390B9F8003DC7D9
A49: 착암공 | B49: 일반공사 직종 | C49: 인 | M49: 노임 7 | N49: 505B016322B745D26B9118298EB0BB | O49: 50C74160D719457B65AD7F2A23B3B54D7ED17E | P49: F | Q49: F | R49: T | AW49: 505B016322B745D26B9118298EB0BB50C74160D719457B65AD7F2A23B3B54D7ED17E
A50: 보통인부 | B50: 일반공사 직종 | C50: 인 | M50: 노임 1 | N50: 505B016322B745D26B9118298EB0BB | O50: 50C74160D719457B65AD7F2A23B3B54D7ED056 | P50: F | Q50: F | R50: T | AW50: 505B016322B745D26B9118298EB0BB50C74160D719457B65AD7F2A23B3B54D7ED056
A51: [ 합 계 ] | N51: TOTAL | O51: TOTAL
A53: 강제 전선관 아연도 16 mm M 전기 5-1 ( 호표 8 ) | N53: 505B01641A6B48CC6AE99620450FAC
A54: 강제전선관 | B54: 강제전선관, 후강전선관, 아연도, 16mm | C54: M | M54: 자재 32 | N54: 505B01641A6B48CC6AE99620450FAC | O54: 5732216A744C4F9E6B1E0E20E6D98566240CAF | P54: F | Q54: F | R54: T | V54: 1 | W54: 2 | AW54: 505B01641A6B48CC6AE99620450FAC5732216A744C4F9E6B1E0E20E6D98566240CAF
A55: 전선관부속품비 | B55: 전선관의 15% | C55: 식 | N55: 505B01641A6B48CC6AE99620450FAC | O55: 5108F16CEFA74B446FFFDB27CDFD001 | P55: F | Q55: F | R55: F | S55: 0 | T55: 0 | U55: 0.15 | AW55: 505B01641A6B48CC6AE99620450FAC5108F16CEFA74B446FFFDB27CDFD001
A56: 잡재료비 | B56: 배관배선의 2% | C56: 식 | N56: 505B01641A6B48CC6AE99620450FAC | O56: 5108F16CEFA74B446FFFDB27CDFE002 | P56: F | Q56: F | R56: F | S56: 0 | T56: 0 | U56: 0.02 | AW56: 505B01641A6B48CC6AE99620450FAC5108F16CEFA74B446FFFDB27CDFE002
A57: 내선전공 | B57: 일반공사 직종 | C57: 인 | M57: 노임 11 | N57: 505B01641A6B48CC6AE99620450FAC | O57: 50C74160D719457B65AD7F2A23B3B54D7ED786 | P57: F | Q57: F | R57: T | AW57: 505B01641A6B48CC6AE99620450FAC50C74160D719457B65AD7F2A23B3B54D7ED786
A58: [ 합 계 ] | N58: TOTAL | O58: TOTAL
A60: 강제 전선관 아연도 22 mm M 전기 5-1 ( 호표 9 ) | N60: 505B01641A6B48CC6AE99620450CD7
A61: 강제전선관 | B61: 강제전선관, 후강전선관, 아연도, 22mm | C61: M | M61: 자재 33 | N61: 505B01641A6B48CC6AE99620450CD7 | O61: 5732216A744C4F9E6B1E0E20E6D98566240CAE | P61: F | Q61: F | R61: T | V61: 1 | W61: 2 | AW61: 505B01641A6B48CC6AE99620450CD75732216A744C4F9E6B1E0E20E6D98566240CAE
A62: 전선관부속품비 | B62: 전선관의 15% | C62: 식 | N62: 505B01641A6B48CC6AE99620450CD7 | O62: 5108F16CEFA74B446FFFDB27CDFD001 | P62: F | Q62: F | R62: F | S62: 0 | T62: 0 | U62: 0.15 | AW62: 505B01641A6B48CC6AE99620450CD75108F16CEFA74B446FFFDB27CDFD001
A63: 잡재료비 | B63: 배관배선의 2% | C63: 식 | N63: 505B01641A6B48CC6AE99620450CD7 | O63: 5108F16CEFA74B446FFFDB27CDFE002 | P63: F | Q63: F | R63: F | S63: 0 | T63: 0 | U63: 0.02 | AW63: 505B01641A6B48CC6AE99620450CD75108F16CEFA74B446FFFDB27CDFE002
A64: 내선전공 | B64: 일반공사 직종 | C64: 인 | M64: 노임 11 | N64: 505B01641A6B48CC6AE99620450CD7 | O64: 50C74160D719457B65AD7F2A23B3B54D7ED786 | P64: F | Q64: F | R64: T | AW64: 505B01641A6B48CC6AE99620450CD750C74160D719457B65AD7F2A23B3B54D7ED786
A65: [ 합 계 ] | N65: TOTAL | O65: TOTAL
A67: 강제 전선관 아연도 28 mm M 전기 5-1 ( 호표 10 ) | N67: 505B01641A6B48CC6AE99620450DFE
A68: 강제전선관 | B68: 강제전선관, 후강전선관, 아연도, 28mm | C68: M | M68: 자재 34 | N68: 505B01641A6B48CC6AE99620450DFE | O68: 5732216A744C4F9E6B1E0E20E6D98566240CA9 | P68: F | Q68: F | R68: T | V68: 1 | W68: 2 | AW68: 505B01641A6B48CC6AE99620450DFE5732216A744C4F9E6B1E0E20E6D98566240CA9
A69: 전선관부속품비 | B69: 전선관의 15% | C69: 식 | N69: 505B01641A6B48CC6AE99620450DFE | O69: 5108F16CEFA74B446FFFDB27CDFD001 | P69: F | Q69: F | R69: F | S69: 0 | T69: 0 | U69: 0.15 | AW69: 505B01641A6B48CC6AE99620450DFE5108F16CEFA74B446FFFDB27CDFD001
A70: 잡재료비 | B70: 배관배선의 2% | C70: 식 | N70: 505B01641A6B48CC6AE99620450DFE | O70: 5108F16CEFA74B446FFFDB27CDFE002 | P70: F | Q70: F | R70: F | S70: 0 | T70: 0 | U70: 0.02 | AW70: 505B01641A6B48CC6AE99620450DFE5108F16CEFA74B446FFFDB27CDFE002
A71: 내선전공 | B71: 일반공사 직종 | C71: 인 | M71: 노임 11 | N71: 505B01641A6B48CC6AE99620450DFE | O71: 50C74160D719457B65AD7F2A23B3B54D7ED786 | P71: F | Q71: F | R71: T | AW71: 505B01641A6B48CC6AE99620450DFE50C74160D719457B65AD7F2A23B3B54D7ED786
A72: [ 합 계 ] | N72: TOTAL | O72: TOTAL
A74: 1종금속제가요전선관 16 mm 비방수 M 전기 5-1 ( 호표 11 ) | N74: 505B01641A6B48CD6B5886243C171B
A75: 1종금속제가요전선관 | B75: 1종금속제가요전선관, 16mm, 비방수 | C75: M | M75: 자재 35 | N75: 505B01641A6B48CD6B5886243C171B | O75: 5732216A744C4F9E6B1E0E23BAB6FE6BF5FB6E | P75: F | Q75: F | R75: T | V75: 1 | AW75: 505B01641A6B48CD6B5886243C171B5732216A744C4F9E6B1E0E23BAB6FE6BF5FB6E
A76: 잡재료비 | B76: 배관배선의 2% | C76: 식 | N76: 505B01641A6B48CD6B5886243C171B | O76: 5108F16CEFA74B446FFFDB27CDFD001 | P76: F | Q76: F | R76: F | S76: 0 | T76: 0 | U76: 0.02 | AW76: 505B01641A6B48CD6B5886243C171B5108F16CEFA74B446FFFDB27CDFE002
A77: 내선전공 | B77: 일반공사 직종 | C77: 인 | M77: 노임 11 | N77: 505B01641A6B48CD6B5886243C171B | O77: 50C74160D719457B65AD7F2A23B3B54D7ED786 | P77: F | Q77: F | R77: T | AW77: 505B01641A6B48CD6B5886243C171B50C74160D719457B65AD7F2A23B3B54D7ED786
A78: [ 합 계 ] | N78: TOTAL | O78: TOTAL
A80: 케이블클램프 16 C 개소 ( 호표 12 ) | N80: 505B01641A6B48C06FD8E029F22B81
A81: 케이블클램프 | B81: 케이블클램프, 접지크램프, 16C | C81: 개 | M81: 자재 28 | N81: 505B01641A6B48C06FD8E029F22B81 | O81: 5732216A745D44DA6567432C3FB255DD98FD94 | P81: F | Q81: F | R81: T | AW81: 505B01641A6B48C06FD8E029F22B815732216A745D44DA6567432C3FB255DD98FD94
N82: 505B01641A6B48C06FD8E029F22B81 | O82: 50C74160D719457B65AD7F2A23B3B54D7ED786 | P82: F | Q82: F | R82: T | AW82: 505B01641A6B48C06FD8E029F22B8150C74160D719457B65AD7F2A23B3B54D7ED786
A83: [ 합 계 ] | N83: TOTAL | O83: TOTAL
A85: 케이블클램프 22 C 개소 ( 호표 13 ) | N85: 505B01641A6B48C06FD8E029F228CD
A86: 케이블클램프 | B86: 케이블클램프, 접지크램프, 22C | C86: 개 | M86: 자재 29 | N86: 505B01641A6B48C06FD8E029F228CD | O86: 5732216A745D44DA6567432C3FB255DD98FD97 | P86: F | Q86: F | R86: T | AW86: 505B01641A6B48C06FD8E029F228CD5732216A745D44DA6567432C3FB255DD98FD97
N87: 505B01641A6B48C06FD8E029F228CD | O87: 50C74160D719457B65AD7F2A23B3B54D7ED786 | P87: F | Q87: F | R87: T | AW87: 505B01641A6B48C06FD8E029F228CD50C74160D719457B65AD7F2A23B3B54D7ED786
A88: [ 합 계 ] | N88: TOTAL | O88: TOTAL
A90: 케이블클램프 28 C 개소 ( 호표 14 ) | N90: 505B01641A6B48C06FD8E029F229D4
A91: 케이블클램프 | B91: 케이블클램프, 접지크램프, 28C | C91: 개 | M91: 자재 30 | N91: 505B01641A6B48C06FD8E029F229D4 | O91: 5732216A745D44DA6567432C3FB255DD98FD96 | P91: F | Q91: F | R91: T | AW91: 505B01641A6B48C06FD8E029F229D45732216A745D44DA6567432C3FB255DD98FD96
N92: 505B01641A6B48C06FD8E029F229D4 | O92: 50C74160D719457B65AD7F2A23B3B54D7ED786 | P92: F | Q92: F | R92: T | AW92: 505B01641A6B48C06FD8E029F229D450C74160D719457B65AD7F2A23B3B54D7ED786
A93: [ 합 계 ] | N93: TOTAL | O93: TOTAL
A95: 450/75OV 저독성난연가교폴리올레핀절연전선(HFIX) 1.38㎜ m 전기 5-10 ( 호표 15 ) | N95: 505B01641A59413E6CB4C82253D1D6
A96: 저독성난연케이블 | B96: HFIX, 1.38㎜ | C96: M | M96: 자재 6 | N96: 505B01641A59413E6CB4C82253D1D6 | O96: 5720216CA9CA4B1363151E258BD61216C17237 | P96: F | Q96: F | R96: T | V96: 1 | AW96: 505B01641A59413E6CB4C82253D1D65720216CA9CA4B1363151E258BD61216C17237
A97: 잡재료비 | B97: 배관배선의 2% | C97: 식 | N97: 505B01641A59413E6CB4C82253D1D6 | O97: 5108F16CEFA74B446FFFDB27CDFD001 | P97: F | Q97: F | R97: F | S97: 0 | T97: 0 | U97: 0.02 | AW97: 505B01641A59413E6CB4C82253D1D65108F16CEFA74B446FFFDB27CDFD001
A98: 내선전공 | B98: 일반공사 직종 | C98: 인 | M98: 노임 11 | N98: 505B01641A59413E6CB4C82253D1D6 | O98: 50C74160D719457B65AD7F2A23B3B54D7ED786 | P98: F | Q98: F | R98: T | AW98: 505B01641A59413E6CB4C82253D1D650C74160D719457B65AD7F2A23B3B54D7ED786
A99: [ 합 계 ] | N99: TOTAL | O99: TOTAL
A101: 450/75OV 저독성난연가교폴리올레핀절연전선(HFIX) 1.78㎜ m 전기 5-10 ( 호표 16 ) | N101: 505B01641A59413E6CB4C82253D2FF
A102: 저독성난연케이블 | B102: HFIX, 1.78㎜ | C102: M | M102: 자재 7 | N102: 505B01641A59413E6CB4C82253D2FF | O102: 5720216CA9CA4B1363151E258BD61216C17236 | P102: F | Q102: F | R102: T | V102: 1 | AW102: 505B01641A59413E6CB4C82253D2FF5720216CA9CA4B1363151E258BD61216C17236
A103: 잡재료비 | B103: 배관배선의 2% | C103: 식 | N103: 505B01641A59413E6CB4C82253D2FF | O103: 5108F16CEFA74B446FFFDB27CDFD001 | P103: F | Q103: F | R103: F | S103: 0 | T103: 0 | U103: 0.02 | AW103: 505B01641A59413E6CB4C82253D2FF5108F16CEFA74B446FFFDB27CDFD001
A104: 내선전공 | B104: 일반공사 직종 | C104: 인 | M104: 노임 11 | N104: 505B01641A59413E6CB4C82253D2FF | O104: 50C74160D719457B65AD7F2A23B3B54D7ED786 | P104: F | Q104: F | R104: T | AW104: 505B01641A59413E6CB4C82253D2FF50C74160D719457B65AD7F2A23B3B54D7ED786
A105: [ 합 계 ] | N105: TOTAL | O105: TOTAL
A107: 0.6/1kV 내화 케이블 (F-FR-8) 3C 2.5㎟ m 전기 5-13 ( 호표 17 ) | N107: 505B01641A484BD16D60AB21A7ADF0
A108: 내화전선 | B108: 내화전선, 0.6/1kv, F-FR-8, 3C*2.5㎟ | C108: M | M108: 자재 8 | N108: 505B01641A484BD16D60AB21A7ADF0 | O108: 5720216CA9CA4B13637E072910C1765A1B4A6C | P108: F | Q108: F | R108: T | AW108: 505B01641A484BD16D60AB21A7ADF05720216CA9CA4B13637E072910C1765A1B4A6C
A109: 잡재료비 | B109: 배관배선의 2% | C109: 식 | N109: 505B01641A484BD16D60AB21A7ADF0 | O109: 5108F16CEFA74B446FFFDB27CDFD001 | P109: F | Q109: F | R109: F | S109: 0 | T109: 0 | U109: 0.02 | AW109: 505B01641A484BD16D60AB21A7ADF05108F16CEFA74B446FFFDB27CDFD001
A110: 저압케이블전공 | B110: 일반공사 직종 | C110: 인 | M110: 노임 12 | N110: 505B01641A484BD16D60AB21A7ADF0 | O110: 50C74160D719457B65AD7F2A23B3B54D7ED78B | P110: F | Q110: F | R110: T | AW110: 505B01641A484BD16D60AB21A7ADF050C74160D719457B65AD7F2A23B3B54D7ED78B
A111: [ 합 계 ] | N111: TOTAL | O111: TOTAL
A113: 경종 설치 개 전기 10-2-5 ( 호표 18 ) | N113: 505B01641AE84E05648CA52A944A2D
A114: 경종 | B114: DC24V | C114: 개 | M114: 자재 40 | N114: 505B01641AE84E05648CA52A944A2D | O114: 5743416A3B4C48286B29232DBD9070DE61EBFD | P114: F | Q114: F | R114: T | AW114: 505B01641AE84E05648CA52A944A2D5743416A3B4C48286B29232DBD9070DE61EBFD
A115: 내선전공 | B115: 일반공사 직종 | C115: 인 | M115: 노임 11 | N115: 505B01641AE84E05648CA52A944A2D | O115: 50C74160D719457B65AD7F2A23B3B54D7ED786 | P115: F | Q115: F | R115: T | AW115: 505B01641AE84E05648CA52A944A2D50C74160D719457B65AD7F2A23B3B54D7ED786
A116: [ 합 계 ] | N116: TOTAL | O116: TOTAL
A118: 화재감지기 열감지기,차동식스포트형 개 전기 10-2-1 ( 호표 19 ) | N118: 505B016424A64E5269CA9C2E10B513
...

Sheet 공량산출근거서
A1: 공 량 산 출 근 거 서
A2: [ 사옥 청정소화약제 소화설비 설계용역 ]
A3: 코 드 | B3: 품 명 | C3: 규 격 | D3: 단위 | E3: 품 셈 목 록 | F3: 수 량 | G3: 할증 | H3: 노임할증-1 | I3: 노임할증-2 | J3: 노임할증-3 | K3: 내역수량 | L3: 직 종 명 | M3: 공 량 | N3: 계 | O3: 번 호 | P3: 비 고 | T3: 공종+자재 | V3: 내선전공 | W3: 저압케이블전공
B4: 01 소방전기설비공사
A5: 5CCC1661AF458C812A3F15CAC2BBA9127DABFD | B5: 저독성난연케이블 | C5: HFIX, 1.38㎜ | D5: M | E5: 전기품셈 5-10 | F5: 36 | G5: 10 | K5: 40 | L5: 내선전공 | M5: =0.01*(H5+100)/100*(I5+100)/100*(J5+100)/100 -> 0.01 | N5: =F5*M5 -> 0.36 | O5: 노임 9 | Q5: 0101 | R5: 5B2B76BCAD9523E5283B85766C2F0932DA19ED | S5: 0.01 | T5: 01015CCC1661AF458C812A3F15CAC2BBA9127DABFD | V5: =N5 -> 0.36
A6: 5CCC1661AF458C812A3F15CAC2BBA9127DABFC | B6: 저독성난연케이블 | C6: HFIX, 1.78㎜ | D6: M | E6: 전기품셈 5-10 | F6: 2316 | G6: 10 | K6: 2548 | L6: 내선전공 | M6: =0.01*(H6+100)/100*(I6+100)/100*(J6+100)/100 -> 0.01 | N6: =F6*M6 -> 23.16 | O6: 노임 9 | Q6: 0101 | R6: 5B2B76BCAD9523E5283B85766C2F0932DA19ED | S6: 0.01 | T6: 01015CCC1661AF458C812A3F15CAC2BBA9127DABFC | V6: =N6 -> 23.16
A7: 5CCC1661AF458C812C3A65D6FD1529F3EFAEC3 | B7: 내화전선 | C7: 내화전선, 0.6/1kv, F-FR-8, 3C*2.5㎟ | D7: M | E7: 전기품셈 5-13 | F7: 9 | G7: 5 | K7: 9 | L7: 저압케이블전공 | M7: =0.019*(H7+100)/100*(I7+100)/100*(J7+100)/100 -> 0.019 | N7: =F7*M7 -> 0.171 | O7: 노임 10 | Q7: 0101 | R7: 5B2B76BCAD9523E5283B85766C2F0932DA19E0 | S7: 0.019 | T7: 01015CCC1661AF458C812C3A65D6FD1529F3EFAEC3 | W7: =N7 -> 0.171
A8: 5CDE46AE932572682F34A5F36DA8E51F336D32 | B8: 강제전선관 | C8: 강제전선관, 후강전선관, 아연도, 16mm | D8: M | E8: 전기품셈 5-1 | F8: 60 | G8: 10 | K8: 66 | L8: 내선전공 | M8: =0.08*(H8+100)/100*(I8+100)/100*(J8+100)/100 -> 0.08 | N8: =F8*M8 -> 4.8 | O8: 노임 9 | Q8: 0101 | R8: 5B2B76BCAD9523E5283B85766C2F0932DA19ED | S8: 0.08 | T8: 01015CDE46AE932572682F34A5F36DA8E51F336D32 | V8: =N8 -> 4.8
A9: 5CDE46AE932572682F34A5F36DA8E51F336D33 | B9: 강제전선관 | C9: 강제전선관, 후강전선관, 아연도, 22mm | D9: M | E9: 전기품셈 5-1 | F9: 235 | G9: 10 | K9: 259 | L9: 내선전공 | M9: =0.11*(H9+100)/100*(I9+100)/100*(J9+100)/100 -> 0.11 | N9: =F9*M9 -> 25.85 | O9: 노임 9 | Q9: 0101 | R9: 5B2B76BCAD9523E5283B85766C2F0932DA19ED | S9: 0.11 | T9: 01015CDE46AE932572682F34A5F36DA8E51F336D33 | V9: =N9 -> 25.85
A10: 5CDE46AE932572682F34A5F36DA8E51F336D34 | B10: 강제전선관 | C10: 강제전선관, 후강전선관, 아연도, 28mm | D10: M | E10: 전기품셈 5-1 | F10: 119 | G10: 10 | K10: 131 | L10: 내선전공 | M10: =0.14*(H10+100)/100*(I10+100)/100*(J10+100)/100 -> 0.14 | N10: =F10*M10 -> 16.66 | O10: 노임 9 | Q10: 0101 | R10: 5B2B76BCAD9523E5283B85766C2F0932DA19ED | S10: 0.14 | T10: 01015CDE46AE932572682F34A5F36DA8E51F336D34 | V10: =N10 -> 16.66
A11: 5CDE46AE932572682F34A5F099CBF4809F7F28 | B11: 1종금속제가요전선관 | C11: 1종금속제가요전선관, 16mm, 비방수 | D11: M | E11: 전기품셈 5-1 | F11: 9 | G11: 10 | K11: 10 | L11: 내선전공 | M11: =0.044*(H11+100)/100*(I11+100)/100*(J11+100)/100 -> 0.044 | N11: =F11*M11 -> 0.396 | O11: 노임 9 | Q11: 0101 | R11: 5B2B76BCAD9523E5283B85766C2F0932DA19ED | S11: 0.044 | T11: 01015CDE46AE932572682F34A5F099CBF4809F7F28 | V11: =N11 -> 0.396
A12: 5CDE46AE9215E036283E359715711AE019F57F | B12: 전원반 | C12: 자동폐쇄장치전원반(창문형), 15A | D12: 개 | E12: 전기 10-2-10 | F12: 1 | G12: 0 | K12: 1 | L12: 내선전공 | M12: =1.68*(H12+100)/100*(I12+100)/100*(J12+100)/100 -> 1.68 | N12: =F12*M12 -> 1.68 | O12: 노임 9 | Q12: 0101 | R12: 5B2B76BCAD9523E5283B85766C2F0932DA19ED | S12: 1.68 | T12: 01015CDE46AE9215E036283E359715711AE019F57F | V12: =N12 -> 1.68
A13: 5CDE46AE9215E01B2B32555A934519B002A194 | B13: 아웃렛박스 | C13: 아웃렛박스, 중형4각, 54mm | D13: 개 | E13: 전기품셈 5-3 | F13: 6 | G13: 0 | K13: 6 | L13: 내선전공 | M13: =0.12*(H13+100)/100*(I13+100)/100*(J13+100)/100 -> 0.12 | N13: =F13*M13 -> 0.72 | O13: 노임 9 | Q13: 0101 | R13: 5B2B76BCAD9523E5283B85766C2F0932DA19ED | S13: 0.12 | T13: 01015CDE46AE9215E01B2B32555A934519B002A194 | V13: =N13 -> 0.72
A14: 5CA1F6F7844559B22F3DF5B48F1657AD4E6581 | B14: 전자싸이렌 | C14: DC24V | D14: 개 | E14: 표준품셈 10-2-5 | F14: 6 | G14: 0 | K14: 6 | L14: 내선전공 | M14: =0.15*(H14+100)/100*(I14+100)/100*(J14+100)/100 -> 0.15 | N14: =F14*M14 -> 0.9 | O14: 노임 9 | Q14: 0101 | R14: 5B2B76BCAD9523E5283B85766C2F0932DA19ED | S14: 0.15 | T14: 01015CA1F6F7844559B22F3DF5B48F1657AD4E6581 | V14: =N14 -> 0.9
A15: 5CA1F6F78AE5CF7327359515CE2379E6A834BC | B15: 열감지기 | C15: 차동식 스포트형 | D15: 개 | E15: 전기품셈 10-2-1 | F15: 10 | G15: 0 | K15: 10 | L15: 내선전공 | M15: =0.13*(H15+100)/100*(I15+100)/100*(J15+100)/100 -> 0.13 | N15: =F15*M15 -> 1.3 | O15: 노임 9 | Q15: 0101 | R15: 5B2B76BCAD9523E5283B85766C2F0932DA19ED | S15: 0.13 | T15: 01015CA1F6F78AE5CF7327359515CE2379E6A834BC | V15: =N15 -> 1.3
A16: 5CA1F6F78AE5CF7327359515CE2379E6A83770 | B16: 연기감지기 | C16: 광전식2종-비축적 | D16: 개 | E16: 전기품셈 10-2-1 | F16: 10 | G16: 0 | K16: 10 | L16: 내선전공 | M16: =0.13*(H16+100)/100*(I16+100)/100*(J16+100)/100 -> 0.13 | N16: =F16*M16 -> 1.3 | O16: 노임 9 | Q16: 0101 | R16: 5B2B76BCAD9523E5283B85766C2F0932DA19ED | S16: 0.13 | T16: 01015CA1F6F78AE5CF7327359515CE2379E6A83770 | V16: =N16 -> 1.3
A17: 5CA1F6F78AE5CF732735D5F05D94C56A88C6AA | B17: 경종 | C17: DC24V | D17: 개 | E17: 전기 10-2-5 | F17: 1 | G17: 0 | K17: 1 | L17: 내선전공 | M17: =0.15*(H17+100)/100*(I17+100)/100*(J17+100)/100 -> 0.15 | N17: =F17*M17 -> 0.15 | O17: 노임 9 | Q17: 0101 | R17: 5B2B76BCAD9523E5283B85766C2F0932DA19ED | S17: 0.15 | T17: 01015CA1F6F78AE5CF732735D5F05D94C56A88C6AA | V17: =N17 -> 0.15
A18: 5C86F668BEE5F52D233C8595FF2F88B7AE3801 | B18: 가스소화수신기 | C18: 6회로 | D18: EA | E18: 전기10-2-7 | F18: 1 | G18: 0 | K18: 1 | L18: 내선전공 | M18: =7.8*(H18+100)/100*(I18+100)/100*(J18+100)/100 -> 7.8 | N18: =F18*M18 -> 7.8 | O18: 노임 9 | Q18: 0101 | R18: 5B2B76BCAD9523E5283B85766C2F0932DA19ED | S18: 7.8 | T18: 01015C86F668BEE5F52D233C8595FF2F88B7AE3801 | V18: =N18 -> 7.8
A19: 5CA1F6F78AE5CF7327359515CE2379E6A83777 | B19: 화재감지기철거 | D19: 개 | E19: 전기품셈 10-2-5 | F19: 20 | G19: 0 | K19: 20 | L19: 내선전공 | M19: =0.045*(H19+100)/100*(I19+100)/100*(J19+100)/100 -> 0.045 | N19: =F19*M19 -> 0.9 | O19: 노임 9 | Q19: 0101 | R19: 5B2B76BCAD9523E5283B85766C2F0932DA19ED | S19: 0.045 | T19: 01015CA1F6F78AE5CF7327359515CE2379E6A83777 | V19: =N19 -> 0.9
A20: 5CA1F6F78AE5CF7327359515CE2379E6A83776 | B20: 전자싸이렌철거 | D20: 개 | E20: 전기품셈 10-2-1 | F20: 6 | G20: 0 | K20: 6 | L20: 내선전공 | M20: =0.13*(H20+100)/100*(I20+100)/100*(J20+100)/100 -> 0.13 | N20: =F20*M20 -> 0.78 | O20: 노임 9 | Q20: 0101 | R20: 5B2B76BCAD9523E5283B85766C2F0932DA19ED | S20: 0.13 | T20: 01015CA1F6F78AE5CF7327359515CE2379E6A83776 | V20: =N20 -> 0.78
A21: 5B2B76BCAD9523E5283B85766C2F0932DA19ED | B21: 내선전공 | C21: 일반공사 직종 | D21: 인 | F21: =SUM(V5:V20) -> 86.756 | K21: =IF(ROUND(F21*[1]공량설정!B2/100, [1]공량설정!C3) = 0, 1, ROUND(F21*[1]공량설정!B2/100, [1]공량설정!C3)) -> 87 | O21: 노임 9 | Q21: 0101 | T21: 01015B2B76BCAD9523E5283B85766C2F0932DA19ED
A22: 5B2B76BCAD9523E5283B85766C2F0932DA19E0 | B22: 저압케이블전공 | C22: 일반공사 직종 | D22: 인 | F22: =SUM(W5:W20) -> 0.171 | K22: =IF(ROUND(F22*[1]공량설정!B2/100, [1]공량설정!C4) = 0, 1, ROUND(F22*[1]공량설정!B2/100, [1]공량설정!C4)) -> 1 | O22: 노임 10 | Q22: 0101 | T22: 01015B2B76BCAD9523E5283B85766C2F0932DA19E0
B23: 02 할로겐소화약제설비공사
B24: 03 철거공사

Sheet 산출조사서(소방전기)
A1: 산 출 서
A2: =일위대가!A1 -> [ 사옥 이산화탄소 소화설비 교체공사 ]
A3: 소방전기설비공사 소방전기설비공사 지하1층 소방간선설비 평면도 - EF - 09 - B1F[1EA]
A4: 회로명 | B4: 산 출 명 칭 | C4: 산 출 식 | D4: 물 량 | E4: 비 고 | F4: 재료코드 | G4: 품 명 | H4: 규 격 | I4: 단위 | J4: 가닥수 | K4: 산 출 식 | L4: 합 계 | M4: 비 고 | N4: 도면명 | O4: 도면번호 | P4: 층명
A5: [자동폐쇄장치 간선]
A7: 방화문 -> 전원반 | B7: HFIX 1.78mm X 5C (ST 22C) | C7: 6+5+2+3+2+5+2+5+2+7+15 | D7: 54 | F7: EEA201110021 | G7: 450/75OV 저독성난연가교폴리올레핀절연전선(HFIX) | H7: 1.78㎜ | I7: m | J7: 5 | K7: 54 | L7: 270 | N7: 지하1층 소방간선설비 평면도 | O7: EF - 09 | P7: B1F | R7: =CONCATENATE(G7," ",H7) -> 450/75OV 저독성난연가교폴리올레핀절연전선(HFIX) 1.78㎜
F8: EEA108010020 | G8: 케이블클램프 | H8: 케이블클램프, 접지크램프, 22C | I8: 개소 | J8: 1 | K8: 54/1.5 | L8: 36 | N8: 지하1층 소방간선설비 평면도 | O8: EF - 09 | P8: B1F | R8: =CONCATENATE(G8," ",H8) -> 케이블클램프 케이블클램프, 접지크램프, 22C
F9: EEA104010020 | G9: 강제 전선관 | H9: 아연도 22 mm | I9: M | J9: 1 | K9: 54 | L9: 54 | N9: 지하1층 소방간선설비 평면도 | O9: EF - 09 | P9: B1F | R9: =CONCATENATE(G9," ",H9) -> 강제 전선관 아연도 22 mm
A10: 창문 -> 전원반 | B10: HFIX 1.78mm X 5C (ST 22C) | C10: 3+7+20+15 | D10: 45 | F10: EEA201110021 | G10: 450/75OV 저독성난연가교폴리올레핀절연전선(HFIX) | H10: 1.78㎜ | I10: m | J10: 5 | K10: 45 | L10: 225 | N10: 지하1층 소방간선설비 평면도 | O10: EF - 09 | P10: B1F | R10: =CONCATENATE(G10," ",H10) -> 450/75OV 저독성난연가교폴리올레핀절연전선(HFIX) 1.78㎜
F11: EEA108010020 | G11: 케이블클램프 | H11: 케이블클램프, 접지크램프, 22C | I11: 개소 | J11: 1 | K11: 45/1.5 | L11: 30 | N11: 지하1층 소방간선설비 평면도 | O11: EF - 09 | P11: B1F | R11: =CONCATENATE(G11," ",H11) -> 케이블클램프 케이블클램프, 접지크램프, 22C
F12: EEA104010020 | G12: 강제 전선관 | H12: 아연도 22 mm | I12: M | J12: 1 | K12: 45 | L12: 45 | N12: 지하1층 소방간선설비 평면도 | O12: EF - 09 | P12: B1F | R12: =CONCATENATE(G12," ",H12) -> 강제 전선관 아연도 22 mm
A13: 반자->기구 | B13: HFIX 1.78mm X 5C (ST 22C) | C13: 2.5*12 | D13: 30 | F13: EEA201110021 | G13: 450/75OV 저독성난연가교폴리올레핀절연전선(HFIX) | H13: 1.78㎜ | I13: m | J13: 5 | K13: 30 | L13: 150 | N13: 지하1층 소방간선설비 평면도 | O13: EF - 09 | P13: B1F | R13: =CONCATENATE(G13," ",H13) -> 450/75OV 저독성난연가교폴리올레핀절연전선(HFIX) 1.78㎜
F14: EEA108010020 | G14: 케이블클램프 | H14: 케이블클램프, 접지크램프, 22C | I14: 개소 | J14: 1 | K14: 30/1.5 | L14: 20 | N14: 지하1층 소방간선설비 평면도 | O14: EF - 09 | P14: B1F | R14: =CONCATENATE(G14," ",H14) -> 케이블클램프 케이블클램프, 접지크램프, 22C
F15: EEA104010020 | G15: 강제 전선관 | H15: 아연도 22 mm | I15: M | J15: 1 | K15: 30 | L15: 30 | N15: 지하1층 소방간선설비 평면도 | O15: EF - 09 | P15: B1F | R15: =CONCATENATE(G15," ",H15) -> 강제 전선관 아연도 22 mm
F16: EEA108010020 | G16: "U"-CHANNEL | H16: 41*41*t2.6mm | I16: kg | J16: 1 | K16: =(L9+L12+L15)/1.5*0.2*2.6 -> 44.72 | L16: =K16 -> 44.72 | N16: 지하1층 소방간선설비 평면도 | O16: EF - 09 | P16: B1F | R16: =CONCATENATE(G16," ",H16) -> "U"-CHANNEL 41*41*t2.6mm | X16: 강제전선관/지지간격*0.2M(U찬넬길이 개소당 길이)*2.6KG(단위중량)
R17: =CONCATENATE(G17," ",H17)
A18: [모듈러 간선] | R18: =CONCATENATE(G18," ",H18)
R19: =CONCATENATE(G19," ",H19)
A20: 모듈러->수동조작함 | B20: HFIX 1.78mm X 4C (ST 22C) | C20: 5+3+4+3+1+3+6+3+4+3+1+3 | D20: 39 | F20: EEA201110021 | G20: 450/75OV 저독성난연가교폴리올레핀절연전선(HFIX) | H20: 1.78㎜ | I20: m | J20: 4 | K20: 39 | L20: 156 | N20: 지하1층 소방간선설비 평면도 | O20: EF - 09 | P20: B1F | R20: =CONCATENATE(G20," ",H20) -> 450/75OV 저독성난연가교폴리올레핀절연전선(HFIX) 1.78㎜
F21: EEA108010020 | G21: 케이블클램프 | H21: 케이블클램프, 접지크램프, 22C | I21: 개소 | J21: 1 | K21: 39/1.5 | L21: 26 | N21: 지하1층 소방간선설비 평면도 | O21: EF - 09 | P21: B1F | R21: =CONCATENATE(G21," ",H21) -> 케이블클램프 케이블클램프, 접지크램프, 22C
F22: EEA104010020 | G22: 강제 전선관 | H22: 아연도 22 mm | I22: M | J22: 1 | K22: 39 | L22: 39 | N22: 지하1층 소방간선설비 평면도 | O22: EF - 09 | P22: B1F | R22: =CONCATENATE(G22," ",H22) -> 강제 전선관 아연도 22 mm
F23: EEA108010020 | G23: "U"-CHANNEL | H23: 41*41*t2.6mm | I23: kg | J23: 1 | K23: =(L22/1.5)*0.2*2.6 -> 13.52 | L23: =K23 -> 13.52 | N23: 지하1층 소방간선설비 평면도 | O23: EF - 09 | P23: B1F | R23: =CONCATENATE(G23," ",H23) -> "U"-CHANNEL 41*41*t2.6mm
R24: =CONCATENATE(G24," ",H24)
A25: [소방기구산출] | R25: =CONCATENATE(G25," ",H25)
R26: =CONCATENATE(G26," ",H26)
A27: 자동폐쇄장치-창문형 | B27: DC24V | C27: 2 | D27: 2 | F27: EEB401030069 | G27: 자동폐쇄장치-창문형 | H27: DC-24V | I27: 개 | J27: 1 | K27: 2 | L27: 2 | N27: 지하1층 소방간선설비 평면도 | O27: EF - 09 | P27: B1F | R27: =CONCATENATE(G27," ",H27) -> 자동폐쇄장치-창문형 DC-24V
A28: 자동폐쇄장치-방화문 | B28: DC24V | C28: 10 | D28: 10 | F28: EEB401030070 | G28: 자동폐쇄장치-방화문 | H28: DC-24V | I28: 개 | J28: 1 | K28: 10 | L28: 10 | N28: 지하1층 소방간선설비 평면도 | O28: EF - 09 | P28: B1F | R28: =CONCATENATE(G28," ",H28) -> 자동폐쇄장치-방화문 DC-24V
A29: 코어드릴 | B29: 배관용 구멍뚫기(코어드릴)-Con,c 두께30cm이하 Ø25mm | C29: 8 | D29: 8 | F29: EE2902020310 | G29: 배관용 구멍뚫기(코어드릴)-Con,c | H29: 두께 30cm 이하 ∮25mm, 벽 | I29: 개소 | J29: 1 | K29: 8 | L29: 8 | N29: 지하1층 소방간선설비 평면도 | O29: EF - 09 | P29: B1F | R29: =CONCATENATE(G29," ",H29) -> 배관용 구멍뚫기(코어드릴)-Con,c 두께 30cm 이하 ∮25mm, 벽
F30: 3116180730005001 | G30: 방화실리콘 실란트 | H30: 300ml | I30: 개 | J30: 1 | K30: 8 | L30: 8 | N30: 지하1층 소방간선설비 평면도 | O30: EF - 09 | P30: B1F | R30: =CONCATENATE(G30," ",H30) -> 방화실리콘 실란트 300ml
A31: 방화포 | B31: 방화포 | C31: 1 | D31: 1 | F31: 4619168630098016 | G31: 방화포 | I31: ROLL | J31: 1 | K31: 1 | L31: 1 | N31: 지하1층 소방간선설비 평면도 | O31: EF - 09 | P31: B1F | R31: =CONCATENATE(G31," ",H31) -> 방화포
A32: 걸이시설설치 | B32: 걸이대 설치(생명줄포함) | C32: 6+2+4+2+2 | D32: 16 | F32: EEB401040313 | G32: 걸이시설설치 | H32: 생명줄포함 | I32: 조 | J32: 1 | K32: 16 | L32: 16 | N32: 지하1층 소방간선설비 평면도 | O32: EF - 09 | P32: B1F | R32: =CONCATENATE(G32," ",H32) -> 걸이시설설치 생명줄포함
A33: 철거자재 운반비 | B33: 화물트럭 운반비 1TON 기준 | C33: 1 | D33: 1 | F33: 4616158120191770 | G33: 화물트럭 운반비 | H33: 1TON 기준 | I33: 일 | J33: 1 | K33: 1 | L33: 1 | N33: 지하1층 소방간선설비 평면도 | O33: EF - 09 | P33: B1F | R33: =CONCATENATE(G33," ",H33) -> 화물트럭 운반비 1TON 기준
R34: =CONCATENATE(G34," ",H34)
R35: =CONCATENATE(G35," ",H35)
A36: [기구철거] | R36: =CONCATENATE(G36," ",H36)
R37: =CONCATENATE(G37," ",H37)
A38: 화재감지기철거 | B38: 화재감지기 - 철거 | C38: 10+10 | D38: 20 | F38: EEB401010060 | G38: 화재감지기 - 철거 | I38: 개 | J38: 1 | K38: 20 | L38: 20 | N38: 지하1층 소방간선설비 평면도 | O38: EF - 09 | P38: B1F | R38: =CONCATENATE(G38," ",H38) -> 화재감지기 - 철거
A39: 전자싸이렌철거 | B39: 전자싸이렌 - 철거 | C39: 6 | D39: 6 | F39: EEB401010089 | G39: 전자싸이렌 - 철거 | I39: M | J39: 1 | K39: 6 | L39: 6 | N39: 지하1층 소방간선설비 평면도 | O39: EF - 09 | P39: B1F | R39: =CONCATENATE(G39," ",H39) -> 전자싸이렌 - 철거
A40: 철거 배관 마감 | B40: PVC 파이프 캡 | C40: 5+2+3 | D40: 10 | F40: 3911170920190954 | G40: PVC 파이프 캡 | I40: 개 | J40: 1 | K40: 10 | L40: 10 | N40: 지하1층 소방간선설비 평면도 | O40: EF - 09 | P40: B1F | R40: =CONCATENATE(G40," ",H40) -> PVC 파이프 캡
R41: =CONCATENATE(G41," ",H41)
A42: 소방전기설비공사 소방전기설비공사 지하1층 소방전기설비 평면도 - EF - 10 - B1F[1EA] | R42: =CONCATENATE(G42," ",H42)
A43: 회로명 | B43: 산 출 명 칭 | C43: 산 출 식 | D43: 물 량 | E43: 비 고 | F43: 재료코드 | G43: 품 명 | H43: 규 격 | I43: 단위 | J43: 가닥수 | K43: 산 출 식 | L43: 합 계 | M43: 비 고 | N43: 도면명 | O43: 도면번호 | P43: 층명 | R43: =CONCATENATE(G43," ",H43) -> 품 명 규 격
A44: [수신기 간선] | R44: =CONCATENATE(G44," ",H44)
R45: =CONCATENATE(G45," ",H45)
A46: 가스수신기 -> 메인 | B46: HFIX 1.78mm X 2C (ST 16C) | C46: 20 | D46: 20 | F46: EEA201110021 | G46: 450/75OV 저독성난연가교폴리올레핀절연전선(HFIX) | H46: 1.78㎜ | I46: m | J46: 2 | K46: 20 | L46: 40 | N46: 지하1층 소방전기설비 평면도 | O46: EF - 10 | P46: B1F | R46: =CONCATENATE(G46," ",H46) -> 450/75OV 저독성난연가교폴리올레핀절연전선(HFIX) 1.78㎜
F47: EEA108010010 | G47: 케이블클램프 | H47: 케이블클램프, 접지크램프, 16C | I47: 개소 | J47: 1 | K47: 20/1.5 | L47: 13.333 | N47: 지하1층 소방전기설비 평면도 | O47: EF - 10 | P47: B1F | R47: =CONCATENATE(G47," ",H47) -> 케이블클램프 케이블클램프, 접지크램프, 16C
F48: EEA104010010 | G48: 강제 전선관 | H48: 아연도 16 mm | I48: M | J48: 1 | K48: 20 | L48: 20 | N48: 지하1층 소방전기설비 평면도 | O48: EF - 10 | P48: B1F | R48: =CONCATENATE(G48," ",H48) -> 강제 전선관 아연도 16 mm
A49: 가스수신기 -> 부수신 | B49: HFIX 1.78mm X 2C (ST 16C) | C49: 20 | D49: 20 | F49: EEA201110021 | G49: 450/75OV 저독성난연가교폴리올레핀절연전선(HFIX) | H49: 1.78㎜ | I49: m | J49: 2 | K49: 20 | L49: 40 | N49: 지하1층 소방전기설비 평면도 | O49: EF - 10 | P49: B1F | R49: =CONCATENATE(G49," ",H49) -> 450/75OV 저독성난연가교폴리올레핀절연전선(HFIX) 1.78㎜
F50: EEA108010010 | G50: 케이블클램프 | H50: 케이블클램프, 접지크램프, 16C | I50: 개소 | J50: 1 | K50: 20/1.5 | L50: 13.333 | N50: 지하1층 소방전기설비 평면도 | O50: EF - 10 | P50: B1F | R50: =CONCATENATE(G50," ",H50) -> 케이블클램프 케이블클램프, 접지크램프, 16C
F51: EEA104010010 | G51: 강제 전선관 | H51: 아연도 16 mm | I51: M | J51: 1 | K51: 20 | L51: 20 | N51: 지하1층 소방전기설비 평면도 | O51: EF - 10 | P51: B1F | R51: =CONCATENATE(G51," ",H51) -> 강제 전선관 아연도 16 mm
A52: 수신기 -> 분전함 | B52: 내화전선 내화전선, 0.6/1kV, F-FR-8, 3C*2.5㎟ | C52: 10 | D52: 10 | F52: EEA305030021 | G52: 0.6/1kV 내화 케이블 (F-FR-8) | H52: 3C 2.5㎟ | I52: m | J52: 1 | K52: 10 | L52: 10 | N52: 지하1층 소방전기설비 평면도 | O52: EF - 10 | P52: B1F | R52: =CONCATENATE(G52," ",H52) -> 0.6/1kV 내화 케이블 (F-FR-8) 3C 2.5㎟
F53: EEA108010020 | G53: "U"-CHANNEL | H53: 41*41*t2.6mm | I53: kg | J53: 1 | K53: =(L48+L51)/1.5*0.2*2.6 -> 13.866667 | L53: =K53 -> 13.866667 | N53: 지하1층 소방간선설비 평면도 | O53: EF - 09 | P53: B1F | R53: =CONCATENATE(G53," ",H53) -> "U"-CHANNEL 41*41*t2.6mm
R54: =CONCATENATE(G54," ",H54)
R55: =CONCATENATE(G55," ",H55)
A56: [감지기 간선] | R56: =CONCATENATE(G56," ",H56)
R57: =CONCATENATE(G57," ",H57)
A58: 반자->감지기 | B58: HFIX 1.38mm X 4C (가요 16C) | C58: 0.5*20 | D58: 10 | F58: EEA201110011 | G58: 450/75OV 저독성난연가교폴리올레핀절연전선(HFIX) | H58: 1.38㎜ | I58: m | J58: 4 | K58: 10 | L58: 40 | N58: 지하1층 소방전기설비 평면도 | O58: EF - 10 | P58: B1F | R58: =CONCATENATE(G58," ",H58) -> 450/75OV 저독성난연가교폴리올레핀절연전선(HFIX) 1.38㎜
F59: EEA105020400 | G59: 1종금속제가요전선관 | H59: 16 mm 비방수 | I59: M | J59: 1 | K59: 10 | L59: 10 | N59: 지하1층 소방전기설비 평면도 | O59: EF - 10 | P59: B1F | R59: =CONCATENATE(G59," ",H59) -> 1종금속제가요전선관 16 mm 비방수
R60: =CONCATENATE(G60," ",H60)
R61: =CONCATENATE(G61," ",H61)
A62: [전자싸이렌 간선] | R62: =CONCATENATE(G62," ",H62)
R63: =CONCATENATE(G63," ",H63)
A64: 수동조작함>싸이렌 | B64: HFIX 1.78mm X 2C (ST 16C) | C64: 0.5*6 | D64: 3 | F64: EEA201110021 | G64: 450/75OV 저독성난연가교폴리올레핀절연전선(HFIX) | H64: 1.78㎜ | I64: m | J64: 2 | K64: 3 | L64: 6 | N64: 지하1층 소방전기설비 평면도 | O64: EF - 10 | P64: B1F | R64: =CONCATENATE(G64," ",H64) -> 450/75OV 저독성난연가교폴리올레핀절연전선(HFIX) 1.78㎜
F65: EEA108010010 | G65: 케이블클램프 | H65: 케이블클램프, 접지크램프, 16C | I65: 개소 | J65: 1 | K65: 3/1.5 | L65: 2 | N65: 지하1층 소방전기설비 평면도 | O65: EF - 10 | P65: B1F | R65: =CONCATENATE(G65," ",H65) -> 케이블클램프 케이블클램프, 접지크램프, 16C
F66: EEA104010010 | G66: 강제 전선관 | H66: 아연도 16 mm | I66: M | J66: 1 | K66: 3 | L66: 3 | N66: 지하1층 소방전기설비 평면도 | O66: EF - 10 | P66: B1F | R66: =CONCATENATE(G66," ",H66) -> 강제 전선관 아연도 16 mm
F67: EEA108010020 | G67: "U"-CHANNEL | H67: 41*41*t2.6mm | I67: kg | J67: 1 | K67: =L66/1.5*0.2*2.6 -> 1.04 | L67: =K67 -> 1.04 | N67: 지하1층 소방간선설비 평면도 | O67: EF - 09 | P67: B1F | R67: =CONCATENATE(G67," ",H67) -> "U"-CHANNEL 41*41*t2.6mm
R68: =CONCATENATE(G68," ",H68)
R69: =CONCATENATE(G69," ",H69)
A70: [수동조작함 간선] | R70: =CONCATENATE(G70," ",H70)
R71: =CONCATENATE(G71," ",H71)
A72: 창고->밧데리실 | B72: HFIX 1.78mm X 8C (ST 28C) | C72: 3+7+3 | D72: 13 | F72: EEA201110021 | G72: 450/75OV 저독성난연가교폴리올레핀절연전선(HFIX) | H72: 1.78㎜ | I72: m | J72: 8 | K72: 13 | L72: 104 | N72: 지하1층 소방전기설비 평면도 | O72: EF - 10 | P72: B1F | R72: =CONCATENATE(G72," ",H72) -> 450/75OV 저독성난연가교폴리올레핀절연전선(HFIX) 1.78㎜
F73: EEA108010030 | G73: 케이블클램프 | H73: 케이블클램프, 접지크램프, 28C | I73: 개소 | J73: 1 | K73: 13/1.5 | L73: 8.666 | N73: 지하1층 소방전기설비 평면도 | O73: EF - 10 | P73: B1F | R73: =CONCATENATE(G73," ",H73) -> 케이블클램프 케이블클램프, 접지크램프, 28C
F74: EEA104010030 | G74: 강제 전선관 | H74: 아연도 28 mm | I74: M | J74: 1 | K74: 13 | L74: 13 | N74: 지하1층 소방전기설비 평면도 | O74: EF - 10 | P74: B1F | R74: =CONCATENATE(G74," ",H74) -> 강제 전선관 아연도 28 mm
A75: 밧데리실->발전기실 | B75: HFIX 1.78mm X 13C (ST 28,22C) | C75: 3+6+3 | D75: 12 | F75: EEA201110021 | G75: 450/75OV 저독성난연가교폴리올레핀절연전선(HFIX) | H75: 1.78㎜ | I75: m | J75: 8 | K75: 12 | L75: 96 | N75: 지하1층 소방전기설비 평면도 | O75: EF - 10 | P75: B1F | R75: =CONCATENATE(G75," ",H75) -> 450/75OV 저독성난연가교폴리올레핀절연전선(HFIX) 1.78㎜
F76: EEA201110021 | G76: 450/75OV 저독성난연가교폴리올레핀절연전선(HFIX) | H76: 1.78㎜ | I76: m | J76: 5 | K76: 12 | L76: 60 | N76: 지하1층 소방전기설비 평면도 | O76: EF - 10 | P76: B1F | R76: =CONCATENATE(G76," ",H76) -> 450/75OV 저독성난연가교폴리올레핀절연전선(HFIX) 1.78㎜
F77: EEA108010030 | G77: 케이블클램프 | H77: 케이블클램프, 접지크램프, 28C | I77: 개소 | J77: 1 | K77: 12/1.5 | L77: 8 | N77: 지하1층 소방전기설비 평면도 | O77: EF - 10 | P77: B1F | R77: =CONCATENATE(G77," ",H77) -> 케이블클램프 케이블클램프, 접지크램프, 28C
F78: EEA108010020 | G78: 케이블클램프 | H78: 케이블클램프, 접지크램프, 22C | I78: 개소 | J78: 1 | K78: 12/1.5 | L78: 8 | N78: 지하1층 소방전기설비 평면도 | O78: EF - 10 | P78: B1F | R78: =CONCATENATE(G78," ",H78) -> 케이블클램프 케이블클램프, 접지크램프, 22C
F79: EEA104010030 | G79: 강제 전선관 | H79: 아연도 28 mm | I79: M | J79: 1 | K79: 12 | L79: 12 | N79: 지하1층 소방전기설비 평면도 | O79: EF - 10 | P79: B1F | R79: =CONCATENATE(G79," ",H79) -> 강제 전선관 아연도 28 mm
F80: EEA104010020 | G80: 강제 전선관 | H80: 아연도 22 mm | I80: M | J80: 1 | K80: 12 | L80: 12 | N80: 지하1층 소방전기설비 평면도 | O80: EF - 10 | P80: B1F | R80: =CONCATENATE(G80," ",H80) -> 강제 전선관 아연도 22 mm
A81: 발전기실->UPS | B81: HFIX 1.78mm X 18C (ST 28C) | C81: 3+5+3 | D81: 11 | F81: EEA201110021 | G81: 450/75OV 저독성난연가교폴리올레핀절연전선(HFIX) | H81: 1.78㎜ | I81: m | J81: 8 | K81: 11 | L81: 88 | N81: 지하1층 소방전기설비 평면도 | O81: EF - 10 | P81: B1F | R81: =CONCATENATE(G81," ",H81) -> 450/75OV 저독성난연가교폴리올레핀절연전선(HFIX) 1.78㎜
F82: EEA201110021 | G82: 450/75OV 저독성난연가교폴리올레핀절연전선(HFIX) | H82: 1.78㎜ | I82: m | J82: 10 | K82: 11 | L82: 110 | N82: 지하1층 소방전기설비 평면도 | O82: EF - 10 | P82: B1F | R82: =CONCATENATE(G82," ",H82) -> 450/75OV 저독성난연가교폴리올레핀절연전선(HFIX) 1.78㎜
F83: EEA108010030 | G83: 케이블클램프 | H83: 케이블클램프, 접지크램프, 28C | I83: 개소 | J83: 1 | K83: 11/1.5 | L83: 7.333 | N83: 지하1층 소방전기설비 평면도 | O83: EF - 10 | P83: B1F | R83: =CONCATENATE(G83," ",H83) -> 케이블클램프 케이블클램프, 접지크램프, 28C
F84: EEA108010030 | G84: 케이블클램프 | H84: 케이블클램프, 접지크램프, 28C | I84: 개소 | J84: 1 | K84: 11/1.5 | L84: 7.333 | N84: 지하1층 소방전기설비 평면도 | O84: EF - 10 | P84: B1F | R84: =CONCATENATE(G84," ",H84) -> 케이블클램프 케이블클램프, 접지크램프, 28C
F85: EEA104010030 | G85: 강제 전선관 | H85: 아연도 28 mm | I85: M | J85: 1 | K85: 11 | L85: 11 | N85: 지하1층 소방전기설비 평면도 | O85: EF - 10 | P85: B1F | R85: =CONCATENATE(G85," ",H85) -> 강제 전선관 아연도 28 mm
F86: EEA104010030 | G86: 강제 전선관 | H86: 아연도 28 mm | I86: M | J86: 1 | K86: 11 | L86: 11 | N86: 지하1층 소방전기설비 평면도 | O86: EF - 10 | P86: B1F | R86: =CONCATENATE(G86," ",H86) -> 강제 전선관 아연도 28 mm
A87: UPS->전자기계실 | B87: HFIX 1.78mm X 23C (ST 28,22C) | C87: 3+7+3 | D87: 13 | F87: EEA201110021 | G87: 450/75OV 저독성난연가교폴리올레핀절연전선(HFIX) | H87: 1.78㎜ | I87: m | J87: 5 | K87: 13 | L87: 65 | N87: 지하1층 소방전기설비 평면도 | O87: EF - 10 | P87: B1F | R87: =CONCATENATE(G87," ",H87) -> 450/75OV 저독성난연가교폴리올레핀절연전선(HFIX) 1.78㎜
F88: EEA201110021 | G88: 450/75OV 저독성난연가교폴리올레핀절연전선(HFIX) | H88: 1.78㎜ | I88: m | J88: 8 | K88: 13 | L88: 104 | N88: 지하1층 소방전기설비 평면도 | O88: EF - 10 | P88: B1F | R88: =CONCATENATE(G88," ",H88) -> 450/75OV 저독성난연가교폴리올레핀절연전선(HFIX) 1.78㎜
F89: EEA201110021 | G89: 450/75OV 저독성난연가교폴리올레핀절연전선(HFIX) | H89: 1.78㎜ | I89: m | J89: 10 | K89: 13 | L89: 130 | N89: 지하1층 소방전기설비 평면도 | O89: EF - 10 | P89: B1F | R89: =CONCATENATE(G89," ",H89) -> 450/75OV 저독성난연가교폴리올레핀절연전선(HFIX) 1.78㎜
F90: EEA108010020 | G90: 케이블클램프 | H90: 케이블클램프, 접지크램프, 22C | I90: 개소 | J90: 1 | K90: 13/1.5 | L90: 8.666 | N90: 지하1층 소방전기설비 평면도 | O90: EF - 10 | P90: B1F | R90: =CONCATENATE(G90," ",H90) -> 케이블클램프 케이블클램프, 접지크램프, 22C
F91: EEA108010030 | G91: 케이블클램프 | H91: 케이블클램프, 접지크램프, 28C | I91: 개소 | J91: 1 | K91: 13/1.5 | L91: 8.666 | N91: 지하1층 소방전기설비 평면도 | O91: EF - 10 | P91: B1F | R91: =CONCATENATE(G91," ",H91) -> 케이블클램프 케이블클램프, 접지크램프, 28C
F92: EEA108010030 | G92: 케이블클램프 | H92: 케이블클램프, 접지크램프, 28C | I92: 개소 | J92: 1 | K92: 13/1.5 | L92: 8.666 | N92: 지하1층 소방전기설비 평면도 | O92: EF - 10 | P92: B1F | R92: =CONCATENATE(G92," ",H92) -> 케이블클램프 케이블클램프, 접지크램프, 28C
F93: EEA104010020 | G93: 강제 전선관 | H93: 아연도 22 mm | I93: M | J93: 1 | K93: 13 | L93: 13 | N93: 지하1층 소방전기설비 평면도 | O93: EF - 10 | P93: B1F | R93: =CONCATENATE(G93," ",H93) -> 강제 전선관 아연도 22 mm
F94: EEA104010030 | G94: 강제 전선관 | H94: 아연도 28 mm | I94: M | J94: 1 | K94: 13 | L94: 13 | N94: 지하1층 소방전기설비 평면도 | O94: EF - 10 | P94: B1F | R94: =CONCATENATE(G94," ",H94) -> 강제 전선관 아연도 28 mm
F95: EEA104010030 | G95: 강제 전선관 | H95: 아연도 28 mm | I95: M | J95: 1 | K95: 13 | L95: 13 | N95: 지하1층 소방전기설비 평면도 | O95: EF - 10 | P95: B1F | R95: =CONCATENATE(G95," ",H95) -> 강제 전선관 아연도 28 mm
A96: 전자기계실->수신기 | B96: HFIX 1.78mm X 28C (ST 28C) | C96: 3+10+3 | D96: 16 | F96: EEA201110021 | G96: 450/75OV 저독성난연가교폴리올레핀절연전선(HFIX) | H96: 1.78㎜ | I96: m | J96: 8 | K96: 16 | L96: 128 | N96: 지하1층 소방전기설비 평면도 | O96: EF - 10 | P96: B1F | R96: =CONCATENATE(G96," ",H96) -> 450/75OV 저독성난연가교폴리올레핀절연전선(HFIX) 1.78㎜
F97: EEA201110021 | G97: 450/75OV 저독성난연가교폴리올레핀절연전선(HFIX) | H97: 1.78㎜ | I97: m | J97: 10 | K97: 16 | L97: 160 | N97: 지하1층 소방전기설비 평면도 | O97: EF - 10 | P97: B1F | R97: =CONCATENATE(G97," ",H97) -> 450/75OV 저독성난연가교폴리올레핀절연전선(HFIX) 1.78㎜
F98: EEA201110021 | G98: 450/75OV 저독성난연가교폴리올레핀절연전선(HFIX) | H98: 1.78㎜ | I98: m | J98: 10 | K98: 16 | L98: 160 | N98: 지하1층 소방전기설비 평면도 | O98: EF - 10 | P98: B1F | R98: =CONCATENATE(G98," ",H98) -> 450/75OV 저독성난연가교폴리올레핀절연전선(HFIX) 1.78㎜
F99: EEA108010030 | G99: 케이블클램프 | H99: 케이블클램프, 접지크램프, 28C | I99: 개소 | J99: 1 | K99: 16/1.5 | L99: 10.666 | N99: 지하1층 소방전기설비 평면도 | O99: EF - 10 | P99: B1F | R99: =CONCATENATE(G99," ",H99) -> 케이블클램프 케이블클램프, 접지크램프, 28C
F100: EEA108010030 | G100: 케이블클램프 | H100: 케이블클램프, 접지크램프, 28C | I100: 개소 | J100: 1 | K100: 16/1.5 | L100: 10.666 | N100: 지하1층 소방전기설비 평면도 | O100: EF - 10 | P100: B1F | R100: =CONCATENATE(G100," ",H100) -> 케이블클램프 케이블클램프, 접지크램프, 28C
F101: EEA108010030 | G101: 케이블클램프 | H101: 케이블클램프, 접지크램프, 28C | I101: 개소 | J101: 1 | K101: 16/1.5 | L101: 10.666 | N101: 지하1층 소방전기설비 평면도 | O101: EF - 10 | P101: B1F | R101: =CONCATENATE(G101," ",H101) -> 케이블클램프 케이블클램프, 접지크램프, 28C
...

Sheet 공량설정
A1: 공종명 | B1: 적용율(%) | C1: 소수점이하자릿수 | D1: 공종코드
A2: 0101 소방전기설비공사 | B2: 100 | D2: 0101
A3: 0102 할로겐소화약제설비공사 | B3: 100 | D3: 0102
A4: 0103 철거공사 | B4: 100 | D4: 0103

Sheet  공사설정 
A1: 이 Sheet는 수정하지 마십시요
A2: 공사구분 | B2: D | C2: 타이틀
A3: 확정내역 | B3: 원내역
A4: 자재단가적용 | B4: 5
A5: 경비단가적용 | B5: 5
A6: 품목코드형식 | B6: XXXX-XXXX-XXXXXXXXX
A7: 내역금액소수점처리 | B7: C | C7: 1
A8: 일위대가내역소수점처리 | B8: C | C8: 2
A9: 단가명 | B9: 조달청가격 | C9: 거래가격 | D9: 유통물가 | E9: 물가자료 | F9: 물가정보 | G9: TTTTT
A10: 환율 | B10: 1157 | C10: 0 | D10: 0
A11: 시간당작업량 | B11: R | C11: 4
A12: 1회 사이클시간 | B12: R | C12: 4
A13: 시간당 작업사이클 | B13: R | C13: 3
A14: 일반변수 | B14: C | C14: 5
A15: 시간당 노임산출 계수 | B15: A | C15: 1/8*16/12*25/20 | D15: 1/8*16/12*25/20 | E15: 1/8*16/12*25/20 | F15: 1
A16: 재료비 할증 계수 | B16: 1.11 | C16: 1.12
A17: 노무비 할증 계수 | B17: 1 | C17: 1.5 | D17: 1.16 | E17: 1.6 | F17: 1.6 | G17: 1.6 | H17: 1.94 | I17: 1.94 | J17: 1.94 | K17: 1 | L17: 1 | M17: 1
A18: 경비 할증 계수 | B18: 1.25 | C18: 1.071
A19: 내역,일위대가 품명,규격,단위 따로적용
A20: 내역단가 소수점처리 | B20: C | C20: 1
A21: 코드 | B21: 공종구분명 | C21: 원가비목코드
A22: 1 | B22: 작 업 부 산 물 | C22: A3
A23: 2 | B23: 운 반 비 | C23: C1
A24: 3 | B24: 관 급 자 재 비 | C24: DJ
A25: 4 | B25: 사 급 자 재 비 | C25: D3
A26: 5 | B26: 외 자 재
A27: 6 | B27: ...
A28: 7 | B28: ...
A29: 8 | B29: ...
A30: 9 | B30: ...
A31: A | B31: ....
A32: B | B32: .....
A33: C | B33: ....
A34: D | B34: ....
A35: E | B35: ....
A36: F | B36: ....
A37: G | B37: ....
A38: H | B38: ....
A39: I | B39: ....
A40: J | B40: ....
A43: 단가 순서 | B43: 1234

Sheet 수량산출서(소방기계)
A1: 산 출 산 출 서
A2: ='산출조사서(소방전기)'!A2:P2 -> [ 사옥 이산화탄소 소화설비 교체공사 ]
A3: 품 명 | B3: 규 격 | C3: 단위 | D3: 수량 | E3: 비 고
A5: [할로겐화합물소화약제설비]
A6: AnyFire(FK-5-1-12) 모듈러 | B6: 82.5L/90KG/2BT | C6: SET | D6: 1
A7: AnyFire(FK-5-1-12) 모듈러 | B7: 82.5L/80KG/2BT | C7: SET | D7: 4
A8: AnyFire(FK-5-1-12) 모듈러 | B8: 82.5L/70KG/2BT | C8: SET | D8: 1
A9: AnyFire(FK-5-1-12) 모듈러 | B9: 82.5L/70KG/1BT | C9: SET | D9: 1
A10: AnyFire(FK-5-1-12) 모듈러 | B10: 82.5L/60KG/1BT | C10: SET | D10: 2
A11: 솔레노이드밸브 | B11: DC-24V | C11: EA | D11: 6
A12: 니들밸브 | B12: 6A | C12: EA | D12: 9
A13: 내진가대(기본형) | B13: 모듈러 -2BT | C13: EA | D13: 6
A14: 내진가대(기본형) | B14: 모듈러 -1BT | C14: EA | D14: 3
A15: FK-5-1-12 Nozzle(360˚) | B15: 50A | C15: EA | D15: 3
A16: FK-5-1-12 Nozzle(180˚) | B16: 50A | C16: EA | D16: 3
A17: FK-5-1-12 Nozzle(360˚) | B17: 40A | C17: EA | D17: 1
... A69: 로크너트 | B69: 16C | C69: EA | D69: 4
A70: [가스자동소화장치]
A71: 가스식(mini FK-5-1-12)자동소화장치 | B71: 24㎏/19.8L×3BTL | C71: SET | D71: 1
A72: 셋트앙카볼트 | B72: 3/8×70(9×70) | C72: EA | D72: 14
A73: 동관 | B73: 6A | C73: m | D73: 7
A74: [철거]
A75: CO2실린더 철거 | B75: 68L/45KG | C75: BTL | D75: 37
A76: 선택밸브 철거 | B76: 80A | C76: 개소 | D76: 2
A77: 기동용기함 철거 | B77: 0 | C77: 개소 | D77: 5
A78: SCH80 PIPE 철거 | B78: 80A | C78: M | D78: 32
A79: SCH80 PIPE 철거 | B79: 65A | C79: M | D79: 36
A80: SCH80 PIPE 철거 | B80: 40A | C80: M | D80: 22
A81: SCH80 PIPE 철거 | B81: 32A | C81: M | D81: 11
A82: SCH80 PIPE 철거 | B82: 25A | C82: M | D82: 20
A83: CO2 노즐 철거 | B83: 25A | C83: EA | D83: 11

Sheet 산출조사서(소방기계)
A1: 산 출 조 사 서
A2: ='수량산출서(소방기계)'!A2 -> [ 사옥 이산화탄소 소화설비 교체공사 ]
A3: FROM(위치) | B3: TO(위치) | C3: 품 명 | D3: 규 격 | E3: 단위 | F3: 산출근거 | G3: 수량 | H3: 계 | I3: 할 증 | J3: 할증률 | K3: 총 계 | L3: 비 고
A5: 전기실 | B5: 전기실 | C5: AnyFire(FK-5-1-12) 모듈러 | D5: 82.5L/90KG/2BT | E5: SET | H5: =G5 -> 0 | J5: =ROUND((H5*I5),1) -> 0 | K5: =ROUNDUP((H5+J5),0) -> 0
C6: AnyFire(FK-5-1-12) 모듈러 | D6: 82.5L/80KG/2BT | E6: SET | F6: 1+1+1+1 | G6: =1+1+1+1 -> 4 | H6: =G6 -> 4 | J6: =ROUND((H6*I6),1) -> 0 | K6: =ROUNDUP((H6+J6),0) -> 4
C7: AnyFire(FK-5-1-12) 모듈러 | D7: 82.5L/70KG/2BT | E7: SET | H7: =G7 -> 0 | J7: =ROUND((H7*I7),1) -> 0 | K7: =ROUNDUP((H7+J7),0) -> 0
C8: AnyFire(FK-5-1-12) 모듈러 | D8: 82.5L/70KG/1BT | E8: SET | H8: =G8 -> 0 | J8: =ROUND((H8*I8),1) -> 0 | K8: =ROUNDUP((H8+J8),0) -> 0
C9: AnyFire(FK-5-1-12) 모듈러 | D9: 82.5L/60KG/1BT | E9: SET | H9: =G9 -> 0 | J9: =ROUND((H9*I9),1) -> 0 | K9: =ROUNDUP((H9+J9),0) -> 0
C10: 솔레노이드밸브 | D10: DC-24V | E10: EA | F10: 1 | G10: =1 -> 1 | H10: =G10 -> 1 | J10: =ROUND((H10*I10),1) -> 0 | K10: =ROUNDUP((H10+J10),0) -> 1
C11: 니들밸브 | D11: 6A | E11: EA | F11: 1+1+1+1+1+1+1 | G11: =1+1+1+1+1+1+1 -> 7 | H11: =G11 -> 7 | J11: =ROUND((H11*I11),1) -> 0 | K11: =ROUNDUP((H11+J11),0) -> 7 | L11: 수량증가
C12: 내진가대(기본형) | D12: 모듈러 -2BT | E12: EA | F12: 1+1+1+1 | G12: =1+1+1+1 -> 4 | H12: =G12 -> 4 | J12: =ROUND((H12*I12),1) -> 0 | K12: =ROUNDUP((H12+J12),0) -> 4
C13: 내진가대(기본형) | D13: 모듈러 -1BT | E13: EA | H13: =G13 -> 0 | J13: =ROUND((H13*I13),1) -> 0 | K13: =ROUNDUP((H13+J13),0) -> 0
C14: FK-5-1-12 Nozzle(360˚) | D14: 50A | E14: EA | F14: 1+1 | G14: =1+1 -> 2 | H14: =G14 -> 2 | J14: =ROUND((H14*I14),1) -> 0 | K14: =ROUNDUP((H14+J14),0) -> 2
C15: FK-5-1-12 Nozzle(180˚) | D15: 50A | E15: EA | F15: 1+1 | G15: =1+1 -> 2 | H15: =G15 -> 2 | J15: =ROUND((H15*I15),1) -> 0 | K15: =ROUNDUP((H15+J15),0) -> 2
C16: FK-5-1-12 Nozzle(360˚) | D16: 40A | E16: EA | H16: =G16 -> 0 | J16: =ROUND((H16*I16),1) -> 0 | K16: =ROUNDUP((H16+J16),0) -> 0
C17: FK-5-1-12 Nozzle(180˚) | D17: 40A | E17: EA | H17: =G17 -> 0 | J17: =ROUND((H17*I17),1) -> 0 | K17: =ROUNDUP((H17+J17),0) -> 0
C18: 과(부)압배출구 (성능인증품) | D18: 600X600mm | E18: EA | F18: 1 | G18: =1 -> 1 | H18: =G18 -> 1 | J18: =ROUND((H18*I18),1) -> 0 | K18: =ROUNDUP((H18+J18),0) -> 1
C19: 과(부)압배출구 (성능인증품) | D19: 400X400mm | E19: EA | H19: =G19 -> 0 | J19: =ROUND((H19*I19),1) -> 0 | K19: =ROUNDUP((H19+J19),0) -> 0
C20: 과(부)압배출구 (성능인증품) | D20: 300X300mm | E20: EA | H20: =G20 -> 0 | J20: =ROUND((H20*I20),1) -> 0 | K20: =ROUNDUP((H20+J20),0) -> 0
C21: 과(부)압배출구 (성능인증품) | D21: 200X200mm | E21: EA | H21: =G21 -> 0 | J21: =ROUND((H21*I21),1) -> 0 | K21: =ROUNDUP((H21+J21),0) -> 0
C22: 구역명판 | D22: FOMAX | E22: EA | F22: 수동복구함 부착 1 | G22: =1 -> 1 | H22: =G22 -> 1 | J22: =ROUND((H22*I22),1) -> 0 | K22: =ROUNDUP((H22+J22),0) -> 1
C23: 작동설명판 | D23: FOMAX | E23: EA | F23: 작동설명판 1 | G23: =1 -> 1 | H23: =G23 -> 1 | J23: =ROUND((H23*I23),1) -> 0 | K23: =ROUNDUP((H23+J23),0) -> 1
C24: 방호구역도 | D24: FOMAX | E24: EA | F24: 전체 방호구역도 1 | G24: =1 -> 1 | H24: =G24 -> 1 | J24: =ROUND((H24*I24),1) -> 0 | K24: =ROUNDUP((H24+J24),0) -> 1
C25: KSD-3562 SCH40(백관) | D25: 100A | E25: M | F25: 2.58+0.3+1.45+3.3+3.2+5.4 | G25: =2.58+0.3+1.45+3.3+3.2+5.4 -> 16.23 | H25: =G25 -> 16.23 | I25: 0.1 | J25: =ROUND((H25*I25),1) -> 1.6 | K25: =ROUNDUP((H25+J25),0) -> 18
C26: KSD-3562 SCH40(백관) | D26: 65A | E26: M | F26: 3+3 | G26: =3+3 -> 6 | H26: =G26 -> 6 | I26: 0.1 | J26: =ROUND((H26*I26),1) -> 0.6 | K26: =ROUNDUP((H26+J26),0) -> 7
C27: KSD-3562 SCH40(백관) | D27: 50A | E27: M | F27: (0.15+0.5+0.6+2.3+2.8+0.2)*2 | G27: =(0.15+0.5+0.6+2.3+2.8+0.2)*2 -> 13.1 | H27: =G27 -> 13.1 | I27: 0.1 | J27: =ROUND((H27*I27),1) -> 1.3 | K27: =ROUNDUP((H27+J27),0) -> 15
C28: KSD-3562 SCH40(백관) | D28: 40A | E28: M | F28: 0.3*8 | G28: =0.3*8 -> 2.4 | H28: =G28 -> 2.4 | I28: 0.1 | J28: =ROUND((H28*I28),1) -> 0.2 | K28: =ROUNDUP((H28+J28),0) -> 3
C29: SCH40 그루브 관이음쇠 | D29: 엘보 , 100A | E29: EA | F29: 1+1+1+1+1 | G29: =1+1+1+1+1 -> 5 | H29: =G29 -> 5 | J29: =ROUND((H29*I29),1) -> 0 | K29: =ROUNDUP((H29+J29),0) -> 5
C30: SCH40 그루브 관이음쇠 | D30: TEE , 100A | E30: EA | F30: 1 | G30: =1 -> 1 | H30: =G30 -> 1 | J30: =ROUND((H30*I30),1) -> 0 | K30: =ROUNDUP((H30+J30),0) -> 1
C31: SCH40 그루브 관이음쇠 | D31: TEE , 65A | E31: EA | F31: 1+1 | G31: =1+1 -> 2 | H31: =G31 -> 2 | J31: =ROUND((H31*I31),1) -> 0 | K31: =ROUNDUP((H31+J31),0) -> 2
C32: SCH40 그루브 관이음쇠 | D32: R/S , 100x65 | E32: EA | F32: 1+1 | G32: =1+1 -> 2 | H32: =G32 -> 2 | J32: =ROUND((H32*I32),1) -> 0 | K32: =ROUNDUP((H32+J32),0) -> 2
C33: SCH40 그루브 관이음쇠 | D33: R/S , 100x40 | E33: EA | F33: 1 | G33: =1 -> 1 | H33: =G33 -> 1 | J33: =ROUND((H33*I33),1) -> 0 | K33: =ROUNDUP((H33+J33),0) -> 1
C34: SCH40 그루브 관이음쇠 | D34: R/S , 65x50 | E34: EA | F34: 2+2 | G34: =2+2 -> 4 | H34: =G34 -> 4 | J34: =ROUND((H34*I34),1) -> 0 | K34: =ROUNDUP((H34+J34),0) -> 4
C35: 플렉시블 커플링(그루브) | D35: 유동식 , 100A | E35: EA | F35: (5*2)+(1*3)+1+1 | G35: =(5*2)+(1*3)+1+1 -> 15 | H35: =G35 -> 15 | J35: =ROUND((H35*I35),1) -> 0 | K35: =ROUNDUP((H35+J35),0) -> 15
C36: 플렉시블 커플링(그루브) | D36: 유동식 , 65A | E36: EA | F36: (2*3)+1+4 | G36: =(2*3)+1+4 -> 11 | H36: =G36 -> 11 | J36: =ROUND((H36*I36),1) -> 0 | K36: =ROUNDUP((H36+J36),0) -> 11
C37: 플렉시블 커플링(그루브) | D37: 유동식 , 50A | E37: EA | F37: 2+2 | G37: =2+2 -> 4 | H37: =G37 -> 4 | J37: =ROUND((H37*I37),1) -> 0 | K37: =ROUNDUP((H37+J37),0) -> 4
C38: 일반단조관이음쇠 | D38: 90엘보, 나사식 , 50A | E38: EA | F38: 4*2 | G38: =4*2 -> 8 | H38: =G38 -> 8 | J38: =ROUND((H38*I38),1) -> 0 | K38: =ROUNDUP((H38+J38),0) -> 8
C39: 일반단조관이음쇠 | D39: 90엘보, 나사식 , 40A | E39: EA | J39: =ROUND((H39*I39),1) -> 0 | K39: =ROUNDUP((H39+J39),0) -> 0
C40: 일반단조관이음쇠 | D40: TEE , 나사식 , 50x40 | E40: EA | J40: =ROUND((H40*I40),1) -> 0 | K40: =ROUNDUP((H40+J40),0) -> 0
C41: 일반단조관이음쇠 | D41: R/S , 나사식 , 50x40 | E41: EA | J41: =ROUND((H41*I41),1) -> 0 | K41: =ROUNDUP((H41+J41),0) -> 0
C42: U볼트,너트 | D42: 100A | E42: EA | F42: 1+1+1+1 | G42: =1+1+1+1 -> 4 | H42: =G42 -> 4 | J42: =ROUND((H42*I42),1) -> 0 | K42: =ROUNDUP((H42+J42),0) -> 4
C43: U볼트,너트 | D43: 65A | E43: EA | F43: 1+1 | G43: =1+1 -> 2 | H43: =G43 -> 2 | J43: =ROUND((H43*I43),1) -> 0 | K43: =ROUNDUP((H43+J43),0) -> 2
C44: U볼트,너트 | D44: 50A | E44: EA | F44: 3+3 | G44: =3+3 -> 6 | H44: =G44 -> 6 | J44: =ROUND((H44*I44),1) -> 0 | K44: =ROUNDUP((H44+J44),0) -> 6
C45: U볼트,너트 | D45: 40A | E45: EA | J45: =ROUND((H45*I45),1) -> 0 | K45: =ROUNDUP((H45+J45),0) -> 0
C46: 인서트플레이트 | D46: 150x150x6T | E46: 개소 | F46: (4+2+6)*2 | G46: =(4+2+6)*2 -> 24 | H46: =G46 -> 24 | J46: =ROUND((H46*I46),1) -> 0 | K46: =ROUNDUP((H46+J46),0) -> 24
C47: 조합페인트 | D47: 2 piece | E47: EA | F47: (0.359*16.2)+(0.24*6)+(0.19*13.1)+(0.153*2.4) | G47: =(0.359*16.2)+(0.24*6)+(0.19*13.1)+(0.153*2.4) -> 10.112 | H47: =G47 -> 10.112 | I47: 0.1 | J47: =ROUND((H47*I47),1) -> 1 | K47: =ROUNDUP((H47+J47),0) -> 12
C48: ㄱ형강 | D48: 50x50x6T | E48: M | F48: (0.9+0.9+0.3)*12 | G48: =(0.9+0.9+0.3)*12 -> 25.2 | H48: =G48 -> 25.2 | I48: 0.1 | J48: =ROUND((H48*I48),1) -> 2.5 | K48: =ROUNDUP((H48+J48),0) -> 28
C49: 잡철물제작설치 | D49: 간단 | E49: TON | F49: 25.2/1000ton | G49: =25.2/1000 -> 0.0252 | H49: =G49 -> 0.0252 | J49: =ROUND((H49*I49),1) -> 0 | K49: =H49+J49 -> 0.0252 | L49: 합계서식변경(수량감소)
C50: 내진앙카볼트 | D50: M12 | E50: EA | F50: 모듈러내진함 4개소 각 4개 | G50: =4*4 -> 16 | H50: =G50 -> 16 | J50: =ROUND((H50*I50),1) -> 0 | K50: =ROUNDUP((H50+J50),0) -> 16
C51: 셋트앙카볼트 | D51: 3/8×70(9×70) | E51: EA | F51: 24*4 | G51: =24*4 -> 96 | H51: =G51 -> 96 | I51: 0.1 | J51: =ROUND((H51*I51),1) -> 9.6 | K51: =ROUNDUP((H51+J51),0) -> 106
C52: 벽체타공(과압배출구설치) | D52: 600mm | E52: 개소 | F52: 1 | G52: =1 -> 1 | H52: =G52 -> 1 | J52: =ROUND((H52*I52),1) -> 0 | K52: =ROUNDUP((H52+J52),0) -> 1
C53: 벽체타공(과압배출구설치) | D53: 400mm | E53: 개소 | H53: =G53 -> 0 | J53: =ROUND((H53*I53),1) -> 0 | K53: =ROUNDUP((H53+J53),0) -> 0
C54: 벽체타공(과압배출구설치) | D54: 300mm | E54: 개소 | H54: =G54 -> 0 | J54: =ROUND((H54*I54),1) -> 0 | K54: =ROUNDUP((H54+J54),0) -> 0
C55: 벽체타공(과압배출구설치) | D55: 200mm | E55: 개소 | H55: =G55 -> 0 | J55: =ROUND((H55*I55),1) -> 0 | K55: =ROUNDUP((H55+J55),0) -> 0
C56: 제품검사비(설계심사) | D56: 1구역 | E56: 회 | F56: 1+1 | G56: =1+1 -> 2 | H56: =G56 -> 2 | J56: =ROUND((H56*I56),1) -> 0 | K56: =ROUNDUP((H56+J56),0) -> 2
C57: 피스톤릴리즈댐퍼 | D57: (STL)특수각형댐퍼,상대익형날개 | E57: ㎠ | F57: ((70*20)*2)+((30*20)*2)+((70*20)*2)+((40*20)*2) | G57: =((70*20)*2)+((30*20)*2)+((70*20)*2)+((40*20)*2) -> 8400 | H57: =G57 -> 8400 | I57: 0.1 | J57: =ROUND((H57*I57),1) -> 840 | K57: =ROUNDUP((H57+J57),0) -> 9240
C58: 피스톤릴리즈 | D58: 일반피스톤 | E58: 개 | F58: 1+1 | G58: =1+1 -> 2 | H58: =G58 -> 2 | J58: =ROUND((H58*I58),1) -> 0 | K58: =ROUNDUP((H58+J58),0) -> 2
C59: 동관 | D59: 6A | E59: m | F59: 1+1+12+1+1.5+2.1+3.5(H) | G59: =1+1+12+1+1.5+2.1+3.5 -> 22.1 | H59: =G59 -> 22.1 | I59: 0.1 | J59: =ROUND((H59*I59),1) -> 2.2 | K59: =ROUNDUP((H59+J59),0) -> 25
C60: 동체크밸브 | D60: 6A | E60: EA | F60: 1 | G60: =1 -> 1 | H60: =G60 -> 1 | J60: =ROUND((H60*I60),1) -> 0 | K60: =ROUNDUP((H60+J60),0) -> 1
C61: 동티 | D61: 6A | E61: EA | F61: 1+1 | G61: =1+1 -> 2 | H61: =G61 -> 2 | J61: =ROUND((H61*I61),1) -> 0 | K61: =ROUNDUP((H61+J61),0) -> 2
C62: 동소켓 | D62: 6A | E62: EA | F62: 1+1 | G62: =1+1 -> 2 | H62: =G62 -> 2 | J62: =ROUND((H62*I62),1) -> 0 | K62: =ROUNDUP((H62+J62),0) -> 2
C63: 단조소켓 | D63: 15A | E63: EA | F63: 1 | G63: =1 -> 1 | H63: =G63 -> 1 | J63: =ROUND((H63*I63),1) -> 0 | K63: =ROUNDUP((H63+J63),0) -> 1
C64: 동어댑터 | D64: 15A x 6A | E64: EA | F64: 1 | G64: =1 -> 1 | H64: =G64 -> 1 | J64: =ROUND((H64*I64),1) -> 0 | K64: =ROUNDUP((H64+J64),0) -> 1
C65: 수동복구함 | D65: 가스압식 | E65: EA | F65: 1 | G65: =1 -> 1 | H65: =G65 -> 1 | J65: =ROUND((H65*I65),1) -> 0 | K65: =ROUNDUP((H65+J65),0) -> 1
C66: 스틸전선관 | D66: 16C | E66: M | F66: 3.5(H)-수동복구함 연결 노출부 | G66: =3.5 -> 3.5 | H66: =G66 -> 3.5 | J66: =ROUND((H66*I66),1) -> 0 | K66: =ROUNDUP((H66+J66),0) -> 4
C67: 양새들 | D67: 16C | E67: EA | F67: 1+1 | G67: =1+1 -> 2 | H67: =G67 -> 2 | J67: =ROUND((H67*I67),1) -> 0 | K67: =ROUNDUP((H67+J67),0) -> 2
C68: 로크너트 | D68: 16C | E68: EA | F68: 1 | G68: =1 -> 1 | H68: =G68 -> 1 | J68: =ROUND((H68*I68),1) -> 0 | K68: =ROUNDUP((H68+J68),0) -> 1
A69: 전자기계실 | B69: 전자기계실 | C69: AnyFire(FK-5-1-12) 모듈러 | D69: 82.5L/90KG/2BT | E69: SET | H69: =G69 -> 0 | J69: =ROUND((H69*I69),1) -> 0 | K69: =ROUNDUP((H69+J69),0) -> 0
C70: AnyFire(FK-5-1-12) 모듈러 | D70: 82.5L/80KG/2BT | E70: SET | H70: =G70 -> 0 | J70: =ROUND((H70*I70),1) -> 0 | K70: =ROUNDUP((H70+J70),0) -> 0
C71: AnyFire(FK-5-1-12) 모듈러 | D71: 82.5L/70KG/2BT | E71: SET | H71: =G71 -> 0 | J71: =ROUND((H71*I71),1) -> 0 | K71: =ROUNDUP((H71+J71),0) -> 0
C72: AnyFire(FK-5-1-12) 모듈러 | D72: 82.5L/70KG/1BT | E72: SET | F72: 1 | G72: =1 -> 1 | H72: =G72 -> 1 | J72: =ROUND((H72*I72),1) -> 0 | K72: =ROUNDUP((H72+J72),0) -> 1
C73: AnyFire(FK-5-1-12) 모듈러 | D73: 82.5L/60KG/1BT | E73: SET | H73: =G73 -> 0 | J73: =ROUND((H73*I73),1) -> 0 | K73: =ROUNDUP((H73+J73),0) -> 0
C74: 솔레노이드밸브 | D74: DC-24V | E74: EA | F74: 1 | G74: =1 -> 1 | H74: =G74 -> 1 | J74: =ROUND((H74*I74),1) -> 0 | K74: =ROUNDUP((H74+J74),0) -> 1
C75: 니들밸브 | D75: 6A | E75: EA | H75: =G75 -> 0 | J75: =ROUND((H75*I75),1) -> 0 | K75: =ROUNDUP((H75+J75),0) -> 0
C76: 내진가대(기본형) | D76: 모듈러 -2BT | E76: EA | H76: =G76 -> 0 | J76: =ROUND((H76*I76),1) -> 0 | K76: =ROUNDUP((H76+J76),0) -> 0
C77: 내진가대(기본형) | D77: 모듈러 -1BT | E77: EA | F77: 1 | G77: =1 -> 1 | H77: =G77 -> 1 | J77: =ROUND((H77*I77),1) -> 0 | K77: =ROUNDUP((H77+J77),0) -> 1
C78: FK-5-1-12 Nozzle(360˚) | D78: 50A | E78: EA | H78: =G78 -> 0 | J78: =ROUND((H78*I78),1) -> 0 | K78: =ROUNDUP((H78+J78),0) -> 0
C79: FK-5-1-12 Nozzle(180˚) | D79: 50A | E79: EA | H79: =G79 -> 0 | J79: =ROUND((H79*I79),1) -> 0 | K79: =ROUNDUP((H79+J79),0) -> 0
C80: FK-5-1-12 Nozzle(360˚) | D80: 40A | E80: EA | F80: 1 | G80: =1 -> 1 | H80: =G80 -> 1 | J80: =ROUND((H80*I80),1) -> 0 | K80: =ROUNDUP((H80+J80),0) -> 1
C81: FK-5-1-12 Nozzle(180˚) | D81: 40A | E81: EA | H81: =G81 -> 0 | J81: =ROUND((H81*I81),1) -> 0 | K81: =ROUNDUP((H81+J81),0) -> 0
C82: 과(부)압배출구 (성능인증품) | D82: 600X600mm | E82: EA | H82: =G82 -> 0 | J82: =ROUND((H82*I82),1) -> 0 | K82: =ROUNDUP((H82+J82),0) -> 0
C83: 과(부)압배출구 (성능인증품) | D83: 400X400mm | E83: EA | H83: =G83 -> 0 | J83: =ROUND((H83*I83),1) -> 0 | K83: =ROUNDUP((H83+J83),0) -> 0
C84: 과(부)압배출구 (성능인증품) | D84: 300X300mm | E84: EA | H84: =G84 -> 0 | J84: =ROUND((H84*I84),1) -> 0 | K84: =ROUNDUP((H84+J84),0) -> 0
C85: 과(부)압배출구 (성능인증품) | D85: 200X200mm | E85: EA | F85: 1 | G85: =1 -> 1 | H85: =G85 -> 1 | J85: =ROUND((H85*I85),1) -> 0 | K85: =ROUNDUP((H85+J85),0) -> 1
C86: 구역명판 | D86: FOMAX | E86: EA | F86: 수동복구함 부착 1 | G86: =1 -> 1 | H86: =G86 -> 1 | J86: =ROUND((H86*I86),1) -> 0 | K86: =ROUNDUP((H86+J86),0) -> 1
C87: 작동설명판 | D87: FOMAX | E87: EA | H87: =G87 -> 0 | J87: =ROUND((H87*I87),1) -> 0 | K87: =ROUNDUP((H87+J87),0) -> 0
C88: 방호구역도 | D88: FOMAX | E88: EA | H88: =G88 -> 0 | J88: =ROUND((H88*I88),1) -> 0 | K88: =ROUNDUP((H88+J88),0) -> 0
C89: KSD-3562 SCH40(백관) | D89: 100A | E89: M | H89: =G89 -> 0 | I89: 0.1 | J89: =ROUND((H89*I89),1) -> 0 | K89: =ROUNDUP((H89+J89),0) -> 0
C90: KSD-3562 SCH40(백관) | D90: 65A | E90: M | H90: =G90 -> 0 | I90: 0.1 | J90: =ROUND((H90*I90),1) -> 0 | K90: =ROUNDUP((H90+J90),0) -> 0
C91: KSD-3562 SCH40(백관) | D91: 50A | E91: M | H91: =G91 -> 0 | I91: 0.1 | J91: =ROUND((H91*I91),1) -> 0 | K91: =ROUNDUP((H91+J91),0) -> 0
C92: KSD-3562 SCH40(백관) | D92: 40A | E92: M | F92: 1.1+3.1+0.6 | G92: =1.1+3.1+0.6 -> 4.8 | H92: =G92 -> 4.8 | I92: 0.1 | J92: =ROUND((H92*I92),1) -> 0.5 | K92: =ROUNDUP((H92+J92),0) -> 6
C93: SCH40 그루브 관이음쇠 | D93: 엘보 , 100A | E93: EA | H93: =G93 -> 0 | J93: =ROUND((H93*I93),1) -> 0 | K93: =ROUNDUP((H93+J93),0) -> 0
C94: SCH40 그루브 관이음쇠 | D94: TEE , 100A | E94: EA | H94: =G94 -> 0 | J94: =ROUND((H94*I94),1) -> 0 | K94: =ROUNDUP((H94+J94),0) -> 0
C95: SCH40 그루브 관이음쇠 | D95: TEE , 65A | E95: EA | H95: =G95 -> 0 | J95: =ROUND((H95*I95),1) -> 0 | K95: =ROUNDUP((H95+J95),0) -> 0
C96: SCH40 그루브 관이음쇠 | D96: R/S , 100x65 | E96: EA | H96: =G96 -> 0 | J96: =ROUND((H96*I96),1) -> 0 | K96: =ROUNDUP((H96+J96),0) -> 0
C97: SCH40 그루브 관이음쇠 | D97: R/S , 100x40 | E97: EA | H97: =G97 -> 0 | J97: =ROUND((H97*I97),1) -> 0 | K97: =ROUNDUP((H97+J97),0) -> 0
C98: SCH40 그루브 관이음쇠 | D98: R/S , 65x50 | E98: EA | H98: =G98 -> 0 | J98: =ROUND((H98*I98),1) -> 0 | K98: =ROUNDUP((H98+J98),0) -> 0
C99: 플렉시블 커플링(그루브) | D99: 유동식 , 100A | E99: EA | H99: =G99 -> 0 | J99: =ROUND((H99*I99),1) -> 0 | K99: =ROUNDUP((H99+J99),0) -> 0
C100: 플렉시블 커플링(그루브) | D100: 유동식 , 65A | E100: EA | H100: =G100 -> 0 | J100: =ROUND((H100*I100),1) -> 0 | K100: =ROUNDUP((H100+J100),0) -> 0
C101: 플렉시블 커플링(그루브) | D101: 유동식 , 50A | E101: EA | H101: =G101 -> 0 | J101: =ROUND((H101*I101),1) -> 0 | K101: =ROUNDUP((H101+J101),0) -> 0
...

Sheet 산출조사서(철거공사)
A1: 산 출 조 사 서
A2: ='산출조사서(소방기계)'!A2:L2 -> [ 사옥 이산화탄소 소화설비 교체공사 ]
A3: FROM(위치) | B3: TO(위치) | C3: 품 명 | D3: 규 격 | E3: 단위 | F3: 산출근거 | G3: 수량 | H3: 계 | I3: 할 증 | J3: 할증률 | K3: 총 계 | L3: 비 고
A5: 소화가스실 | B5: 소화가스실 | C5: CO2실린더 철거 | D5: 68L/45KG | E5: BTL | F5: 32+5 | G5: =32+5 -> 37 | H5: =G5 -> 37 | J5: =ROUND((H5*I5),1) -> 0 | K5: =H5+J5 -> 37
C6: 선택밸브 철거 | D6: 80A | E6: 개소 | F6: 1+1 | G6: =1+1 -> 2 | H6: =G6 -> 2 | J6: =ROUND((H6*I6),1) -> 0 | K6: =H6+J6 -> 2
C7: 기동용기함 철거 | E7: 개소 | F7: 2+3 | G7: =2+3 -> 5 | H7: =G7 -> 5 | J7: =ROUND((H7*I7),1) -> 0 | K7: =H7+J7 -> 5
C8: SCH80 PIPE 철거 | D8: 80A | E8: M | F8: (4+1+2)*3LINE,노출 | G8: =(4+1+2)*3 -> 21 | H8: =G8 -> 21 | J8: =ROUND((H8*I8),1) -> 0 | K8: =H8+J8 -> 21
C9: SCH80 PIPE 철거 | D9: 65A | E9: M | F9: (4+1+2)*2LINE,노출 | G9: =(4+1+2)*2 -> 14 | H9: =G9 -> 14 | J9: =ROUND((H9*I9),1) -> 0 | K9: =H9+J9 -> 14
C10: SCH80 PIPE 철거 | D10: 40A | E10: M | H10: =G10 -> 0 | J10: =ROUND((H10*I10),1) -> 0 | K10: =H10+J10 -> 0
C11: SCH80 PIPE 철거 | D11: 32A | E11: M | H11: =G11 -> 0 | J11: =ROUND((H11*I11),1) -> 0 | K11: =H11+J11 -> 0
C12: SCH80 PIPE 철거 | D12: 25A | E12: M | H12: =G12 -> 0 | J12: =ROUND((H12*I12),1) -> 0 | K12: =H12+J12 -> 0
C13: CO2 노즐 철거 | D13: 25A | E13: EA | H13: =G13 -> 0 | J13: =ROUND((H13*I13),1) -> 0 | K13: =H13+J13 -> 0
A14: 소화가스실입구 | B14: 전기실입구,복도(천정속) | C14: CO2실린더 철거 | D14: 68L/45KG | E14: BTL | H14: =G14 -> 0 | J14: =ROUND((H14*I14),1) -> 0 | K14: =H14+J14 -> 0
C15: 선택밸브 철거 | D15: 80A | E15: 개소 | H15: =G15 -> 0 | J15: =ROUND((H15*I15),1) -> 0 | K15: =H15+J15 -> 0
C16: 기동용기함 철거 | E16: 개소 | H16: =G16 -> 0 | J16: =ROUND((H16*I16),1) -> 0 | K16: =H16+J16 -> 0
A17: - 지하1층용 배관만 철거산출 | C17: SCH80 PIPE 철거 | D17: 80A | E17: M | F17: (3.7+12.7)*2LINE,천정속, | H17: =G17 -> 0 | J17: =ROUND((H17*I17),1) -> 0 | K17: =H17+J17 -> 0 | L17: 철거제외
C18: SCH80 PIPE 철거 | D18: 65A | E18: M | H18: =G18 -> 0 | J18: =ROUND((H18*I18),1) -> 0 | K18: =H18+J18 -> 0
C19: SCH80 PIPE 철거 | D19: 40A | E19: M | H19: =G19 -> 0 | J19: =ROUND((H19*I19),1) -> 0 | K19: =H19+J19 -> 0
C20: SCH80 PIPE 철거 | D20: 32A | E20: M | H20: =G20 -> 0 | J20: =ROUND((H20*I20),1) -> 0 | K20: =H20+J20 -> 0
C21: SCH80 PIPE 철거 | D21: 25A | E21: M | H21: =G21 -> 0 | J21: =ROUND((H21*I21),1) -> 0 | K21: =H21+J21 -> 0
C22: CO2 노즐 철거 | D22: 25A | E22: EA | H22: =G22 -> 0 | J22: =ROUND((H22*I22),1) -> 0 | K22: =H22+J22 -> 0
A23: 전기실입구 | B23: 전기실,밧데리실,창고 | C23: CO2실린더 철거 | D23: 68L/45KG | E23: BTL | H23: =G23 -> 0 | J23: =ROUND((H23*I23),1) -> 0 | K23: =H23+J23 -> 0
C24: 선택밸브 철거 | D24: 80A | E24: 개소 | H24: =G24 -> 0 | J24: =ROUND((H24*I24),1) -> 0 | K24: =H24+J24 -> 0
C25: 기동용기함 철거 | E25: 개소 | H25: =G25 -> 0 | J25: =ROUND((H25*I25),1) -> 0 | K25: =H25+J25 -> 0
C26: SCH80 PIPE 철거 | D26: 80A | E26: M | F26: 1.5+4.3+1.7 | G26: =1.5+4.3+1.7 -> 7.5 | H26: =G26 -> 7.5 | J26: =ROUND((H26*I26),1) -> 0 | K26: =ROUNDUP((H26+J26),0) -> 8
C27: SCH80 PIPE 철거 | D27: 65A | E27: M | F27: 5.3+5.3 | G27: =5.3+5.3 -> 10.6 | H27: =G27 -> 10.6 | J27: =ROUND((H27*I27),1) -> 0 | K27: =ROUNDUP((H27+J27),0) -> 11
C28: SCH80 PIPE 철거 | D28: 40A | E28: M | F28: 4 | G28: =4 -> 4 | H28: =G28 -> 4 | J28: =ROUND((H28*I28),1) -> 0 | K28: =ROUNDUP((H28+J28),0) -> 4
C29: SCH80 PIPE 철거 | D29: 32A | E29: M | F29: 4.6 | G29: =4.6 -> 4.6 | H29: =G29 -> 4.6 | J29: =ROUND((H29*I29),1) -> 0 | K29: =ROUNDUP((H29+J29),0) -> 5
C30: SCH80 PIPE 철거 | D30: 25A | E30: M | F30: 6.5+6.5+6.5 | G30: =6.5*3 -> 19.5 | H30: =G30 -> 19.5 | J30: =ROUND((H30*I30),1) -> 0 | K30: =ROUNDUP((H30+J30),0) -> 20
C31: CO2 노즐 철거 | D31: 25A | E31: EA | F31: 1+1+3 | G31: =1+1+3 -> 5 | H31: =G31 -> 5 | J31: =ROUND((H31*I31),1) -> 0 | K31: =H31+J31 -> 5
A32: 전기실입구 | B32: 전산기계실,UPS실,발전기실 | C32: CO2실린더 철거 | D32: 68L/45KG | E32: BTL | H32: =G32 -> 0 | J32: =ROUND((H32*I32),1) -> 0 | K32: =H32+J32 -> 0
C33: 선택밸브 철거 | D33: 80A | E33: 개소 | H33: =G33 -> 0 | J33: =ROUND((H33*I33),1) -> 0 | K33: =H33+J33 -> 0
C34: 기동용기함 철거 | E34: 개소 | H34: =G34 -> 0 | J34: =ROUND((H34*I34),1) -> 0 | K34: =H34+J34 -> 0
C35: SCH80 PIPE 철거 | D35: 80A | E35: M | F35: 3 | G35: =3 -> 3 | H35: =G35 -> 3 | J35: =ROUND((H35*I35),1) -> 0 | K35: =ROUNDUP((H35+J35),0) -> 3
C36: SCH80 PIPE 철거 | D36: 65A | E36: M | F36: 6.4 | G36: =5.3+5.3 -> 10.6 | H36: =G36 -> 10.6 | J36: =ROUND((H36*I36),1) -> 0 | K36: =ROUNDUP((H36+J36),0) -> 11
C37: SCH80 PIPE 철거 | D37: 40A | E37: M | F37: 3.9+4.7+2.9+4.7+1.6 | G37: =3.9+4.7+2.9+4.7+1.6 -> 17.8 | H37: =G37 -> 17.8 | J37: =ROUND((H37*I37),1) -> 0 | K37: =ROUNDUP((H37+J37),0) -> 18 | L37: 전자기계실 천정속배관 철거제외(수량감소)
C38: SCH80 PIPE 철거 | D38: 32A | E38: M | F38: 2+2 | G38: =2+2+2 -> 6 | H38: =G38 -> 6 | J38: =ROUND((H38*I38),1) -> 0 | K38: =ROUNDUP((H38+J38),0) -> 6
C39: SCH80 PIPE 철거 | D39: 25A | E39: M | H39: =G39 -> 0 | J39: =ROUND((H39*I39),1) -> 0 | K39: =ROUNDUP((H39+J39),0) -> 0
C40: CO2 노즐 철거 | D40: 25A | E40: EA | F40: 2+2+2 | G40: =2+2+2 -> 6 | H40: =G40 -> 6 | J40: =ROUND((H40*I40),1) -> 0 | K40: =H40+J40 -> 6

Sheet 단가대비표
A1: 단 가 대 비 표
A2: ='산출조사서(철거공사)'!A2:L2 -> [ 사옥 이산화탄소 소화설비 교체공사 ]
A3: 코 드 | B3: 품 명 | C3: 규격 | D3: 단위 | E3: 재 료 비 | P3: 노 무 비 | Q3: 경 비 | W3: 번 호 | X3: 비 고 | Y3: 품목구분 | Z3: 노임구분 | AA3: 소수점처리 | AB3: 자재구분
E4: 조달청가격 | F4: PAGE | G4: 거래가격 | H4: PAGE | I4: 유통물가 | J4: PAGE | K4: 물가자료 | L4: PAGE | M4: 물가정보 | N4: PAGE | O4: 적용단가 | Q4: 조달청가격 | R4: 거래가격 | S4: 유통물가 | T4: 물가자료 | U4: 물가정보 | V4: 적용단가
A5: 0000590100060000 | B5: 코어드릴 | C5: 15.24cm | D5: 대 | E5: 0 | G5: 0 | I5: 0 | K5: 0 | M5: 0 | O5: 0 | P5: 0 | Q5: 0 | R5: 0 | S5: 0 | T5: 0 | U5: 774 | V5: =SMALL(Q5:U5,COUNTIF(Q5:U5,0)+1) -> 774 | W5: 자재 1 | X5: 천원
A6: 0000761105000000 | B6: 용접기(교류) | C6: 500Amp | D6: 대 | E6: 0 | G6: 0 | I6: 0 | K6: 0 | M6: 0 | O6: 0 | P6: 0 | Q6: 0 | R6: 0 | S6: 0 | T6: 0 | U6: 583 | V6: =SMALL(Q6:U6,COUNTIF(Q6:U6,0)+1) -> 583 | W6: 자재 2 | X6: 천원
A7: 1214190420204089 | B7: 산소가스 | C7: 기체 | D7: L | E7: 2.5 | G7: 4.37 | H7: 1451 | I7: 3.33 | J7: 1190 | K7: 0 | M7: 0 | O7: =SMALL(E7:M7,COUNTIF(E7:M7,0)+1) -> 2.5 | P7: 0 | Q7: 0 | R7: 0 | S7: 0 | T7: 0 | U7: 0 | V7: 0 | W7: 자재 3 | X7: 대기압상태기준
A8: 1511150620204095 | B8: 아세틸렌가스 | C8: 아세틸렌가스, kg | D8: kg | E8: 30000 | G8: 52000 | H8: 1451 | I8: 30000 | J8: 1190 | K8: 0 | M8: 0 | O8: =SMALL(E8:M8,COUNTIF(E8:M8,0)+1) -> 30000 | P8: 0 | Q8: 0 | R8: 0 | S8: 0 | T8: 0 | U8: 0 | V8: 0 | W8: 자재 4
A9: 2327181220080580 | B9: 용접봉(연강용) | C9: 3.2(KSE4301) | D9: kg | E9: 3397 | G9: 3297 | H9: 1326 | I9: 4500 | J9: 1132 | K9: 0 | M9: 0 | O9: =SMALL(E9:M9,COUNTIF(E9:M9,0)+1) -> 3297 | P9: 0 | Q9: 0 | R9: 0 | S9: 0 | T9: 0 | U9: 0 | V9: 0 | W9: 자재 5
A10: 2612162922076726 | B10: 저독성난연케이블 | C10: HFIX, 1.38㎜ | D10: M | E10: 356 | G10: 493 | H10: 993 | I10: 576 | J10: 833 | K10: 0 | M10: 0 | O10: =SMALL(E10:M10,COUNTIF(E10:M10,0)+1) -> 356 | P10: 0 | Q10: 0 | R10: 0 | S10: 0 | T10: 0 | U10: 0 | V10: 0 | W10: 자재 6
A11: 2612162922076727 | B11: 저독성난연케이블 | C11: HFIX, 1.78㎜ | D11: M | E11: 544 | G11: 749 | H11: 993 | I11: 929 | J11: 833 | K11: 0 | M11: 0 | O11: =SMALL(E11:M11,COUNTIF(E11:M11,0)+1) -> 544 | P11: 0 | Q11: 0 | R11: 0 | S11: 0 | T11: 0 | U11: 0 | V11: 0 | W11: 자재 7
A12: 2612164020684031 | B12: 내화전선 | C12: 내화전선, 0.6/1kv, F-FR-8, 3C*2.5㎟ | D12: M | E12: 4856 | G12: 7266 | H12: 998 | I12: 6107 | J12: 837 | K12: 0 | M12: 0 | O12: =SMALL(E12:M12,COUNTIF(E12:M12,0)+1) -> 4856 | P12: 0 | Q12: 0 | R12: 0 | S12: 0 | T12: 0 | U12: 0 | V12: 0 | W12: 자재 8
A13: 3019160220140457 | B13: 비계안정장치 | C13: 비계안정장치, 이음철물, 연결핀 | D13: 개 | E13: 1330 | G13: 1400 | H13: 167 | I13: 0 | K13: 0 | M13: 0 | O13: =SMALL(E13:M13,COUNTIF(E13:M13,0)+1) -> 1330 | P13: 0 | Q13: 0 | R13: 0 | S13: 0 | T13: 0 | U13: 0 | V13: 0 | W13: 자재 9
A14: 3019160220140477 | B14: 비계안정장치 | C14: 비계안정장치, 비계기본틀, 기둥, 1.2*1.7m | D14: 개 | E14: 27739 | G14: 0 | I14: 0 | K14: 0 | M14: 0 | O14: =SMALL(E14:M14,COUNTIF(E14:M14,0)+1) -> 27739 | P14: 0 | Q14: 0 | R14: 0 | S14: 0 | T14: 0 | U14: 0 | V14: 0 | W14: 자재 10
A15: 3019160220140479 | B15: 비계안정장치 | C15: 비계안정장치, 가새, 1.2*1.9m | D15: 개 | E15: 9246 | G15: 10000 | H15: 167 | I15: 0 | K15: 0 | M15: 0 | O15: =SMALL(E15:M15,COUNTIF(E15:M15,0)+1) -> 9246 | P15: 0 | Q15: 0 | R15: 0 | S15: 0 | T15: 0 | U15: 0 | V15: 0 | W15: 자재 11
A16: 3019160220140482 | B16: 비계안정장치 | C16: 비계안정장치, 수평띠장, 1829mm | D16: 개 | E16: 0 | G16: 25000 | H16: 167 | I16: 0 | K16: 0 | M16: 0 | O16: =SMALL(E16:M16,COUNTIF(E16:M16,0)+1) -> 25000 | P16: 0 | Q16: 0 | R16: 0 | S16: 0 | T16: 0 | U16: 0 | V16: 0 | W16: 자재 12
A17: 3019160220140483 | B17: 비계안정장치 | C17: 비계안정장치, 손잡이, 1229mm | D17: 개 | E17: 0 | G17: 0 | I17: 0 | K17: 0 | M17: 1584 | N17: 시중단가 | O17: =SMALL(E17:M17,COUNTIF(E17:M17,0)+1) -> 1584 | P17: 0 | Q17: 0 | R17: 0 | S17: 0 | T17: 0 | U17: 0 | V17: 0 | W17: 자재 13 | X17: 기존금액 110%
A18: 3019160220140484 | B18: 비계안정장치 | C18: 비계안정장치, 손잡이, 1829mm | D18: 개 | E18: 0 | G18: 0 | I18: 0 | K18: 0 | M18: 2376 | N18: 시중단가 | O18: =SMALL(E18:M18,COUNTIF(E18:M18,0)+1) -> 2376 | P18: 0 | Q18: 0 | R18: 0 | S18: 0 | T18: 0 | U18: 0 | V18: 0 | W18: 자재 14 | X18: 기존금액 110%
A19: 3019160220140485 | B19: 비계안정장치 | C19: 비계안정장치, 손잡이기둥 | D19: 개 | E19: 0 | G19: 0 | I19: 0 | K19: 0 | M19: 6336 | N19: 시중단가 | O19: =SMALL(E19:M19,COUNTIF(E19:M19,0)+1) -> 6336 | P19: 0 | Q19: 0 | R19: 0 | S19: 0 | T19: 0 | U19: 0 | V19: 0 | W19: 자재 15 | X19: 기존금액 110%
A20: 3019160220140486 | B20: 비계안정장치 | C20: 비계안정장치, 바퀴 | D20: 개 | E20: 0 | G20: 9500 | H20: 167 | I20: 0 | K20: 0 | M20: 0 | O20: =SMALL(E20:M20,COUNTIF(E20:M20,0)+1) -> 9500 | P20: 0 | Q20: 0 | R20: 0 | S20: 0 | T20: 0 | U20: 0 | V20: 0 | W20: 자재 16
A21: 3019160220140487 | B21: 비계안정장치 | C21: 비계안정장치, 쟈키 | D21: 개 | E21: 0 | G21: 11000 | H21: 167 | I21: 0 | K21: 0 | M21: 0 | O21: =SMALL(E21:M21,COUNTIF(E21:M21,0)+1) -> 11000 | P21: 0 | Q21: 0 | R21: 0 | S21: 0 | T21: 0 | U21: 0 | V21: 0 | W21: 자재 17
A22: 3019160222330656 | B22: 비계안정장치 | C22: 비계안정장치, 발판, 40*200*2000 | D22: 장 | E22: 0 | G22: 0 | I22: 0 | K22: 0 | M22: 19800 | N22: 시중단가 | O22: =SMALL(E22:M22,COUNTIF(E22:M22,0)+1) -> 19800 | P22: 0 | Q22: 0 | R22: 0 | S22: 0 | T22: 0 | U22: 0 | V22: 0 | W22: 자재 18
A23: 3116180730003127 | B23: 덕트관통부 채움 | D23: 개 | E23: 0 | G23: 0 | I23: 0 | K23: 0 | M23: 391476 | N23: 견적단가 | O23: =SMALL(E23:M23,COUNTIF(E23:M23,0)+1) -> 391476 | P23: 0 | Q23: 0 | R23: 0 | S23: 0 | T23: 0 | U23: 0 | V23: 0 | W23: 자재 19
A24: 3116180730003128 | B24: 배관관통부 채움 | D24: 개 | E24: 0 | G24: 0 | I24: 0 | K24: 0 | M24: 50544 | N24: 가견적단 | O24: =SMALL(E24:M24,COUNTIF(E24:M24,0)+1) -> 50544 | P24: 0 | Q24: 0 | R24: 0 | S24: 0 | T24: 0 | U24: 0 | V24: 0 | W24: 자재 20
A25: 3116180730005001 | B25: 방화실리콘 실란트 | C25: 300ml | D25: 개 | E25: 0 | G25: 11500 | H25: 1349 | I25: 11000 | J25: 790 | K25: 0 | M25: 0 | O25: =SMALL(E25:M25,COUNTIF(E25:M25,0)+1) -> 11000 | P25: 0 | Q25: 0 | R25: 0 | S25: 0 | T25: 0 | U25: 0 | V25: 0 | W25: 자재 21
A26: 3116210220135754 | B26: 세트앵커 | C26: 세트앵커, M20*L150mm | D26: 개 | E26: 0 | G26: 1470 | H26: 93 | I26: 1560 | J26: 53 | K26: 0 | M26: 0 | O26: =SMALL(E26:M26,COUNTIF(E26:M26,0)+1) -> 1470 | P26: 0 | Q26: 0 | R26: 0 | S26: 0 | T26: 0 | U26: 0 | V26: 0 | W26: 자재 22
A27: 3116210220135755 | B27: 아이너트 | C27: M20*30 | D27: 개 | E27: 0 | G27: 0 | I27: 1873 | J27: 56 | K27: 0 | M27: 1854 | N27: 42 | O27: =SMALL(E27:M27,COUNTIF(E27:M27,0)+1) -> 1854 | P27: 0 | Q27: 0 | R27: 0 | S27: 0 | T27: 0 | U27: 0 | V27: 0 | W27: 자재 23
A28: 3911170920190954 | B28: PVC 파이프 캡 | D28: 개 | E28: 0 | G28: 640 | H28: 794 | I28: 0 | K28: 0 | M28: 832 | N28: 시중단가 | O28: =SMALL(E28:M28,COUNTIF(E28:M28,0)+1) -> 640 | P28: 0 | Q28: 0 | R28: 0 | S28: 0 | T28: 0 | U28: 0 | V28: 0 | W28: 자재 24
A29: 3912110121650775 | B29: 전원반 | C29: 자동폐쇄장치전원반(창문형), 15A | D29: 개 | E29: 323825 | G29: 400000 | H29: 1177 | I29: 400000 | J29: 757 | K29: 0 | M29: 0 | O29: =SMALL(E29:M29,COUNTIF(E29:M29,0)+1) -> 323825 | P29: 0 | Q29: 0 | R29: 0 | S29: 0 | T29: 0 | U29: 0 | V29: 0 | W29: 자재 25
A30: 3912130810035753 | B30: 아웃렛박스 | C30: 아웃렛박스, 중형4각, 54mm | D30: 개 | E30: 0 | G30: 840 | H30: 1020 | I30: 0 | K30: 0 | M30: 0 | O30: =SMALL(E30:M30,COUNTIF(E30:M30,0)+1) -> 840 | P30: 0 | Q30: 0 | R30: 0 | S30: 0 | T30: 0 | U30: 0 | V30: 0 | W30: 자재 26
A31: 3912130820174713 | B31: 아웃렛박스 | C31: 아웃렛박스, 커버, 4각, 평 | D31: 개 | E31: 0 | G31: 240 | H31: 1020 | I31: 0 | K31: 0 | M31: 0 | O31: =SMALL(E31:M31,COUNTIF(E31:M31,0)+1) -> 240 | P31: 0 | Q31: 0 | R31: 0 | S31: 0 | T31: 0 | U31: 0 | V31: 0 | W31: 자재 27
A32: 3912170520170621 | B32: 케이블클램프 | C32: 케이블클램프, 접지크램프, 16C | D32: 개 | E32: 0 | G32: 0 | I32: 167 | J32: 864 | K32: 160 | L32: 1101 | M32: 167 | N32: 1203 | O32: =SMALL(E32:M32,COUNTIF(E32:M32,0)+1) -> 160 | P32: 0 | Q32: 0 | R32: 0 | S32: 0 | T32: 0 | U32: 0 | V32: 0 | W32: 자재 28
A33: 3912170520170622 | B33: 케이블클램프 | C33: 케이블클램프, 접지크램프, 22C | D33: 개 | E33: 0 | G33: 0 | I33: 181 | J33: 864 | K33: 180 | L33: 1101 | M33: 181 | N33: 1203 | O33: =SMALL(E33:M33,COUNTIF(E33:M33,0)+1) -> 180 | P33: 0 | Q33: 0 | R33: 0 | S33: 0 | T33: 0 | U33: 0 | V33: 0 | W33: 자재 29
A34: 3912170520170623 | B34: 케이블클램프 | C34: 케이블클램프, 접지크램프, 28C | D34: 개 | E34: 0 | G34: 0 | I34: 217 | J34: 864 | K34: 220 | L34: 1101 | M34: 217 | N34: 1203 | O34: =SMALL(E34:M34,COUNTIF(E34:M34,0)+1) -> 217 | P34: 0 | Q34: 0 | R34: 0 | S34: 0 | T34: 0 | U34: 0 | V34: 0 | W34: 자재 30
A35: 3913170520175128 | B35: 케이블트레이부속품 | C35: 케이블트레이부속품, U Channel, 41*41*t2.6mm | D35: KG | E35: 6176 | G35: 0 | I35: =22848/3 -> 7616 | J35: 864 | K35: 10930 | L35: 1114 | M35: 12630 | N35: 1211 | O35: =SMALL(E35:M35,COUNTIF(E29:M29,0)+1) -> 6176 | P35: 0 | Q35: 0 | R35: 0 | S35: 0 | T35: 0 | U35: 0 | V35: 0 | W35: 자재 31
A36: 3913170610034832 | B36: 강제전선관 | C36: 강제전선관, 후강전선관, 아연도, 16mm | D36: M | E36: 2380 | G36: 2800 | H36: 1029 | I36: 3408 | J36: 864 | K36: 0 | M36: 0 | O36: =SMALL(E36:M36,COUNTIF(E36:M36,0)+1) -> 2380 | P36: 0 | Q36: 0 | R36: 0 | S36: 0 | T36: 0 | U36: 0 | V36: 0 | W36: 자재 32
A37: 3913170610034833 | B37: 강제전선관 | C37: 강제전선관, 후강전선관, 아연도, 22mm | D37: M | E37: 3085 | G37: 3630 | H37: 1029 | I37: 4412 | J37: 864 | K37: 0 | M37: 0 | O37: =SMALL(E37:M37,COUNTIF(E37:M37,0)+1) -> 3085 | P37: 0 | Q37: 0 | R37: 0 | S37: 0 | T37: 0 | U37: 0 | V37: 0 | W37: 자재 33
A38: 3913170610034834 | B38: 강제전선관 | C38: 강제전선관, 후강전선관, 아연도, 28mm | D38: M | E38: 4012 | G38: 4720 | H38: 1029 | I38: 5766 | J38: 864 | K38: 0 | M38: 0 | O38: =SMALL(E38:M38,COUNTIF(E38:M38,0)+1) -> 4012 | P38: 0 | Q38: 0 | R38: 0 | S38: 0 | T38: 0 | U38: 0 | V38: 0 | W38: 자재 34
A39: 3913170620174410 | B39: 1종금속제가요전선관 | C39: 1종금속제가요전선관, 16mm, 비방수 | D39: M | E39: 0 | G39: 1380 | H39: 1027 | I39: 0 | K39: 0 | M39: 0 | O39: =SMALL(E39:M39,COUNTIF(E39:M39,0)+1) -> 1380 | P39: 0 | Q39: 0 | R39: 0 | S39: 0 | T39: 0 | U39: 0 | V39: 0 | W39: 자재 35
A40: 4616158120191770 | B40: 화물트럭 운반비 | C40: 1TON 기준 | D40: 일 | E40: 0 | G40: 0 | I40: 0 | K40: 0 | M40: 0 | O40: 0 | P40: 0 | Q40: 195900 | R40: 0 | S40: 0 | T40: 0 | U40: 0 | V40: =SMALL(Q40:U40,COUNTIF(Q40:U40,0)+1) -> 195900 | W40: 자재 36 | Y40: C
A41: 4617160620192442 | B41: 전자싸이렌 | C41: DC24V | D41: 개 | E41: 18620 | G41: 25000 | H41: 1196 | I41: 30000 | J41: 756 | K41: 0 | M41: 0 | O41: =SMALL(E41:M41,COUNTIF(E41:M41,0)+1) -> 18620 | P41: 0 | Q41: 0 | R41: 0 | S41: 0 | T41: 0 | U41: 0 | V41: 0 | W41: 자재 37
A42: 4619150120192512 | B42: 열감지기 | C42: 차동식 스포트형 | D42: 개 | E42: 4089 | G42: 5000 | H42: 1194 | I42: 5000 | J42: 758 | K42: 0 | M42: 0 | O42: =SMALL(E42:M42,COUNTIF(E42:M42,0)+1) -> 4089 | P42: 0 | Q42: 0 | R42: 0 | S42: 0 | T42: 0 | U42: 0 | V42: 0 | W42: 자재 38
A43: 4619150120192523 | B43: 연기감지기 | C43: 광전식2종-비축적 | D43: 개 | E43: 12880 | G43: 18000 | H43: 1196 | I43: 30000 | J43: 756 | K43: 0 | M43: 0 | O43: =SMALL(E43:M43,COUNTIF(E43:M43,0)+1) -> 12880 | P43: 0 | Q43: 0 | R43: 0 | S43: 0 | T43: 0 | U43: 0 | V43: 0 | W43: 자재 39
A44: 4619150520935677 | B44: 경종 | C44: DC24V | D44: 개 | E44: 4220 | G44: 6000 | H44: 1194 | I44: 7500 | J44: 756 | K44: 0 | M44: 0 | O44: =SMALL(E44:M44,COUNTIF(E44:M44,0)+1) -> 4220 | P44: 0 | Q44: 0 | R44: 0 | S44: 0 | T44: 0 | U44: 0 | V44: 0 | W44: 자재 40
A45: 4619168630098016 | B45: 방화포 | D45: ROLL | E45: 0 | G45: 0 | I45: 0 | K45: 0 | M45: 781000 | N45: 시중단가 | O45: =SMALL(E45:M45,COUNTIF(E45:M45,0)+1) -> 781000 | P45: 0 | Q45: 0 | R45: 0 | S45: 0 | T45: 0 | U45: 0 | V45: 0 | W45: 자재 41
A46: 6350040131340010 | B46: 가스소화수신기 | C46: 6회로 | D46: EA | E46: 0 | G46: 2500000 | H46: 1196 | I46: 3000000 | J46: 758 | K46: 1900000 | L46: 969 | M46: 0 | O46: =SMALL(E46:M46,COUNTIF(E46:M46,0)+1) -> 1900000 | P46: 0 | Q46: 0 | R46: 0 | S46: 0 | T46: 0 | U46: 0 | V46: 0 | W46: 자재 42
A47: 6350040131340100 | B47: 자동폐쇄장치-창문형(설치비포함) | C47: DC24V | D47: 개 | E47: 0 | G47: 550000 | H47: 656 | I47: 0 | K47: 430000 | L47: 견적단가 | M47: 550000 | N47: 546 | O47: =SMALL(E47:M47,COUNTIF(E47:M47,0)+1) -> 430000 | P47: 0 | Q47: 0 | R47: 0 | S47: 0 | T47: 0 | U47: 0 | V47: 0 | W47: 자재 43
A48: 6350040131340101 | B48: 자동폐쇄장치-방화문(설치비포함) | C48: DC24V | D48: 개 | E48: 0 | G48: 440000 | H48: 656 | I48: 0 | K48: 90000 | L48: 견적단가 | M48: 440000 | N48: 546 | O48: =SMALL(E48:M48,COUNTIF(E48:M48,0)+1) -> 90000 | P48: 0 | Q48: 0 | R48: 0 | S48: 0 | T48: 0 | U48: 0 | V48: 0 | W48: 자재 44
A49: L001010101000002 | B49: 보통인부 | C49: 일반공사 직종 | D49: 인 | E49: 0 | G49: 0 | I49: 0 | K49: 0 | M49: 0 | O49: 0 | P49: 172698 | Q49: 0 | R49: 0 | S49: 0 | T49: 0 | U49: 0 | V49: 0 | W49: 노임 1 | Y49: B
A50: L001010101000003 | B50: 특별인부 | C50: 일반공사 직종 | D50: 인 | E50: 0 | G50: 0 | I50: 0 | K50: 0 | M50: 0 | O50: 0 | P50: 228717 | Q50: 0 | R50: 0 | S50: 0 | T50: 0 | U50: 0 | V50: 0 | W50: 노임 2 | Y50: B
A51: L001010101000006 | B51: 비계공 | C51: 일반공사 직종 | D51: 인 | E51: 0 | G51: 0 | I51: 0 | K51: 0 | M51: 0 | O51: 0 | P51: 281939 | Q51: 0 | R51: 0 | S51: 0 | T51: 0 | U51: 0 | V51: 0 | W51: 노임 3 | Y51: B
A52: L001010101000009 | B52: 철공 | C52: 일반공사 직종 | D52: 인 | E52: 0 | G52: 0 | I52: 0 | K52: 0 | M52: 0 | O52: 0 | P52: 243870 | Q52: 0 | R52: 0 | S52: 0 | T52: 0 | U52: 0 | V52: 0 | W52: 노임 4 | Y52: B
A53: L001010101000010 | B53: 철판공 | C53: 일반공사 직종 | D53: 인 | E53: 0 | G53: 0 | I53: 0 | K53: 0 | M53: 0 | O53: 0 | P53: 220901 | Q53: 0 | R53: 0 | S53: 0 | T53: 0 | U53: 0 | V53: 0 | W53: 노임 5 | Y53: B
A54: L001010101000012 | B54: 용접공 | C54: 일반공사 직종 | D54: 인 | E54: 0 | G54: 0 | I54: 0 | K54: 0 | M54: 0 | O54: 0 | P54: 286330 | Q54: 0 | R54: 0 | S54: 0 | T54: 0 | U54: 0 | V54: 0 | W54: 노임 6 | Y54: B
A55: L001010101000015 | B55: 착암공 | C55: 일반공사 직종 | D55: 인 | E55: 0 | G55: 0 | I55: 0 | K55: 0 | M55: 0 | O55: 0 | P55: 223246 | Q55: 0 | R55: 0 | S55: 0 | T55: 0 | U55: 0 | V55: 0 | W55: 노임 7 | Y55: B
A56: L001010101000023 | B56: 건축목공 | C56: 일반공사 직종 | D56: 인 | E56: 0 | G56: 0 | I56: 0 | K56: 0 | M56: 0 | O56: 0 | P56: 282990 | Q56: 0 | R56: 0 | S56: 0 | T56: 0 | U56: 0 | V56: 0 | W56: 노임 8 | Y56: B
A57: L001010101000029 | B57: 도장공 | C57: 일반공사 직종 | D57: 인 | E57: 0 | G57: 0 | I57: 0 | K57: 0 | M57: 0 | O57: 0 | P57: 268225 | Q57: 0 | R57: 0 | S57: 0 | T57: 0 | U57: 0 | V57: 0 | W57: 노임 9 | Y57: B
A58: L001010101000039 | B58: 배관공 | C58: 일반공사 직종 | D58: 인 | E58: 0 | G58: 0 | I58: 0 | K58: 0 | M58: 0 | O58: 0 | P58: 249073 | Q58: 0 | R58: 0 | S58: 0 | T58: 0 | U58: 0 | V58: 0 | W58: 노임 10 | Y58: B
A59: L001010101000075 | B59: 내선전공 | C59: 일반공사 직종 | D59: 인 | E59: 0 | G59: 0 | I59: 0 | K59: 0 | M59: 0 | O59: 0 | P59: 276108 | Q59: 0 | R59: 0 | S59: 0 | T59: 0 | U59: 0 | V59: 0 | W59: 노임 11 | Y59: B
A60: L001010101000078 | B60: 저압케이블전공 | C60: 일반공사 직종 | D60: 인 | E60: 0 | G60: 0 | I60: 0 | K60: 0 | M60: 0 | O60: 0 | P60: 306274 | Q60: 0 | R60: 0 | S60: 0 | T60: 0 | U60: 0 | V60: 0 | W60: 노임 12 | Y60: B
A61: XL40000000000004 | B61: AnyFire(FK-5-1-12) 모듈러 | C61: 82.5L/90KG/2BT | D61: SET | E61: 0 | G61: 0 | I61: 0 | K61: 0 | M61: 9600000 | N61: 1369 | O61: =SMALL(E61:M61,COUNTIF(E61:M61,0)+1) -> 9600000 | P61: 308851 | Q61: 0 | R61: 0 | S61: 0 | T61: 0 | U61: 0 | V61: 0 | W61: 자재 45
A62: XL40000000000005 | B62: AnyFire(FK-5-1-12) 모듈러 | C62: 82.5L/80KG/2BT | D62: SET | E62: 0 | G62: 0 | I62: 0 | K62: 0 | M62: 8800000 | N62: 1369 | O62: =SMALL(E62:M62,COUNTIF(E62:M62,0)+1) -> 8800000 | P62: 308851 | Q62: 0 | R62: 0 | S62: 0 | T62: 0 | U62: 0 | V62: 0 | W62: 자재 46
A63: XL40000000000006 | B63: AnyFire(FK-5-1-12) 모듈러 | C63: 82.5L/70KG/2BT | D63: SET | E63: 0 | G63: 0 | I63: 0 | K63: 0 | M63: 8000000 | N63: 1369 | O63: =SMALL(E63:M63,COUNTIF(E63:M63,0)+1) -> 8000000 | P63: 308851 | Q63: 0 | R63: 0 | S63: 0 | T63: 0 | U63: 0 | V63: 0 | W63: 자재 47
A64: XL40000000000007 | B64: AnyFire(FK-5-1-12) 모듈러 | C64: 82.5L/70KG/1BT | D64: SET | E64: 0 | G64: 0 | I64: 0 | K64: 0 | M64: 4400000 | N64: 1369 | O64: =SMALL(E64:M64,COUNTIF(E64:M64,0)+1) -> 4400000 | P64: 154426 | Q64: 0 | R64: 0 | S64: 0 | T64: 0 | U64: 0 | V64: 0 | W64: 자재 48
A65: XL40000000000008 | B65: AnyFire(FK-5-1-12) 모듈러 | C65: 82.5L/60KG/1BT | D65: SET | E65: 0 | G65: 0 | I65: 0 | K65: 0 | M65: 4000000 | N65: 1369 | O65: =SMALL(E65:M65,COUNTIF(E65:M65,0)+1) -> 4000000 | P65: 154426 | Q65: 0 | R65: 0 | S65: 0 | T65: 0 | U65: 0 | V65: 0 | W65: 자재 49
A66: XL40000000000009 | B66: 솔레노이드밸브 | C66: DC-24V | D66: EA | E66: 0 | G66: 0 | I66: 0 | K66: 0 | M66: 150000 | N66: 1369 | O66: =SMALL(E66:M66,COUNTIF(E66:M66,0)+1) -> 150000 | P66: 0 | Q66: 0 | R66: 0 | S66: 0 | T66: 0 | U66: 0 | V66: 0 | W66: 자재 50
A67: XL40000000000010 | B67: 니들밸브 | C67: 6A | D67: EA | E67: 0 | G67: 0 | I67: 0 | K67: 0 | M67: 50000 | N67: 1369 | O67: =SMALL(E67:M67,COUNTIF(E67:M67,0)+1) -> 50000 | P67: 0 | Q67: 0 | R67: 0 | S67: 0 | T67: 0 | U67: 0 | V67: 0 | W67: 자재 51
A68: XL40000000000011 | B68: 내진가대(기본형) | C68: 모듈러 -2BT | D68: EA | E68: 0 | G68: 0 | I68: 0 | K68: 0 | M68: 850000 | N68: 견적단가 | O68: =SMALL(E68:M68,COUNTIF(E68:M68,0)+1) -> 850000 | P68: 256546 | Q68: 0 | R68: 0 | S68: 0 | T68: 0 | U68: 0 | V68: 0 | W68: 자재 52
A69: XL40000000000012 | B69: 내진가대(기본형) | C69: 모듈러 -1BT | D69: EA | E69: 0 | G69: 0 | I69: 0 | K69: 0 | M69: 750000 | N69: 견적단가 | O69: =SMALL(E69:M69,COUNTIF(E69:M69,0)+1) -> 750000 | P69: 256546 | Q69: 0 | R69: 0 | S69: 0 | T69: 0 | U69: 0 | V69: 0 | W69: 자재 53
A70: XL40000000000013 | B70: FK-5-1-12 Nozzle(360˚) | C70: 50A | D70: EA | E70: 0 | G70: 0 | I70: 0 | K70: 0 | M70: 65000 | N70: 1369 | O70: =SMALL(E70:M70,COUNTIF(E70:M70,0)+1) -> 65000 | P70: 52306 | Q70: 0 | R70: 0 | S70: 0 | T70: 0 | U70: 0 | V70: 0 | W70: 자재 54
A71: XL40000000000014 | B71: FK-5-1-12 Nozzle(180˚) | C71: 50A | D71: EA | E71: 0 | G71: 0 | I71: 0 | K71: 0 | M71: 65000 | N71: 1369 | O71: =SMALL(E71:M71,COUNTIF(E71:M71,0)+1) -> 65000 | P71: 52306 | Q71: 0 | R71: 0 | S71: 0 | T71: 0 | U71: 0 | V71: 0 | W71: 자재 55
A72: XL40000000000015 | B72: FK-5-1-12 Nozzle(360˚) | C72: 40A | D72: EA | E72: 0 | G72: 0 | I72: 0 | K72: 0 | M72: 52000 | N72: 1369 | O72: =SMALL(E72:M72,COUNTIF(E72:M72,0)+1) -> 52000 | P72: 52306 | Q72: 0 | R72: 0 | S72: 0 | T72: 0 | U72: 0 | V72: 0 | W72: 자재 56
... A84: XL40000000000027 | B84: KSD-3562 SCH40(백관) | C84: 40A | D84: M | E84: 0 | G84: 0 | I84: 0 | K84: 0 | M84: 7304 | N84: 663 | O84: =SMALL(E84:M84,COUNTIF(E84:M84,0)+1) -> 7304 | P84: 31514 | Q84: 0 | R84: 0 | S84: 0 | T84: 0 | U84: 0 | V84: 0 | W84: 자재 68
A85: XL40000000000028 | B85: SCH40 그루브 관이음쇠 | C85: 엘보 , 100A | D85: EA | E85: 0 | G85: 0 | I85: 0 | K85: 23700 | L85: 757 | M85: 0 | O85: =SMALL(E85:M85,COUNTIF(E85:M85,0)+1) -> 23700 | P85: 0 | Q85: 0 | R85: 0 | S85: 0 | T85: 0 | U85: 0 | V85: 0 | W85: 자재 69
A86: XL40000000000029 | B86: SCH40 그루브 관이음쇠 | C86: TEE , 100A | D86: EA | E86: 0 | G86: 0 | I86: 0 | K86: 35900 | L86: 757 | M86: 0 | O86: =SMALL(E86:M86,COUNTIF(E86:M86,0)+1) -> 35900 | P86: 0 | Q86: 0 | R86: 0 | S86: 0 | T86: 0 | U86: 0 | V86: 0 | W86: 자재 70
A87: XL40000000000030 | B87: SCH40 그루브 관이음쇠 | C87: TEE , 65A | D87: EA | E87: 0 | G87: 0 | I87: 0 | K87: 17300 | L87: 757 | M87: 0 | O87: =SMALL(E87:M87,COUNTIF(E87:M87,0)+1) -> 17300 | P87: 0 | Q87: 0 | R87: 0 | S87: 0 | T87: 0 | U87: 0 | V87: 0 | W87: 자재 71
A88: XL40000000000031 | B88: SCH40 그루브 관이음쇠 | C88: R/S , 100x65 | D88: EA | E88: 0 | G88: 0 | I88: 0 | K88: 20100 | L88: 757 | M88: 0 | O88: =SMALL(E88:M88,COUNTIF(E88:M88,0)+1) -> 20100 | P88: 0 | Q88: 0 | R88: 0 | S88: 0 | T88: 0 | U88: 0 | V88: 0 | W88: 자재 72
A89: XL40000000000032 | B89: SCH40 그루브 관이음쇠 | C89: R/S , 100x40 | D89: EA | E89: 0 | G89: 0 | I89: 0 | K89: 20100 | L89: 757 | M89: 0 | O89: =SMALL(E89:M89,COUNTIF(E89:M89,0)+1) -> 20100 | P89: 0 | Q89: 0 | R89: 0 | S89: 0 | T89: 0 | U89: 0 | V89: 0 | W89: 자재 73
A90: XL40000000000033 | B90: SCH40 그루브 관이음쇠 | C90: R/S , 65x50 | D90: EA | E90: 0 | G90: 0 | I90: 0 | K90: 14300 | L90: 757 | M90: 0 | O90: =SMALL(E90:M90,COUNTIF(E90:M90,0)+1) -> 14300 | P90: 0 | Q90: 0 | R90: 0 | S90: 0 | T90: 0 | U90: 0 | V90: 0 | W90: 자재 74
A91: XL40000000000034 | B91: 플렉시블 커플링(그루브) | C91: 유동식 , 100A | D91: EA | E91: 0 | G91: 0 | I91: 0 | K91: 22800 | L91: 757 | M91: 0 | O91: =SMALL(E91:M91,COUNTIF(E91:M91,0)+1) -> 22800 | P91: 0 | Q91: 0 | R91: 0 | S91: 0 | T91: 0 | U91: 0 | V91: 0 | W91: 자재 75
A92: XL40000000000035 | B92: 플렉시블 커플링(그루브) | C92: 유동식 , 65A | D92: EA | E92: 0 | G92: 0 | I92: 0 | K92: 14200 | L92: 757 | M92: 0 | O92: =SMALL(E92:M92,COUNTIF(E92:M92,0)+1) -> 14200 | P92: 0 | Q92: 0 | R92: 0 | S92: 0 | T92: 0 | U92: 0 | V92: 0 | W92: 자재 76
A93: XL40000000000036 | B93: 플렉시블 커플링(그루브) | C93: 유동식 , 50A | D93: EA | E93: 0 | G93: 0 | I93: 0 | K93: 11300 | L93: 757 | M93: 0 | O93: =SMALL(E93:M93,COUNTIF(E93:M93,0)+1) -> 11300 | P93: 0 | Q93: 0 | R93: 0 | S93: 0 | T93: 0 | U93: 0 | V93: 0 | W93: 자재 77
A94: XL40000000000037 | B94: 일반단조관이음쇠 | C94: 90엘보, 나사식 , 50A | D94: EA | E94: 0 | G94: 0 | I94: 0 | K94: 0 | M94: 20090 | N94: 670 | O94: =SMALL(E94:M94,COUNTIF(E94:M94,0)+1) -> 20090 | P94: 0 | Q94: 0 | R94: 0 | S94: 0 | T94: 0 | U94: 0 | V94: 0 | W94: 자재 78
A95: XL40000000000038 | B95: 일반단조관이음쇠 | C95: 90엘보, 나사식 , 40A | D95: EA | E95: 0 | G95: 0 | I95: 0 | K95: 0 | M95: 11930 | N95: 670 | O95: =SMALL(E95:M95,COUNTIF(E95:M95,0)+1) -> 11930 | P95: 0 | Q95: 0 | R95: 0 | S95: 0 | T95: 0 | U95: 0 | V95: 0 | W95: 자재 79
A96: XL40000000000039 | B96: 일반단조관이음쇠 | C96: TEE , 나사식 , 50x40 | D96: EA | E96: 0 | G96: 0 | I96: 0 | K96: 0 | M96: 27950 | N96: 670 | O96: =SMALL(E96:M96,COUNTIF(E96:M96,0)+1) -> 27950 | P96: 0 | Q96: 0 | R96: 0 | S96: 0 | T96: 0 | U96: 0 | V96: 0 | W96: 자재 80
A97: XL40000000000040 | B97: 일반단조관이음쇠 | C97: R/S , 나사식 , 50x40 | D97: EA | E97: 0 | G97: 0 | I97: 0 | K97: 0 | M97: 12930 | N97: 670 | O97: =SMALL(E97:M97,COUNTIF(E97:M97,0)+1) -> 12930 | P97: 0 | Q97: 0 | R97: 0 | S97: 0 | T97: 0 | U97: 0 | V97: 0 | W97: 자재 81
A98: XL40000000000041 | B98: U볼트,너트 | C98: 100A | D98: EA | E98: 0 | G98: 0 | I98: 0 | K98: 0 | M98: 880 | N98: 44 | O98: =SMALL(E98:M98,COUNTIF(E98:M98,0)+1) -> 880 | P98: 0 | Q98: 0 | R98: 0 | S98: 0 | T98: 0 | U98: 0 | V98: 0 | W98: 자재 82
A99: XL40000000000042 | B99: U볼트,너트 | C99: 65A | D99: EA | E99: 0 | G99: 0 | I99: 0 | K99: 0 | M99: 638 | N99: 44 | O99: =SMALL(E99:M99,COUNTIF(E99:M99,0)+1) -> 638 | P99: 0 | Q99: 0 | R99: 0 | S99: 0 | T99: 0 | U99: 0 | V99: 0 | W99: 자재 83
A100: XL40000000000043 | B100: U볼트,너트 | C100: 50A | D100: EA | E100: 0 | G100: 0 | I100: 0 | K100: 0 | M100: 561 | N100: 44 | O100: =SMALL(E100:M100,COUNTIF(E100:M100,0)+1) -> 561 | P100: 0 | Q100: 0 | R100: 0 | S100: 0 | T100: 0 | U100: 0 | V100: 0 | W100: 자재 84
A101: XL40000000000044 | B101: U볼트,너트 | C101: 40A | D101: EA | E101: 0 | G101: 0 | I101: 0 | K101: 0 | M101: 506 | N101: 44 | O101: =SMALL(E101:M101,COUNTIF(E101:M101,0)+1) -> 506 | P101: 0 | Q101: 0 | R101: 0 | S101: 0 | T101: 0 | U101: 0 | V101: 0 | W101: 자재 85
A102: XL40000000000045 | B102: 인서트플레이트 | C102: 150x150x6T | D102: 개소 | E102: 0 | G102: 0 | I102: 0 | K102: 0 | M102: 3740 | O102: =SMALL(E102:M102,COUNTIF(E102:M102,0)+1) -> 3740 | P102: 0 | Q102: 0 | R102: 0 | S102: 0 | T102: 0 | U102: 0 | V102: 0 | W102: 자재 86
A103: XL40000000000046 | B103: 조합페인트 | C103: 2 piece | D103: EA | E103: 0 | G103: 0 | I103: 0 | K103: 0 | M103: 7125 | N103: 501 | O103: =SMALL(E103:M103,COUNTIF(E103:M103,0)+1) -> 7125 | P103: 3565 | Q103: 0 | R103: 0 | S103: 0 | T103: 0 | U103: 0 | V103: 0 | W103: 자재 87
A104: XL40000000000047 | B104: ㄱ형강 | C104: 50x50x6T | D104: M | E104: 0 | G104: 0 | I104: 0 | K104: 0 | M104: 4828 | N104: 5 | O104: =SMALL(E104:M104,COUNTIF(E104:M104,0)+1) -> 4828 | P104: 0 | Q104: 0 | R104: 0 | S104: 0 | T104: 0 | U104: 0 | V104: 0 | W104: 자재 88
A105: XL40000000000048 | B105: 잡철물제작설치 | C105: 간단 | D105: TON | E105: 0 | G105: 0 | I105: 0 | K105: 0 | M105: 0 | O105: 0 | P105: 5404705 | Q105: 0 | R105: 0 | S105: 0 | T105: 0 | U105: 0 | V105: 0 | W105: 자재 89
A106: XL40000000000049 | B106: 내진앙카볼트 | C106: M12 | D106: EA | E106: 0 | G106: 0 | I106: 0 | K106: 0 | M106: 4690 | N106: 1381 | O106: =SMALL(E106:M106,COUNTIF(E106:M106,0)+1) -> 4690 | P106: 22089 | Q106: 0 | R106: 0 | S106: 0 | T106: 0 | U106: 0 | V106: 0 | W106: 자재 90
A107: XL40000000000050 | B107: 셋트앙카볼트 | C107: 3/8×70(9×70) | D107: EA | E107: 0 | G107: 0 | I107: 0 | K107: 0 | M107: 550 | N107: 48 | O107: =SMALL(E107:M107,COUNTIF(E107:M107,0)+1) -> 550 | P107: 22089 | Q107: 0 | R107: 0 | S107: 0 | T107: 0 | U107: 0 | V107: 0 | W107: 자재 91
A108: XL40000000000051 | B108: 벽체타공(과압배출구설치) | C108: 600mm | D108: 개소 | E108: 0 | G108: 0 | I108: 0 | K108: 0 | M108: 0 | O108: 0 | P108: 386044 | Q108: 0 | R108: 0 | S108: 0 | T108: 0 | U108: 0 | V108: 0 | W108: 자재 92
A109: XL40000000000052 | B109: 벽체타공(과압배출구설치) | C109: 400mm | D109: 개소 | E109: 0 | G109: 0 | I109: 0 | K109: 0 | M109: 0 | O109: 0 | P109: 215392 | Q109: 0 | R109: 0 | S109: 0 | T109: 0 | U109: 0 | V109: 0 | W109: 자재 93
A110: XL40000000000053 | B110: 벽체타공(과압배출구설치) | C110: 300mm | D110: 개소 | E110: 0 | G110: 0 | I110: 0 | K110: 0 | M110: 0 | O110: 0 | P110: 171838 | Q110: 0 | R110: 0 | S110: 0 | T110: 0 | U110: 0 | V110: 0 | W110: 자재 94
A111: XL40000000000054 | B111: 벽체타공(과압배출구설치) | C111: 200mm | D111: 개소 | E111: 0 | G111: 0 | I111: 0 | K111: 0 | M111: 0 | O111: 0 | P111: 127493 | Q111: 0 | R111: 0 | S111: 0 | T111: 0 | U111: 0 | V111: 0 | W111: 자재 95
...
