Workbook

Sheet 원가계산서
B1: 공 사 원 가 계 산 서
B2: 공사명 : 사옥 이산화탄소 소화설비 교체공사
B3: 비 목 | E3: 금 액 | F3: 구 성 비 | G3: 비 고
A4: A1 | B4: 순 공 사 원 가 | C4: 재 료 비 | D4: 직 접 재 료 비 | E4: =TRUNC(공종별집계표!F5, 0) -> 0
A5: A2 | D5: 간 접 재 료 비 | E5: 0
A6: A3 | D6: 작업설, 부산물(△) | E6: 0
A7: AS | D7: [ 소 계 ] | E7: =TRUNC(E4+E5-E6, 0) -> 0
A8: B1 | C8: 노 무 비 | D8: 직 접 노 무 비 | E8: =TRUNC(공종별집계표!H5, 0) -> 0
A9: B2 | D9: 간 접 노 무 비 | E9: =TRUNC(E8*0.175, 0) -> 0 | F9: 직접노무비 * 17.5%
A10: BS | D10: [ 소 계 ] | E10: =TRUNC(E8+E9, 0) -> 0
A11: C2 | C11: 경 비 | D11: 경 비 | E11: =TRUNC(공종별집계표!J5, 0) -> 0
A12: C4 | D12: 산 재 보 험 료 | E12: =TRUNC(E10*0.0356, 0) -> 0 | F12: 노무비 * 3.56%
A13: C5 | D13: 고 용 보 험 료 | E13: =TRUNC(E10*0.0101, 0) -> 0 | F13: 노무비 * 1.01%
A14: C6 | D14: 국민 건강 보험료 | E14: =TRUNC(E8*0.03595, 0) -> 0 | F14: 직접노무비 * 3.595%
A15: C7 | D15: 국민 연금 보험료 | E15: =TRUNC(E8*0.0475, 0) -> 0 | F15: 직접노무비 * 4.75%
A16: C8 | D16: 퇴직 공제 부금비 | E16: =TRUNC(E8*0.023, 0) -> 0 | F16: 직접노무비 * 2.3%
A17: CA | D17: 산업안전보건관리비 | E17: =TRUNC((E7+E8+(0/1.1))*0.0207, 0) -> 0 | F17: (재료비+직노+관급자재비) * 2.07%
A18: CB | D18: 노인장기요양보험료 | E18: =TRUNC(E14*0.1314, 0) -> 0 | F18: 건강보험료 * 13.14%
A19: CG | D19: 기 타 경 비 | E19: =TRUNC((E7+E10)*0.05, 0) -> 0 | F19: (재료비+노무비) * 5%
A20: CH | D20: 석 면 분 담 금 | E20: =TRUNC(E10*0.00006, 0) -> 0 | F20: 노무비 * 0.006%
A21: CJ | D21: 임금채권부담금 | E21: =TRUNC(E10*0.0009, 0) -> 0 | F21: 노무비 * 0.09%
A22: CS | D22: [ 소 계 ] | E22: =TRUNC(E11+E12+E13+E14+E15+E16+E17+E18+E19+E20+E21, 0) -> 0
A23: S1 | B23: 계 | E23: =TRUNC(E7+E10+E22, 0) -> 0
A24: D1 | B24: 일 반 관 리 비 | E24: =TRUNC(E23*0.08, 0) -> 0 | F24: 계 * 8%
A25: D2 | B25: 이 윤 | F25: (노무비+경비+일반관리비) * 15%
A26: D9 | B26: 순 계 약 금 액 | E26: =TRUNC(E23+E24+E25, 0) -> 0 | F26: (계+일반관리비+이윤)
A27: DA | B27: 소방시설공사업 배상책임공제 | E27: =TRUNC((E23+E24+E25)*0.00364, 0) -> 0 | F27: 순계약금액 * 0.364% | G27: 소방진흥법상 소방시설고사 손해배상공제 가입 의무(*소방산업공제 5억원이하 0.364%)
A28: DB | B28: 총 공 사 원 가 | E28: =E26+E27 -> 0 | F28: (순계약금액+소방시설업 배상책임공제) | G28: 백원미만절사
A29: DB | B29: 부 가 가 치 세 | E29: =TRUNC((E28)*0.1, 0) -> 0 | F29: 총공사원가 * 10%
A30: DH | B30: 도 급 액 | E30: =TRUNC(E26+E27+E29, 0) -> 0
A31: S2 | B31: 총 공 사 비 | E31: =TRUNC(E30+0, 0) -> 0

Sheet 공종별집계표
A1: 공 종 별 집 계 표
A2: [ 사옥 이산화탄소 소화설비 교체공사 ]
A3: 품 명 | B3: 규 격 | C3: 단위 | D3: 수량 | E3: 재 료 비 | G3: 노 무 비 | I3: 경 비 | K3: 합 계 | M3: 비 고 | N3: 공종코드 | O3: 변수 | P3: 상위공종 | Q3: 공종구분 | R3: 공종레벨 | S3: 공종소계 | T3: 원가계산서 연결금액
E4: 단 가 | F4: 금 액 | G4: 단 가 | H4: 금 액 | I4: 단 가 | J4: 금 액 | K4: 단 가 | L4: 금 액
A5: 01 사옥 이산화탄소 소화설비 교체공사 | N5: 01 | R5: 1
A6: 0101 소방전기설비공사 | N6: 0101 | P6: 01 | R6: 2
A7: 0102 할로겐소화약제설비공사 | N7: 0102 | P7: 01 | R7: 2
A8: 0103 철거공사 | N8: 0103 | P8: 01 | R8: 2
A29: [ 합 계 ] | F29: =F5 -> 0 | H29: =H5 -> 0 | J29: =J5 -> 0 | L29: =L5 -> 0

Sheet 공종별내역서(소방전기)
A1: =공종별집계표!A2 -> [ 사옥 이산화탄소 소화설비 교체공사 ]
A2: 품 명 | B2: 규 격 | C2: 단위 | D2: 수량 | E2: 재 료 비 | G2: 노 무 비 | I2: 경 비 | K2: 합 계 | M2: 비 고 | N2: 품목코드 | O2: 변수 | P2: 설정 | Q2: 공종코드 | R2: 일위 | S2: 단산 | T2: 자재 | U2: 손료적용 | V2: 손료저장 | W2: 적용율 | X2: JUK1 | Y2: JUK2 | Z2: JUK3 | AA2: JUK4 | AB2: JUK5 | AC2: JUK6 | AD2: JUK7 | AE2: JUK8 | AF2: JUK9 | AG2: JUK10 | AH2: JUK11 | AI2: JUK12 | AJ2: JUK13 | AK2: JUK14 | AL2: JUK15 | AM2: JUK16 | AN2: JUK17 | AO2: JUK18 | AP2: JUK19 | AQ2: JUK20 | AR2: 자재구분 | AS2: 공종구분 | AT2: 공종레벨 | AU2: 공종+자재 | AV2: 고유번호
E3: 단 가 | F3: 금 액 | G3: 단 가 | H3: 금 액 | I3: 단 가 | J3: 금 액 | K3: 단 가 | L3: 금 액
A4: 0101 소방전기설비공사 | Q4: 0101
A5: 450/75OV 저독성난연가교폴리올레핀절연전선(HFIX) | B5: 1.38㎜ | C5: m | M5: 호표 15 | N5: 505B01641A59413E6CB4C82253D1D6 | Q5: 0101 | R5: T | S5: F | T5: F | AU5: 0101505B01641A59413E6CB4C82253D1D6 | AV5: 21 | AW5: =CONCATENATE(A5," ",B5) -> 450/75OV 저독성난연가교폴리올레핀절연전선(HFIX) 1.38㎜
A6: 450/75OV 저독성난연가교폴리올레핀절연전선(HFIX) | B6: HFIX, 1.38㎜ (할증분 10%) | C6: m | M6: 호표 15 | N6: 505B01641A59413E6CB4C82253D1D6 | Q6: 0101 | R6: T | S6: F | T6: F | AU6: 0101505B01641A59413E6CB4C82253D1D6 | AV6: 21 | AW6: =CONCATENATE(A6," ",B6) -> 450/75OV 저독성난연가교폴리올레핀절연전선(HFIX) HFIX, 1.38㎜ (할증분 10%)
A7: 450/75OV 저독성난연가교폴리올레핀절연전선(HFIX) | B7: 1.78㎜ | C7: m | M7: 호표 16 | N7: 505B01641A59413E6CB4C82253D2FF | Q7: 0101 | R7: T | S7: F | T7: F | AU7: 0101505B01641A59413E6CB4C82253D2FF | AV7: 22 | AW7: =CONCATENATE(A7," ",B7) -> 450/75OV 저독성난연가교폴리올레핀절연전선(HFIX) 1.78㎜
A8: 450/75OV 저독성난연가교폴리올레핀절연전선(HFIX) | B8: HFIX, 1.78㎜(할증분 10%) | C8: m | M8: 호표 16 | N8: 505B01641A59413E6CB4C82253D2FF | Q8: 0101 | R8: T | S8: F | T8: F | AU8: 0101505B01641A59413E6CB4C82253D2FF | AV8: 22 | AW8: =CONCATENATE(A8," ",B8) -> 450/75OV 저독성난연가교폴리올레핀절연전선(HFIX) HFIX, 1.78㎜(할증분 10%)
A9: 0.6/1kV 내화 케이블 (F-FR-8) | B9: 3C 2.5㎟ | C9: m | M9: 호표 17 | N9: 505B01641A484BD16D60AB21A7ADF0 | Q9: 0101 | R9: T | S9: F | T9: F | AU9: 0101505B01641A484BD16D60AB21A7ADF0 | AV9: 23 | AW9: =CONCATENATE(A9," ",B9) -> 0.6/1kV 내화 케이블 (F-FR-8) 3C 2.5㎟
A10: 0.6/1kV 내화 케이블 (F-FR-8) | B10: 3C*2.5㎟ (할증분 5%) | C10: m | M10: 호표 17 | N10: 505B01641A484BD16D60AB21A7ADF0 | Q10: 0101 | R10: T | S10: F | T10: F | AU10: 0101505B01641A484BD16D60AB21A7ADF0 | AV10: 23 | AW10: =CONCATENATE(A10," ",B10) -> 0.6/1kV 내화 케이블 (F-FR-8) 3C*2.5㎟ (할증분 5%)
A11: 강제 전선관 | B11: 아연도 16 mm | C11: M | M11: 호표 8 | N11: 505B01641A6B48CC6AE99620450FAC | Q11: 0101 | R11: T | S11: F | T11: F | AU11: 0101505B01641A6B48CC6AE99620450FAC | AV11: 14 | AW11: =CONCATENATE(A11," ",B11) -> 강제 전선관 아연도 16 mm
A12: 강제 전선관 | B12: 아연도 16 mm(할증분 10%) | C12: M | M12: 호표 8 | N12: 505B01641A6B48CC6AE99620450FAC | Q12: 0101 | R12: T | S12: F | T12: F | AU12: 0101505B01641A6B48CC6AE99620450FAC | AV12: 14 | AW12: =CONCATENATE(A12," ",B12) -> 강제 전선관 아연도 16 mm(할증분 10%)
A13: 강제 전선관 | B13: 아연도 22 mm | C13: M | M13: 호표 9 | N13: 505B01641A6B48CC6AE99620450CD7 | Q13: 0101 | R13: T | S13: F | T13: F | AU13: 0101505B01641A6B48CC6AE99620450CD7 | AV13: 15 | AW13: =CONCATENATE(A13," ",B13) -> 강제 전선관 아연도 22 mm
A14: 강제 전선관 | B14: 아연도 22 mm(할증분 10%) | C14: M | M14: 호표 9 | N14: 505B01641A6B48CC6AE99620450CD7 | Q14: 0101 | R14: T | S14: F | T14: F | AU14: 0101505B01641A6B48CC6AE99620450CD7 | AV14: 15 | AW14: =CONCATENATE(A14," ",B14) -> 강제 전선관 아연도 22 mm(할증분 10%)
A15: 강제 전선관 | B15: 아연도 28 mm | C15: M | M15: 호표 10 | N15: 505B01641A6B48CC6AE99620450DFE | Q15: 0101 | R15: T | S15: F | T15: F | AU15: 0101505B01641A6B48CC6AE99620450DFE | AV15: 16 | AW15: =CONCATENATE(A15," ",B15) -> 강제 전선관 아연도 28 mm
A16: 강제 전선관 | B16: 아연도 28 mm(할증분 10%) | C16: M | M16: 호표 10 | N16: 505B01641A6B48CC6AE99620450DFE | Q16: 0101 | R16: T | S16: F | T16: F | AU16: 0101505B01641A6B48CC6AE99620450DFE | AV16: 16 | AW16: =CONCATENATE(A16," ",B16) -> 강제 전선관 아연도 28 mm(할증분 10%)
... A23: 잡철물설치(철제) | B23: 간단 | C23: kg | M23: 호표 5 | N23: 5011016F24EC46326CCAB425E4BD33 | Q23: 0101 | R23: T | S23: F | T23: F | AU23: 01015011016F24EC46326CCAB425E4BD33 | AV23: 11 | AW23: =CONCATENATE(A23," ",B23) -> 잡철물설치(철제) 간단
A24: 텍스 철거후 재설치 | C24: ㎡ | M24: 호표 6 | N24: 5010B167C66E4E4D6D7CDD288F9415 | Q24: 0101 | R24: T | S24: F | T24: F | AU24: 01015010B167C66E4E4D6D7CDD288F9415 | AV24: 12 | AW24: =CONCATENATE(A24," ",B24) -> 텍스 철거후 재설치
A25: 배관용 구멍뚫기(코어드릴)-Con,c | B25: 두께 30cm 이하 ∮25mm, 벽 | C25: 개소 | M25: 호표 7 | N25: 505B016322B745D26B9118298EB0BB | Q25: 0101 | R25: T | S25: F | T25: F | AU25: 0101505B016322B745D26B9118298EB0BB | AV25: 13 | AW25: =CONCATENATE(A25," ",B25) -> 배관용 구멍뚫기(코어드릴)-Con,c 두께 30cm 이하 ∮25mm, 벽
A26: 가스수신반 | C26: 대 | M26: 호표 30 | N26: 505B016424A64E5269CAC822D55C9C | Q26: 0101 | R26: T | S26: F | T26: F | AU26: 0101505B016424A64E5269CAC822D55C9C | AV26: 34 | AW26: =CONCATENATE(A26," ",B26) -> 가스수신반
A27: 전원반 | B27: 자동폐쇄장치전원반, 15A | C27: 대 | M27: 호표 32 | N27: 505B016424A64E5269CAC822D44BBF | Q27: 0101 | R27: T | S27: F | T27: F | AU27: 0101505B016424A64E5269CAC822D44BBF | AV27: 36 | AW27: =CONCATENATE(A27," ",B27) -> 전원반 자동폐쇄장치전원반, 15A
A28: 경종 설치 | C28: 개 | M28: 호표 18 | N28: 505B01641AE84E05648CA52A944A2D | Q28: 0101 | R28: T | S28: F | T28: F | AU28: 0101505B01641AE84E05648CA52A944A2D | AV28: 24 | AW28: =CONCATENATE(A28," ",B28) -> 경종 설치
A29: 화재감지기 | B29: 열감지기,차동식스포트형 | C29: 개 | M29: 호표 19 | N29: 505B016424A64E5269CA9C2E10B513 | Q29: 0101 | R29: T | S29: F | T29: F | AU29: 0101505B016424A64E5269CA9C2E10B513 | AV29: 25 | AW29: =CONCATENATE(A29," ",B29) -> 화재감지기 열감지기,차동식스포트형
A30: 화재감지기 | B30: 연기감지기,광전식2종-비축적 | C30: 개 | M30: 호표 22 | N30: 505B016424A64E5269CA9C2E10B095 | Q30: 0101 | R30: T | S30: F | T30: F | AU30: 0101505B016424A64E5269CA9C2E10B095 | AV30: 26 | AW30: =CONCATENATE(A30," ",B30) -> 화재감지기 연기감지기,광전식2종-비축적
A31: 전자사이렌 설치 | B31: DC 24V | C31: 개 | M31: 호표 25 | N31: 505B016424A64E5269CAAD250205F0 | Q31: 0101 | R31: T | S31: F | T31: F | AU31: 0101505B016424A64E5269CAAD250205F0 | AV31: 29 | AW31: =CONCATENATE(A31," ",B31) -> 전자사이렌 설치 DC 24V
A32: 자동폐쇄장치-창문형 | B32: DC-24V | C32: 개 | M32: 호표 26 | N32: 505B016424A64E5269CABF2B04DBB6 | Q32: 0101 | R32: T | S32: F | T32: F | AU32: 0101505B016424A64E5269CABF2B04DBB6 | AV32: 30 | AW32: =CONCATENATE(A32," ",B32) -> 자동폐쇄장치-창문형 DC-24V
A33: 자동폐쇄장치-방화문 | B33: DC-24V | C33: 개 | M33: 호표 27 | N33: 505B016424A64E5269CABF2B04DA98 | Q33: 0101 | R33: T | S33: F | T33: F | AU33: 0101505B016424A64E5269CABF2B04DA98 | AV33: 31 | AW33: =CONCATENATE(A33," ",B33) -> 자동폐쇄장치-방화문 DC-24V
A34: 경비실 부수신기 재결선 | B34: 지하층 2구역 철거 및 지하수신기 1구역 연동 | C34: 대 | M34: 호표 28 | N34: 505B016424A64E5269CAC822D7000C | Q34: 0101 | R34: T | S34: F | T34: F | AU34: 0101505B016424A64E5269CAC822D7000C | AV34: 32 | AW34: =CONCATENATE(A34," ",B34) -> 경비실 부수신기 재결선 지하층 2구역 철거 및 지하수신기 1구역 연동
A35: 통제실 메인수신기 재결선 | B35: 지하층 2구역 철거 및 지하수신기 1구역 연동 | C35: 대 | M35: 호표 29 | N35: 505B016424A64E5269CAC822D7000F | Q35: 0101 | R35: T | S35: F | T35: F | AU35: 0101505B016424A64E5269CAC822D7000F | AV35: 33 | AW35: =CONCATENATE(A35," ",B35) -> 통제실 메인수신기 재결선 지하층 2구역 철거 및 지하수신기 1구역 연동
A36: 걸이시설설치 | B36: 생명줄포함 | C36: 개소 | M36: 호표 31 | N36: 505B016424A64E5269CAC822D44C45 | Q36: 0101 | R36: T | S36: F | T36: F | AU36: 0101505B016424A64E5269CAC822D44C45 | AV36: 35 | AW36: =CONCATENATE(A36," ",B36) -> 걸이시설설치 생명줄포함
A37: 화재감지기 - 철거 | C37: 개 | M37: 호표 23 | N37: 505B016424A64E5269CA9C2E10B25F | Q37: 0101 | R37: T | S37: F | T37: F | AU37: 0101505B016424A64E5269CA9C2E10B25F | AV37: 27 | AW37: =CONCATENATE(A37," ",B37) -> 화재감지기 - 철거
A38: 전자싸이렌 - 철거 | C38: M | M38: 호표 24 | N38: 505B016424A64E5269CA9C2E10BC4B | Q38: 0101 | R38: T | S38: F | T38: F | AU38: 0101505B016424A64E5269CA9C2E10BC4B | AV38: 28 | AW38: =CONCATENATE(A38," ",B38) -> 전자싸이렌 - 철거
A39: 아우트렛박스 | B39: 중형4각 54㎜ | C39: 대 | M39: 호표 33 | N39: 505B016424794B996FF06424F6D40C | Q39: 0101 | R39: T | S39: F | T39: F | AU39: 0101505B016424794B996FF06424F6D40C | AV39: 37 | AW39: =CONCATENATE(A39," ",B39) -> 아우트렛박스 중형4각 54㎜
A40: 덕트관통부채움 | C40: EA | M40: 호표 20 | N40: 505B016424A64E5269CA9C2E10B510 | Q40: 0101 | R40: T | S40: F | T40: F | AU40: 0101505B016424A64E5269CA9C2E10B510 | AV40: 4 | AW40: =CONCATENATE(A40," ",B40) -> 덕트관통부채움
A41: 배관관통부채움 | C41: EA | M41: 호표 21 | N41: 505B016424A64E5269CA9C2E10B517 | Q41: 0101 | R41: T | S41: F | T41: F | AU41: 0101505B016424A64E5269CA9C2E10B517 | AV41: 5 | AW41: =CONCATENATE(A41," ",B41) -> 배관관통부채움
A42: 강관 조립말비계(이동식)설치 및 해체 | B42: 높이 4m, 3개월 | C42: 대 | M42: 호표 4 | N42: 5011B16E8E4F41386BB4A82D93F3F7 | Q42: 0101 | R42: T | S42: F | T42: F | AU42: 01015011B16E8E4F41386BB4A82D93F3F7 | AV42: 38 | AW42: =CONCATENATE(A42," ",B42) -> 강관 조립말비계(이동식)설치 및 해체 높이 4m, 3개월
A43: 방화실리콘 실란트 | B43: 300ml | C43: 개 | M43: 자재 21 | N43: 5732A16FD39B4CFA63CA662B17FC2C1E7F660A | Q43: 0101 | R43: F | S43: F | T43: T | AU43: 01015732A16FD39B4CFA63CA662B17FC2C1E7F660A | AV43: 6 | AW43: =CONCATENATE(A43," ",B43) -> 방화실리콘 실란트 300ml
A44: PVC 파이프 캡 | C44: 개 | M44: 자재 24 | N44: 5732216A746F4D936A27A42493CA481FC1D8E1 | Q44: 0101 | R44: F | S44: F | T44: T | AU44: 01015732216A746F4D936A27A42493CA481FC1D8E1 | AV44: 7 | AW44: =CONCATENATE(A44," ",B44) -> PVC 파이프 캡
A45: 화물트럭 운반비 | B45: 1TON 기준 | C45: 일 | M45: 자재 36 | N45: 5743416A3BB7490C6653CC265A7FA04F60A5B4 | Q45: 0101 | R45: F | S45: F | T45: T | AU45: 01015743416A3BB7490C6653CC265A7FA04F60A5B4 | AV45: 9 | AW45: =CONCATENATE(A45," ",B45) -> 화물트럭 운반비 1TON 기준
A46: 방화포 | C46: ROLL | M46: 자재 41 | N46: 5743416A3B4C482B60E2AF2047342E7407CDA9 | Q46: 0101 | R46: F | S46: F | T46: T | AU46: 01015743416A3B4C482B60E2AF2047342E7407CDA9 | AV46: 10 | AW46: =CONCATENATE(A46," ",B46) -> 방화포
...

Sheet 공종별내역서(할로겐)
A1: ='공종별내역서(소방전기)'!A1 -> [ 사옥 이산화탄소 소화설비 교체공사 ]
A2: 품 명 | B2: 규 격 | C2: 단위 | D2: 수량 | E2: 재 료 비 | G2: 노 무 비 | I2: 경 비 | K2: 합 계 | M2: 비 고 | N2: 품목코드 | O2: 변수 | P2: 설정 | Q2: 공종코드 | R2: 일위 | S2: 단산 | T2: 자재 | U2: 손료적용 | V2: 손료저장 | W2: 적용율 | X2: JUK1 | Y2: JUK2 | Z2: JUK3 | AA2: JUK4 | AB2: JUK5 | AC2: JUK6 | AD2: JUK7 | AE2: JUK8 | AF2: JUK9 | AG2: JUK10 | AH2: JUK11 | AI2: JUK12 | AJ2: JUK13 | AK2: JUK14 | AL2: JUK15 | AM2: JUK16 | AN2: JUK17 | AO2: JUK18 | AP2: JUK19 | AQ2: JUK20 | AR2: 자재구분 | AS2: 공종구분 | AT2: 공종레벨 | AU2: 공종+자재 | AV2: 고유번호
E3: 단 가 | F3: 금 액 | G3: 단 가 | H3: 금 액 | I3: 단 가 | J3: 금 액 | K3: 단 가 | L3: 금 액
A4: 0101 소방전기설비공사 | Q4: 0101
A5: 450/75OV 저독성난연가교폴리올레핀절연전선(HFIX) | B5: 1.38㎜ | C5: m | D5: 40 | E5: =TRUNC(일위대가목록!E18,0) -> 0 | F5: =TRUNC(E5*D5, 0) -> 0 | G5: =TRUNC(일위대가목록!F18,0) -> 0 | H5: =TRUNC(G5*D5, 0) -> 0 | I5: =TRUNC(일위대가목록!G18,0) -> 0 | J5: =TRUNC(I5*D5, 0) -> 0 | K5: =TRUNC(E5+G5+I5, 0) -> 0 | L5: =TRUNC(F5+H5+J5, 0) -> 0 | M5: 호표 15 | N5: 505B01641A59413E6CB4C82253D1D6 | Q5: 0101 | R5: T | S5: F | T5: F | AU5: 0101505B01641A59413E6CB4C82253D1D6 | AV5: 21 | AW5: =CONCATENATE(A5," ",B5) -> 450/75OV 저독성난연가교폴리올레핀절연전선(HFIX) 1.38㎜
A6: 450/75OV 저독성난연가교폴리올레핀절연전선(HFIX) | B6: HFIX, 1.38㎜ (할증분 10%) | C6: m | D6: =ROUNDDOWN(D5*0.1,0) -> 4 | E6: =TRUNC(일위대가목록!E18,0) -> 0 | F6: =TRUNC(E6*D6, 0) -> 0 | G6: =TRUNC(일위대가목록!F19,0) -> 0 | H6: =TRUNC(G6*D6, 0) -> 0 | I6: =TRUNC(일위대가목록!G19,0) -> 0 | J6: =TRUNC(I6*D6, 0) -> 0 | K6: =TRUNC(E6+G6+I6, 0) -> 0 | L6: =TRUNC(F6+H6+J6, 0) -> 0 | M6: 호표 15 | N6: 505B01641A59413E6CB4C82253D1D6 | Q6: 0101 | R6: T | S6: F | T6: F | AU6: 0101505B01641A59413E6CB4C82253D1D6 | AV6: 21 | AW6: =CONCATENATE(A6," ",B6) -> 450/75OV 저독성난연가교폴리올레핀절연전선(HFIX) HFIX, 1.38㎜ (할증분 10%)
A7: 450/75OV 저독성난연가교폴리올레핀절연전선(HFIX) | B7: 1.78㎜ | C7: m | D7: 2548 | E7: =TRUNC(일위대가목록!E19,0) -> 0 | F7: =TRUNC(E7*D7, 0) -> 0 | G7: =TRUNC(일위대가목록!F18,0) -> 0 | H7: =TRUNC(G7*D7, 0) -> 0 | I7: =TRUNC(일위대가목록!G18,0) -> 0 | J7: =TRUNC(I7*D7, 0) -> 0 | K7: =TRUNC(E7+G7+I7, 0) -> 0 | L7: =TRUNC(F7+H7+J7, 0) -> 0 | M7: 호표 16 | N7: 505B01641A59413E6CB4C82253D2FF | Q7: 0101 | R7: T | S7: F | T7: F | AU7: 0101505B01641A59413E6CB4C82253D2FF | AV7: 22 | AW7: =CONCATENATE(A7," ",B7) -> 450/75OV 저독성난연가교폴리올레핀절연전선(HFIX) 1.78㎜
A8: 450/75OV 저독성난연가교폴리올레핀절연전선(HFIX) | B8: HFIX, 1.78㎜(할증분 10%) | C8: m | D8: =ROUNDDOWN(D7*0.1,0) -> 254 | E8: =TRUNC(일위대가목록!E19,0) -> 0 | F8: =TRUNC(E8*D8, 0) -> 0 | G8: =TRUNC(일위대가목록!F19,0) -> 0 | H8: =TRUNC(G8*D8, 0) -> 0 | I8: =TRUNC(일위대가목록!G19,0) -> 0 | J8: =TRUNC(I8*D8, 0) -> 0 | K8: =TRUNC(E8+G8+I8, 0) -> 0 | L8: =TRUNC(F8+H8+J8, 0) -> 0 | M8: 호표 16 | N8: 505B01641A59413E6CB4C82253D2FF | Q8: 0101 | R8: T | S8: F | T8: F | AU8: 0101505B01641A59413E6CB4C82253D2FF | AV8: 22 | AW8: =CONCATENATE(A8," ",B8) -> 450/75OV 저독성난연가교폴리올레핀절연전선(HFIX) HFIX, 1.78㎜(할증분 10%)
A9: 0.6/1kV 내화 케이블 (F-FR-8) | B9: 3C 2.5㎟ | C9: m | D9: 10 | E9: =TRUNC(일위대가목록!E20,0) -> 0 | F9: =TRUNC(E9*D9, 0) -> 0 | G9: =TRUNC(일위대가목록!F20,0) -> 0 | H9: =TRUNC(G9*D9, 0) -> 0 | I9: =TRUNC(일위대가목록!G20,0) -> 0 | J9: =TRUNC(I9*D9, 0) -> 0 | K9: =TRUNC(E9+G9+I9, 0) -> 0 | L9: =TRUNC(F9+H9+J9, 0) -> 0 | M9: 호표 17 | N9: 505B01641A484BD16D60AB21A7ADF0 | Q9: 0101 | R9: T | S9: F | T9: F | AU9: 0101505B01641A484BD16D60AB21A7ADF0 | AV9: 23 | AW9: =CONCATENATE(A9," ",B9) -> 0.6/1kV 내화 케이블 (F-FR-8) 3C 2.5㎟
A10: 0.6/1kV 내화 케이블 (F-FR-8) | B10: 3C*2.5㎟ (할증분 5%) | C10: m | D10: =ROUNDDOWN(D9*0.1,0) -> 1 | E10: =TRUNC(일위대가목록!E20,0) -> 0 | F10: =TRUNC(E10*D10, 0) -> 0 | G10: =TRUNC(일위대가목록!F20,0) -> 0 | H10: =TRUNC(G10*D10, 0) -> 0 | I10: =TRUNC(일위대가목록!G21,0) -> 0 | J10: =TRUNC(I10*D10, 0) -> 0 | K10: =TRUNC(E10+G10+I10, 0) -> 0 | L10: =TRUNC(F10+H10+J10, 0) -> 0 | M10: 호표 17 | N10: 505B01641A484BD16D60AB21A7ADF0 | Q10: 0101 | R10: T | S10: F | T10: F | AU10: 0101505B01641A484BD16D60AB21A7ADF0 | AV10: 23 | AW10: =CONCATENATE(A10," ",B10) -> 0.6/1kV 내화 케이블 (F-FR-8) 3C*2.5㎟ (할증분 5%)
A11: 강제 전선관 | B11: 아연도 16 mm | C11: M | D11: 66 | E11: =TRUNC(일위대가목록!E11,0) -> 0 | F11: =TRUNC(E11*D11, 0) -> 0 | G11: =TRUNC(일위대가목록!F11,0) -> 0 | H11: =TRUNC(G11*D11, 0) -> 0 | I11: =TRUNC(일위대가목록!G11,0) -> 0 | J11: =TRUNC(I11*D11, 0) -> 0 | K11: =TRUNC(E11+G11+I11, 0) -> 0 | L11: =TRUNC(F11+H11+J11, 0) -> 0 | M11: 호표 8 | N11: 505B01641A6B48CC6AE99620450FAC | Q11: 0101 | R11: T | S11: F | T11: F | AU11: 0101505B01641A6B48CC6AE99620450FAC | AV11: 14 | AW11: =CONCATENATE(A11," ",B11) -> 강제 전선관 아연도 16 mm
A12: 강제 전선관 | B12: 아연도 16 mm(할증분 10%) | C12: M | D12: =ROUNDDOWN(D11*0.1,0) -> 6 | E12: =TRUNC(일위대가목록!E11,0) -> 0 | F12: =TRUNC(E12*D12, 0) -> 0 | G12: =TRUNC(일위대가목록!F11,0) -> 0 | H12: =TRUNC(G12*D12, 0) -> 0 | I12: =TRUNC(일위대가목록!G12,0) -> 0 | J12: =TRUNC(I12*D12, 0) -> 0 | K12: =TRUNC(E12+G12+I12, 0) -> 0 | L12: =TRUNC(F12+H12+J12, 0) -> 0 | M12: 호표 8 | N12: 505B01641A6B48CC6AE99620450FAC | Q12: 0101 | R12: T | S12: F | T12: F | AU12: 0101505B01641A6B48CC6AE99620450FAC | AV12: 14 | AW12: =CONCATENATE(A12," ",B12) -> 강제 전선관 아연도 16 mm(할증분 10%)
A13: 강제 전선관 | B13: 아연도 22 mm | C13: M | D13: 259 | E13: =TRUNC(일위대가목록!E12,0) -> 0 | F13: =TRUNC(E13*D13, 0) -> 0 | G13: =TRUNC(일위대가목록!F12,0) -> 0 | H13: =TRUNC(G13*D13, 0) -> 0 | I13: =TRUNC(일위대가목록!G11,0) -> 0 | J13: =TRUNC(I13*D13, 0) -> 0 | K13: =TRUNC(E13+G13+I13, 0) -> 0 | L13: =TRUNC(F13+H13+J13, 0) -> 0 | M13: 호표 9 | N13: 505B01641A6B48CC6AE99620450CD7 | Q13: 0101 | R13: T | S13: F | T13: F | AU13: 0101505B01641A6B48CC6AE99620450CD7 | AV13: 15 | AW13: =CONCATENATE(A13," ",B13) -> 강제 전선관 아연도 22 mm
A14: 강제 전선관 | B14: 아연도 22 mm(할증분 10%) | C14: M | D14: =ROUNDDOWN(D13*0.1,0) -> 25 | E14: =TRUNC(일위대가목록!E12,0) -> 0 | F14: =TRUNC(E14*D14, 0) -> 0 | G14: =TRUNC(일위대가목록!F12,0) -> 0 | H14: =TRUNC(G14*D14, 0) -> 0 | I14: =TRUNC(일위대가목록!G12,0) -> 0 | J14: =TRUNC(I14*D14, 0) -> 0 | K14: =TRUNC(E14+G14+I14, 0) -> 0 | L14: =TRUNC(F14+H14+J14, 0) -> 0 | M14: 호표 9 | N14: 505B01641A6B48CC6AE99620450CD7 | Q14: 0101 | R14: T | S14: F | T14: F | AU14: 0101505B01641A6B48CC6AE99620450CD7 | AV14: 15 | AW14: =CONCATENATE(A14," ",B14) -> 강제 전선관 아연도 22 mm(할증분 10%)
A15: 강제 전선관 | B15: 아연도 28 mm | C15: M | D15: 131 | E15: =TRUNC(일위대가목록!E13,0) -> 0 | F15: =TRUNC(E15*D15, 0) -> 0 | G15: =TRUNC(일위대가목록!F13,0) -> 0 | H15: =TRUNC(G15*D15, 0) -> 0 | I15: =TRUNC(일위대가목록!G13,0) -> 0 | J15: =TRUNC(I15*D15, 0) -> 0 | K15: =TRUNC(E15+G15+I15, 0) -> 0 | L15: =TRUNC(F15+H15+J15, 0) -> 0 | M15: 호표 10 | N15: 505B01641A6B48CC6AE99620450DFE | Q15: 0101 | R15: T | S15: F | T15: F | AU15: 0101505B01641A6B48CC6AE99620450DFE | AV15: 16 | AW15: =CONCATENATE(A15," ",B15) -> 강제 전선관 아연도 28 mm
A16: 강제 전선관 | B16: 아연도 28 mm(할증분 10%) | C16: M | D16: =ROUNDDOWN(D15*0.1,0) -> 13 | E16: =TRUNC(일위대가목록!E13,0) -> 0 | F16: =TRUNC(E16*D16, 0) -> 0 | G16: =TRUNC(일위대가목록!F13,0) -> 0 | H16: =TRUNC(G16*D16, 0) -> 0 | I16: =TRUNC(일위대가목록!G14,0) -> 0 | J16: =TRUNC(I16*D16, 0) -> 0 | K16: =TRUNC(E16+G16+I16, 0) -> 0 | L16: =TRUNC(F16+H16+J16, 0) -> 0 | M16: 호표 10 | N16: 505B01641A6B48CC6AE99620450DFE | Q16: 0101 | R16: T | S16: F | T16: F | AU16: 0101505B01641A6B48CC6AE99620450DFE | AV16: 16 | AW16: =CONCATENATE(A16," ",B16) -> 강제 전선관 아연도 28 mm(할증분 10%)
A17: 1종금속제가요전선관 | B17: 16 mm 비방수 | C17: M | D17: 10 | E17: =TRUNC(일위대가목록!E14,0) -> 0 | F17: =TRUNC(E17*D17, 0) -> 0 | G17: =TRUNC(일위대가목록!F14,0) -> 0 | H17: =TRUNC(G17*D17, 0) -> 0 | I17: =TRUNC(일위대가목록!G14,0) -> 0 | J17: =TRUNC(I17*D17, 0) -> 0 | K17: =TRUNC(E17+G17+I17, 0) -> 0 | L17: =TRUNC(F17+H17+J17, 0) -> 0 | M17: 호표 11 | N17: 505B01641A6B48CD6B5886243C171B | Q17: 0101 | R17: T | S17: F | T17: F | AU17: 0101505B01641A6B48CD6B5886243C171B | AV17: 17 | AW17: =CONCATENATE(A17," ",B17) -> 1종금속제가요전선관 16 mm 비방수
A18: 1종금속제가요전선관 | B18: 16 mm 비방수(할증분 10%) | C18: M | D18: =ROUNDDOWN(D17*0.1,0) -> 1 | E18: =TRUNC(일위대가목록!E14,0) -> 0 | F18: =TRUNC(E18*D18, 0) -> 0 | G18: =TRUNC(일위대가목록!F14,0) -> 0 | H18: =TRUNC(G18*D18, 0) -> 0 | I18: =TRUNC(일위대가목록!G15,0) -> 0 | J18: =TRUNC(I18*D18, 0) -> 0 | K18: =TRUNC(E18+G18+I18, 0) -> 0 | L18: =TRUNC(F18+H18+J18, 0) -> 0 | M18: 호표 11 | N18: 505B01641A6B48CD6B5886243C171B | Q18: 0101 | R18: T | S18: F | T18: F | AU18: 0101505B01641A6B48CD6B5886243C171B | AV18: 17 | AW18: =CONCATENATE(A18," ",B18) -> 1종금속제가요전선관 16 mm 비방수(할증분 10%)
A19: 전선관지지대 | B19: 16 C | C19: kg/m | D19: ='산출조사서(소방전기)'!L47+'산출조사서(소방전기)'!L50+'산출조사서(소방전기)'!L65+'산출조사서(소방전기)'!L114 -> 43.999 | E19: =TRUNC(일위대가목록!E15,0) -> 0 | F19: =TRUNC(E19*D19, 0) -> 0 | G19: =TRUNC(일위대가목록!F15,0) -> 0 | H19: =TRUNC(G19*D19, 0) -> 0 | I19: =TRUNC(일위대가목록!G15,0) -> 0 | J19: =TRUNC(I19*D19, 0) -> 0 | K19: =TRUNC(E19+G19+I19, 0) -> 0 | L19: =TRUNC(F19+H19+J19, 0) -> 0 | M19: 호표 12 | N19: 505B01641A6B48C06FD8E029F22B81 | Q19: 0101 | R19: T | S19: F | T19: F | AU19: 0101505B01641A6B48C06FD8E029F22B81 | AV19: 18 | AW19: =CONCATENATE(A19," ",B19) -> 전선관지지대 16 C
A20: 전선관지지대 | B20: 22 C | C20: kg/m | D20: ='산출조사서(소방전기)'!L8+'산출조사서(소방전기)'!L11+'산출조사서(소방전기)'!L14+'산출조사서(소방전기)'!L21+'산출조사서(소방전기)'!L78+'산출조사서(소방전기)'!L90+'산출조사서(소방전기)'!L150+'산출조사서(소방전기)'!L153 -> 172.666 | E20: =TRUNC(일위대가목록!E16,0) -> 0 | F20: =TRUNC(E20*D20, 0) -> 0 | G20: =TRUNC(일위대가목록!F16,0) -> 0 | H20: =TRUNC(G20*D20, 0) -> 0 | I20: =TRUNC(일위대가목록!G16,0) -> 0 | J20: =TRUNC(I20*D20, 0) -> 0 | K20: =TRUNC(E20+G20+I20, 0) -> 0 | L20: =TRUNC(F20+H20+J20, 0) -> 0 | M20: 호표 13 | N20: 505B01641A6B48C06FD8E029F228CD | Q20: 0101 | R20: T | S20: F | T20: F | AU20: 0101505B01641A6B48C06FD8E029F228CD | AV20: 19 | AW20: =CONCATENATE(A20," ",B20) -> 전선관지지대 22 C
A21: 전선관지지대 | B21: 28 C | C21: kg/m | D21: ='산출조사서(소방전기)'!L73+'산출조사서(소방전기)'!L77+'산출조사서(소방전기)'!L83+'산출조사서(소방전기)'!L84+'산출조사서(소방전기)'!L91+'산출조사서(소방전기)'!L92+'산출조사서(소방전기)'!L99+'산출조사서(소방전기)'!L100+'산출조사서(소방전기)'!L101+'산출조사서(소방전기)'!L106 -> 87.328 | E21: =TRUNC(일위대가목록!E17,0) -> 0 | F21: =TRUNC(E21*D21, 0) -> 0 | G21: =TRUNC(일위대가목록!F17,0) -> 0 | H21: =TRUNC(G21*D21, 0) -> 0 | I21: =TRUNC(일위대가목록!G17,0) -> 0 | J21: =TRUNC(I21*D21, 0) -> 0 | K21: =TRUNC(E21+G21+I21, 0) -> 0 | L21: =TRUNC(F21+H21+J21, 0) -> 0 | M21: 호표 14 | N21: 505B01641A6B48C06FD8E029F229D4 | Q21: 0101 | R21: T | S21: F | T21: F | AU21: 0101505B01641A6B48C06FD8E029F229D4 | AV21: 20 | AW21: =CONCATENATE(A21," ",B21) -> 전선관지지대 28 C
A22: 잡철물설치(철제) | B22: 간단 | C22: kg | D22: 36 | E22: =TRUNC(일위대가목록!E8,0) -> 0 | F22: =TRUNC(E22*D22, 0) -> 0 | G22: =TRUNC(일위대가목록!F8,0) -> 0 | H22: =TRUNC(G22*D22, 0) -> 0 | I22: =TRUNC(일위대가목록!G8,0) -> 0 | J22: =TRUNC(I22*D22, 0) -> 0 | K22: =TRUNC(E22+G22+I22, 0) -> 0 | L22: =TRUNC(F22+H22+J22, 0) -> 0 | M22: 호표 5 | N22: 5011016F24EC46326CCAB425E4BD33 | Q22: 0101 | R22: T | S22: F | T22: F | AU22: 01015011016F24EC46326CCAB425E4BD33 | AV22: 11 | AW22: =CONCATENATE(A22," ",B22) -> 잡철물설치(철제) 간단
A23: 텍스 철거후 재설치 | C23: ㎡ | D23: 9.72 | E23: =TRUNC(일위대가목록!E9,0) -> 0 | F23: =TRUNC(E23*D23, 0) -> 0 | G23: =TRUNC(일위대가목록!F9,0) -> 0 | H23: =TRUNC(G23*D23, 0) -> 0 | I23: =TRUNC(일위대가목록!G9,0) -> 0 | J23: =TRUNC(I23*D23, 0) -> 0 | K23: =TRUNC(E23+G23+I23, 0) -> 0 | L23: =TRUNC(F23+H23+J23, 0) -> 0 | M23: 호표 6 | N23: 5010B167C66E4E4D6D7CDD288F9415 | Q23: 0101 | R23: T | S23: F | T23: F | AU23: 01015010B167C66E4E4D6D7CDD288F9415 | AV23: 12 | AW23: =CONCATENATE(A23," ",B23) -> 텍스 철거후 재설치
A24: 배관용 구멍뚫기(코어드릴)-Con,c | B24: 두께 30cm 이하 ∮25mm, 벽 | C24: 개소 | D24: 8 | E24: =TRUNC(일위대가목록!E10,0) -> 0 | F24: =TRUNC(E24*D24, 0) -> 0 | G24: =TRUNC(일위대가목록!F10,0) -> 0 | H24: =TRUNC(G24*D24, 0) -> 0 | I24: =TRUNC(일위대가목록!G10,0) -> 0 | J24: =TRUNC(I24*D24, 0) -> 0 | K24: =TRUNC(E24+G24+I24, 0) -> 0 | L24: =TRUNC(F24+H24+J24, 0) -> 0 | M24: 호표 7 | N24: 505B016322B745D26B9118298EB0BB | Q24: 0101 | R24: T | S24: F | T24: F | AU24: 0101505B016322B745D26B9118298EB0BB | AV24: 13 | AW24: =CONCATENATE(A24," ",B24) -> 배관용 구멍뚫기(코어드릴)-Con,c 두께 30cm 이하 ∮25mm, 벽
A25: 가스수신반 | C25: 대 | D25: 1 | E25: =TRUNC(일위대가목록!E33,0) -> 0 | F25: =TRUNC(E25*D25, 0) -> 0 | G25: =TRUNC(일위대가목록!F33,0) -> 0 | H25: =TRUNC(G25*D25, 0) -> 0 | I25: =TRUNC(일위대가목록!G33,0) -> 0 | J25: =TRUNC(I25*D25, 0) -> 0 | K25: =TRUNC(E25+G25+I25, 0) -> 0 | L25: =TRUNC(F25+H25+J25, 0) -> 0 | M25: 호표 30 | N25: 505B016424A64E5269CAC822D55C9C | Q25: 0101 | R25: T | S25: F | T25: F | AU25: 0101505B016424A64E5269CAC822D55C9C | AV25: 34 | AW25: =CONCATENATE(A25," ",B25) -> 가스수신반
A26: 전원반 | B26: 자동폐쇄장치전원반, 15A | C26: 대 | D26: 1 | E26: =TRUNC(일위대가목록!E35,0) -> 0 | F26: =TRUNC(E26*D26, 0) -> 0 | G26: =TRUNC(일위대가목록!F35,0) -> 0 | H26: =TRUNC(G26*D26, 0) -> 0 | I26: =TRUNC(일위대가목록!G35,0) -> 0 | J26: =TRUNC(I26*D26, 0) -> 0 | K26: =TRUNC(E26+G26+I26, 0) -> 0 | L26: =TRUNC(F26+H26+J26, 0) -> 0 | M26: 호표 32 | N26: 505B016424A64E5269CAC822D44BBF | Q26: 0101 | R26: T | S26: F | T26: F | AU26: 0101505B016424A64E5269CAC822D44BBF | AV26: 36 | AW26: =CONCATENATE(A26," ",B26) -> 전원반 자동폐쇄장치전원반, 15A
A27: 경종 설치 | C27: 개 | D27: 1 | E27: =TRUNC(일위대가목록!E21,0) -> 0 | F27: =TRUNC(E27*D27, 0) -> 0 | G27: =TRUNC(일위대가목록!F21,0) -> 0 | H27: =TRUNC(G27*D27, 0) -> 0 | I27: =TRUNC(일위대가목록!G21,0) -> 0 | J27: =TRUNC(I27*D27, 0) -> 0 | K27: =TRUNC(E27+G27+I27, 0) -> 0 | L27: =TRUNC(F27+H27+J27, 0) -> 0 | M27: 호표 18 | N27: 505B01641AE84E05648CA52A944A2D | Q27: 0101 | R27: T | S27: F | T27: F | AU27: 0101505B01641AE84E05648CA52A944A2D | AV27: 24 | AW27: =CONCATENATE(A27," ",B27) -> 경종 설치
A28: 화재감지기 | B28: 열감지기,차동식스포트형 | C28: 개 | D28: 10 | E28: =TRUNC(일위대가목록!E22,0) -> 0 | F28: =TRUNC(E28*D28, 0) -> 0 | G28: =TRUNC(일위대가목록!F22,0) -> 0 | H28: =TRUNC(G28*D28, 0) -> 0 | I28: =TRUNC(일위대가목록!G22,0) -> 0 | J28: =TRUNC(I28*D28, 0) -> 0 | K28: =TRUNC(E28+G28+I28, 0) -> 0 | L28: =TRUNC(F28+H28+J28, 0) -> 0 | M28: 호표 19 | N28: 505B016424A64E5269CA9C2E10B513 | Q28: 0101 | R28: T | S28: F | T28: F | AU28: 0101505B016424A64E5269CA9C2E10B513 | AV28: 25 | AW28: =CONCATENATE(A28," ",B28) -> 화재감지기 열감지기,차동식스포트형
A29: 화재감지기 | B29: 연기감지기,광전식2종-비축적 | C29: 개 | D29: 10 | E29: =TRUNC(일위대가목록!E25,0) -> 0 | F29: =TRUNC(E29*D29, 0) -> 0 | G29: =TRUNC(일위대가목록!F25,0) -> 0 | H29: =TRUNC(G29*D29, 0) -> 0 | I29: =TRUNC(일위대가목록!G25,0) -> 0 | J29: =TRUNC(I29*D29, 0) -> 0 | K29: =TRUNC(E29+G29+I29, 0) -> 0 | L29: =TRUNC(F29+H29+J29, 0) -> 0 | M29: 호표 22 | N29: 505B016424A64E5269CA9C2E10B095 | Q29: 0101 | R29: T | S29: F | T29: F | AU29: 0101505B016424A64E5269CA9C2E10B095 | AV29: 26 | AW29: =CONCATENATE(A29," ",B29) -> 화재감지기 연기감지기,광전식2종-비축적
A30: 전자사이렌 설치 | B30: DC 24V | C30: 개 | D30: 6 | E30: =TRUNC(일위대가목록!E28,0) -> 0 | F30: =TRUNC(E30*D30, 0) -> 0 | G30: =TRUNC(일위대가목록!F28,0) -> 0 | H30: =TRUNC(G30*D30, 0) -> 0 | I30: =TRUNC(일위대가목록!G28,0) -> 0 | J30: =TRUNC(I30*D30, 0) -> 0 | K30: =TRUNC(E30+G30+I30, 0) -> 0 | L30: =TRUNC(F30+H30+J30, 0) -> 0 | M30: 호표 25 | N30: 505B016424A64E5269CAAD250205F0 | Q30: 0101 | R30: T | S30: F | T30: F | AU30: 0101505B016424A64E5269CAAD250205F0 | AV30: 29 | AW30: =CONCATENATE(A30," ",B30) -> 전자사이렌 설치 DC 24V
A31: 자동폐쇄장치-창문형 | B31: DC-24V | C31: 개 | D31: 2 | E31: =TRUNC(일위대가목록!E29,0) -> 0 | F31: =TRUNC(E31*D31, 0) -> 0 | G31: =TRUNC(일위대가목록!F29,0) -> 0 | H31: =TRUNC(G31*D31, 0) -> 0 | I31: =TRUNC(일위대가목록!G29,0) -> 0 | J31: =TRUNC(I31*D31, 0) -> 0 | K31: =TRUNC(E31+G31+I31, 0) -> 0 | L31: =TRUNC(F31+H31+J31, 0) -> 0 | M31: 호표 26 | N31: 505B016424A64E5269CABF2B04DBB6 | Q31: 0101 | R31: T | S31: F | T31: F | AU31: 0101505B016424A64E5269CABF2B04DBB6 | AV31: 30 | AW31: =CONCATENATE(A31," ",B31) -> 자동폐쇄장치-창문형 DC-24V
A32: 자동폐쇄장치-방화문 | B32: DC-24V | C32: 개 | D32: 10 | E32: =TRUNC(일위대가목록!E30,0) -> 0 | F32: =TRUNC(E32*D32, 0) -> 0 | G32: =TRUNC(일위대가목록!F30,0) -> 0 | H32: =TRUNC(G32*D32, 0) -> 0 | I32: =TRUNC(일위대가목록!G30,0) -> 0 | J32: =TRUNC(I32*D32, 0) -> 0 | K32: =TRUNC(E32+G32+I32, 0) -> 0 | L32: =TRUNC(F32+H32+J32, 0) -> 0 | M32: 호표 27 | N32: 505B016424A64E5269CABF2B04DA98 | Q32: 0101 | R32: T | S32: F | T32: F | AU32: 0101505B016424A64E5269CABF2B04DA98 | AV32: 31 | AW32: =CONCATENATE(A32," ",B32) -> 자동폐쇄장치-방화문 DC-24V
A33: 경비실 부수신기 재결선 | B33: 지하층 2구역 철거 및 지하수신기 1구역 연동 | C33: 대 | D33: 1 | E33: =TRUNC(일위대가목록!E31,0) -> 0 | F33: =TRUNC(E33*D33, 0) -> 0 | G33: =TRUNC(일위대가목록!F31,0) -> 0 | H33: =TRUNC(G33*D33, 0) -> 0 | I33: =TRUNC(일위대가목록!G31,0) -> 0 | J33: =TRUNC(I33*D33, 0) -> 0 | K33: =TRUNC(E33+G33+I33, 0) -> 0 | L33: =TRUNC(F33+H33+J33, 0) -> 0 | M33: 호표 28 | N33: 505B016424A64E5269CAC822D7000C | Q33: 0101 | R33: T | S33: F | T33: F | AU33: 0101505B016424A64E5269CAC822D7000C | AV33: 32 | AW33: =CONCATENATE(A33," ",B33) -> 경비실 부수신기 재결선 지하층 2구역 철거 및 지하수신기 1구역 연동
A34: 통제실 메인수신기 재결선 | B34: 지하층 2구역 철거 및 지하수신기 1구역 연동 | C34: 대 | D34: 1 | E34: =TRUNC(일위대가목록!E32,0) -> 0 | F34: =TRUNC(E34*D34, 0) -> 0 | G34: =TRUNC(일위대가목록!F32,0) -> 0 | H34: =TRUNC(G34*D34, 0) -> 0 | I34: =TRUNC(일위대가목록!G32,0) -> 0 | J34: =TRUNC(I34*D34, 0) -> 0 | K34: =TRUNC(E34+G34+I34, 0) -> 0 | L34: =TRUNC(F34+H34+J34, 0) -> 0 | M34: 호표 29 | N34: 505B016424A64E5269CAC822D7000F | Q34: 0101 | R34: T | S34: F | T34: F | AU34: 0101505B016424A64E5269CAC822D7000F | AV34: 33 | AW34: =CONCATENATE(A34," ",B34) -> 통제실 메인수신기 재결선 지하층 2구역 철거 및 지하수신기 1구역 연동
A35: 걸이시설설치 | B35: 생명줄포함 | C35: 개소 | D35: ='산출조사서(소방전기)'!L32 -> 16 | E35: =TRUNC(일위대가목록!E34,0) -> 0 | F35: =TRUNC(E35*D35, 0) -> 0 | G35: =TRUNC(일위대가목록!F34,0) -> 0 | H35: =TRUNC(G35*D35, 0) -> 0 | I35: =TRUNC(일위대가목록!G34,0) -> 0 | J35: =TRUNC(I35*D35, 0) -> 0 | K35: =TRUNC(E35+G35+I35, 0) -> 0 | L35: =TRUNC(F35+H35+J35, 0) -> 0 | M35: 호표 31 | N35: 505B016424A64E5269CAC822D44C45 | Q35: 0101 | R35: T | S35: F | T35: F | AU35: 0101505B016424A64E5269CAC822D44C45 | AV35: 35 | AW35: =CONCATENATE(A35," ",B35) -> 걸이시설설치 생명줄포함
A36: 화재감지기 - 철거 | C36: 개 | D36: 20 | E36: =TRUNC(일위대가목록!E26,0) -> 0 | F36: =TRUNC(E36*D36, 0) -> 0 | G36: =TRUNC(일위대가목록!F26,0) -> 0 | H36: =TRUNC(G36*D36, 0) -> 0 | I36: =TRUNC(일위대가목록!G26,0) -> 0 | J36: =TRUNC(I36*D36, 0) -> 0 | K36: =TRUNC(E36+G36+I36, 0) -> 0 | L36: =TRUNC(F36+H36+J36, 0) -> 0 | M36: 호표 23 | N36: 505B016424A64E5269CA9C2E10B25F | Q36: 0101 | R36: T | S36: F | T36: F | AU36: 0101505B016424A64E5269CA9C2E10B25F | AV36: 27 | AW36: =CONCATENATE(A36," ",B36) -> 화재감지기 - 철거
A37: 전자싸이렌 - 철거 | C37: M | D37: 6 | E37: =TRUNC(일위대가목록!E27,0) -> 0 | F37: =TRUNC(E37*D37, 0) -> 0 | G37: =TRUNC(일위대가목록!F27,0) -> 0 | H37: =TRUNC(G37*D37, 0) -> 0 | I37: =TRUNC(일위대가목록!G27,0) -> 0 | J37: =TRUNC(I37*D37, 0) -> 0 | K37: =TRUNC(E37+G37+I37, 0) -> 0 | L37: =TRUNC(F37+H37+J37, 0) -> 0 | M37: 호표 24 | N37: 505B016424A64E5269CA9C2E10BC4B | Q37: 0101 | R37: T | S37: F | T37: F | AU37: 0101505B016424A64E5269CA9C2E10BC4B | AV37: 28 | AW37: =CONCATENATE(A37," ",B37) -> 전자싸이렌 - 철거
A38: 아우트렛박스 | B38: 중형4각 54㎜ | C38: 대 | D38: 6 | E38: =TRUNC(일위대가목록!E37,0) -> 0 | F38: =TRUNC(E38*D38, 0) -> 0 | G38: =TRUNC(일위대가목록!F37,0) -> 0 | H38: =TRUNC(G38*D38, 0) -> 0 | I38: =TRUNC(일위대가목록!G37,0) -> 0 | J38: =TRUNC(I38*D38, 0) -> 0 | K38: =TRUNC(E38+G38+I38, 0) -> 0 | L38: =TRUNC(F38+H38+J38, 0) -> 0 | M38: 호표 33 | N38: 505B016424794B996FF06424F6D40C | Q38: 0101 | R38: T | S38: F | T38: F | AU38: 0101505B016424794B996FF06424F6D40C | AV38: 37 | AW38: =CONCATENATE(A38," ",B38) -> 아우트렛박스 중형4각 54㎜
A39: 덕트관통부채움 | C39: EA | D39: 4 | E39: =TRUNC(일위대가목록!E23,0) -> 0 | F39: =TRUNC(E39*D39, 0) -> 0 | G39: =TRUNC(일위대가목록!F23,0) -> 0 | H39: =TRUNC(G39*D39, 0) -> 0 | I39: =TRUNC(일위대가목록!G23,0) -> 0 | J39: =TRUNC(I39*D39, 0) -> 0 | K39: =TRUNC(E39+G39+I39, 0) -> 0 | L39: =TRUNC(F39+H39+J39, 0) -> 0 | M39: 호표 20 | N39: 505B016424A64E5269CA9C2E10B510 | Q39: 0101 | R39: T | S39: F | T39: F | AU39: 0101505B016424A64E5269CA9C2E10B510 | AV39: 4 | AW39: =CONCATENATE(A39," ",B39) -> 덕트관통부채움
A40: 배관관통부채움 | C40: EA | D40: 1 | E40: =TRUNC(일위대가목록!E24,0) -> 0 | F40: =TRUNC(E40*D40, 0) -> 0 | G40: =TRUNC(일위대가목록!F24,0) -> 0 | H40: =TRUNC(G40*D40, 0) -> 0 | I40: =TRUNC(일위대가목록!G24,0) -> 0 | J40: =TRUNC(I40*D40, 0) -> 0 | K40: =TRUNC(E40+G40+I40, 0) -> 0 | L40: =TRUNC(F40+H40+J40, 0) -> 0 | M40: 호표 21 | N40: 505B016424A64E5269CA9C2E10B517 | Q40: 0101 | R40: T | S40: F | T40: F | AU40: 0101505B016424A64E5269CA9C2E10B517 | AV40: 5 | AW40: =CONCATENATE(A40," ",B40) -> 배관관통부채움
...

Sheet 공종별내역서(철거)
A1: ='공종별내역서(할로겐)'!A1 -> [ 사옥 이산화탄소 소화설비 교체공사 ]
A2: 품 명 | B2: 규 격 | C2: 단위 | D2: 수량 | E2: 재 료 비 | G2: 노 무 비 | I2: 경 비 | K2: 합 계 | M2: 비 고 | N2: 품목코드 | O2: 변수 | P2: 설정 | Q2: 공종코드 | R2: 일위 | S2: 단산 | T2: 자재 | U2: 손료적용 | V2: 손료저장 | W2: 적용율 | X2: JUK1 | Y2: JUK2 | Z2: JUK3 | AA2: JUK4 | AB2: JUK5 | AC2: JUK6 | AD2: JUK7 | AE2: JUK8 | AF2: JUK9 | AG2: JUK10 | AH2: JUK11 | AI2: JUK12 | AJ2: JUK13 | AK2: JUK14 | AL2: JUK15 | AM2: JUK16 | AN2: JUK17 | AO2: JUK18 | AP2: JUK19 | AQ2: JUK20 | AR2: 자재구분 | AS2: 공종구분 | AT2: 공종레벨 | AU2: 공종+자재 | AV2: 고유번호
E3: 단 가 | F3: 금 액 | G3: 단 가 | H3: 금 액 | I3: 단 가 | J3: 금 액 | K3: 단 가 | L3: 금 액
A4: 0101 소방전기설비공사 | Q4: 0101
A5: 450/75OV 저독성난연가교폴리올레핀절연전선(HFIX) | B5: 1.38㎜ | C5: m | D5: 40 | E5: =TRUNC(일위대가목록!E18,0) -> 0 | F5: =TRUNC(E5*D5, 0) -> 0 | G5: =TRUNC(일위대가목록!F18,0) -> 0 | H5: =TRUNC(G5*D5, 0) -> 0 | I5: =TRUNC(일위대가목록!G18,0) -> 0 | J5: =TRUNC(I5*D5, 0) -> 0 | K5: =TRUNC(E5+G5+I5, 0) -> 0 | L5: =TRUNC(F5+H5+J5, 0) -> 0 | M5: 호표 15 | N5: 505B01641A59413E6CB4C82253D1D6 | Q5: 0101 | R5: T | S5: F | T5: F | AU5: 0101505B01641A59413E6CB4C82253D1D6 | AV5: 21 | AW5: =CONCATENATE(A5," ",B5) -> 450/75OV 저독성난연가교폴리올레핀절연전선(HFIX) 1.38㎜
A6: 450/75OV 저독성난연가교폴리올레핀절연전선(HFIX) | B6: HFIX, 1.38㎜ (할증분 10%) | C6: m | D6: =ROUNDDOWN(D5*0.1,0) -> 4 | E6: =TRUNC(일위대가목록!E18,0) -> 0 | F6: =TRUNC(E6*D6, 0) -> 0 | G6: =TRUNC(일위대가목록!F19,0) -> 0 | H6: =TRUNC(G6*D6, 0) -> 0 | I6: =TRUNC(일위대가목록!G19,0) -> 0 | J6: =TRUNC(I6*D6, 0) -> 0 | K6: =TRUNC(E6+G6+I6, 0) -> 0 | L6: =TRUNC(F6+H6+J6, 0) -> 0 | M6: 호표 15 | N6: 505B01641A59413E6CB4C82253D1D6 | Q6: 0101 | R6: T | S6: F | T6: F | AU6: 0101505B01641A59413E6CB4C82253D1D6 | AV6: 21 | AW6: =CONCATENATE(A6," ",B6) -> 450/75OV 저독성난연가교폴리올레핀절연전선(HFIX) HFIX, 1.38㎜ (할증분 10%)
A7: 450/75OV 저독성난연가교폴리올레핀절연전선(HFIX) | B7: 1.78㎜ | C7: m | D7: 2548 | E7: =TRUNC(일위대가목록!E19,0) -> 0 | F7: =TRUNC(E7*D7, 0) -> 0 | G7: =TRUNC(일위대가목록!F18,0) -> 0 | H7: =TRUNC(G7*D7, 0) -> 0 | I7: =TRUNC(일위대가목록!G18,0) -> 0 | J7: =TRUNC(I7*D7, 0) -> 0 | K7: =TRUNC(E7+G7+I7, 0) -> 0 | L7: =TRUNC(F7+H7+J7, 0) -> 0 | M7: 호표 16 | N7: 505B01641A59413E6CB4C82253D2FF | Q7: 0101 | R7: T | S7: F | T7: F | AU7: 0101505B01641A59413E6CB4C82253D2FF | AV7: 22 | AW7: =CONCATENATE(A7," ",B7) -> 450/75OV 저독성난연가교폴리올레핀절연전선(HFIX) 1.78㎜
A8: 450/75OV 저독성난연가교폴리올레핀절연전선(HFIX) | B8: HFIX, 1.78㎜(할증분 10%) | C8: m | D8: =ROUNDDOWN(D7*0.1,0) -> 254 | E8: =TRUNC(일위대가목록!E19,0) -> 0 | F8: =TRUNC(E8*D8, 0) -> 0 | G8: =TRUNC(일위대가목록!F19,0) -> 0 | H8: =TRUNC(G8*D8, 0) -> 0 | I8: =TRUNC(일위대가목록!G19,0) -> 0 | J8: =TRUNC(I8*D8, 0) -> 0 | K8: =TRUNC(E8+G8+I8, 0) -> 0 | L8: =TRUNC(F8+H8+J8, 0) -> 0 | M8: 호표 16 | N8: 505B01641A59413E6CB4C82253D2FF | Q8: 0101 | R8: T | S8: F | T8: F | AU8: 0101505B01641A59413E6CB4C82253D2FF | AV8: 22 | AW8: =CONCATENATE(A8," ",B8) -> 450/75OV 저독성난연가교폴리올레핀절연전선(HFIX) HFIX, 1.78㎜(할증분 10%)
A9: 0.6/1kV 내화 케이블 (F-FR-8) | B9: 3C 2.5㎟ | C9: m | D9: 10 | E9: =TRUNC(일위대가목록!E20,0) -> 0 | F9: =TRUNC(E9*D9, 0) -> 0 | G9: =TRUNC(일위대가목록!F20,0) -> 0 | H9: =TRUNC(G9*D9, 0) -> 0 | I9: =TRUNC(일위대가목록!G20,0) -> 0 | J9: =TRUNC(I9*D9, 0) -> 0 | K9: =TRUNC(E9+G9+I9, 0) -> 0 | L9: =TRUNC(F9+H9+J9, 0) -> 0 | M9: 호표 17 | N9: 505B01641A484BD16D60AB21A7ADF0 | Q9: 0101 | R9: T | S9: F | T9: F | AU9: 0101505B01641A484BD16D60AB21A7ADF0 | AV9: 23 | AW9: =CONCATENATE(A9," ",B9) -> 0.6/1kV 내화 케이블 (F-FR-8) 3C 2.5㎟
A10: 0.6/1kV 내화 케이블 (F-FR-8) | B10: 3C*2.5㎟ (할증분 5%) | C10: m | D10: =ROUNDDOWN(D9*0.1,0) -> 1 | E10: =TRUNC(일위대가목록!E20,0) -> 0 | F10: =TRUNC(E10*D10, 0) -> 0 | G10: =TRUNC(일위대가목록!F20,0) -> 0 | H10: =TRUNC(G10*D10, 0) -> 0 | I10: =TRUNC(일위대가목록!G21,0) -> 0 | J10: =TRUNC(I10*D10, 0) -> 0 | K10: =TRUNC(E10+G10+I10, 0) -> 0 | L10: =TRUNC(F10+H10+J10, 0) -> 0 | M10: 호표 17 | N10: 505B01641A484BD16D60AB21A7ADF0 | Q10: 0101 | R10: T | S10: F | T10: F | AU10: 0101505B01641A484BD16D60AB21A7ADF0 | AV10: 23 | AW10: =CONCATENATE(A10," ",B10) -> 0.6/1kV 내화 케이블 (F-FR-8) 3C*2.5㎟ (할증분 5%)
A11: 강제 전선관 | B11: 아연도 16 mm | C11: M | D11: 66 | E11: =TRUNC(일위대가목록!E11,0) -> 0 | F11: =TRUNC(E11*D11, 0) -> 0 | G11: =TRUNC(일위대가목록!F11,0) -> 0 | H11: =TRUNC(G11*D11, 0) -> 0 | I11: =TRUNC(일위대가목록!G11,0) -> 0 | J11: =TRUNC(I11*D11, 0) -> 0 | K11: =TRUNC(E11+G11+I11, 0) -> 0 | L11: =TRUNC(F11+H11+J11, 0) -> 0 | M11: 호표 8 | N11: 505B01641A6B48CC6AE99620450FAC | Q11: 0101 | R11: T | S11: F | T11: F | AU11: 0101505B01641A6B48CC6AE99620450FAC | AV11: 14 | AW11: =CONCATENATE(A11," ",B11) -> 강제 전선관 아연도 16 mm
A12: 강제 전선관 | B12: 아연도 16 mm(할증분 10%) | C12: M | D12: =ROUNDDOWN(D11*0.1,0) -> 6 | E12: =TRUNC(일위대가목록!E11,0) -> 0 | F12: =TRUNC(E12*D12, 0) -> 0 | G12: =TRUNC(일위대가목록!F11,0) -> 0 | H12: =TRUNC(G12*D12, 0) -> 0 | I12: =TRUNC(일위대가목록!G12,0) -> 0 | J12: =TRUNC(I12*D12, 0) -> 0 | K12: =TRUNC(E12+G12+I12, 0) -> 0 | L12: =TRUNC(F12+H12+J12, 0) -> 0 | M12: 호표 8 | N12: 505B01641A6B48CC6AE99620450FAC | Q12: 0101 | R12: T | S12: F | T12: F | AU12: 0101505B01641A6B48CC6AE99620450FAC | AV12: 14 | AW12: =CONCATENATE(A12," ",B12) -> 강제 전선관 아연도 16 mm(할증분 10%)
A13: 강제 전선관 | B13: 아연도 22 mm | C13: M | D13: 259 | E13: =TRUNC(일위대가목록!E12,0) -> 0 | F13: =TRUNC(E13*D13, 0) -> 0 | G13: =TRUNC(일위대가목록!F12,0) -> 0 | H13: =TRUNC(G13*D13, 0) -> 0 | I13: =TRUNC(일위대가목록!G11,0) -> 0 | J13: =TRUNC(I13*D13, 0) -> 0 | K13: =TRUNC(E13+G13+I13, 0) -> 0 | L13: =TRUNC(F13+H13+J13, 0) -> 0 | M13: 호표 9 | N13: 505B01641A6B48CC6AE99620450CD7 | Q13: 0101 | R13: T | S13: F | T13: F | AU13: 0101505B01641A6B48CC6AE99620450CD7 | AV13: 15 | AW13: =CONCATENATE(A13," ",B13) -> 강제 전선관 아연도 22 mm
A14: 강제 전선관 | B14: 아연도 22 mm(할증분 10%) | C14: M | D14: =ROUNDDOWN(D13*0.1,0) -> 25 | E14: =TRUNC(일위대가목록!E12,0) -> 0 | F14: =TRUNC(E14*D14, 0) -> 0 | G14: =TRUNC(일위대가목록!F12,0) -> 0 | H14: =TRUNC(G14*D14, 0) -> 0 | I14: =TRUNC(일위대가목록!G12,0) -> 0 | J14: =TRUNC(I14*D14, 0) -> 0 | K14: =TRUNC(E14+G14+I14, 0) -> 0 | L14: =TRUNC(F14+H14+J14, 0) -> 0 | M14: 호표 9 | N14: 505B01641A6B48CC6AE99620450CD7 | Q14: 0101 | R14: T | S14: F | T14: F | AU14: 0101505B01641A6B48CC6AE99620450CD7 | AV14: 15 | AW14: =CONCATENATE(A14," ",B14) -> 강제 전선관 아연도 22 mm(할증분 10%)
A15: 강제 전선관 | B15: 아연도 28 mm | C15: M | D15: 131 | E15: =TRUNC(일위대가목록!E13,0) -> 0 | F15: =TRUNC(E15*D15, 0) -> 0 | G15: =TRUNC(일위대가목록!F13,0) -> 0 | H15: =TRUNC(G15*D15, 0) -> 0 | I15: =TRUNC(일위대가목록!G13,0) -> 0 | J15: =TRUNC(I15*D15, 0) -> 0 | K15: =TRUNC(E15+G15+I15, 0) -> 0 | L15: =TRUNC(F15+H15+J15, 0) -> 0 | M15: 호표 10 | N15: 505B01641A6B48CC6AE99620450DFE | Q15: 0101 | R15: T | S15: F | T15: F | AU15: 0101505B01641A6B48CC6AE99620450DFE | AV15: 16 | AW15: =CONCATENATE(A15," ",B15) -> 강제 전선관 아연도 28 mm
A16: 강제 전선관 | B16: 아연도 28 mm(할증분 10%) | C16: M | D16: =ROUNDDOWN(D15*0.1,0) -> 13 | E16: =TRUNC(일위대가목록!E13,0) -> 0 | F16: =TRUNC(E16*D16, 0) -> 0 | G16: =TRUNC(일위대가목록!F13,0) -> 0 | H16: =TRUNC(G16*D16, 0) -> 0 | I16: =TRUNC(일위대가목록!G14,0) -> 0 | J16: =TRUNC(I16*D16, 0) -> 0 | K16: =TRUNC(E16+G16+I16, 0) -> 0 | L16: =TRUNC(F16+H16+J16, 0) -> 0 | M16: 호표 10 | N16: 505B01641A6B48CC6AE99620450DFE | Q16: 0101 | R16: T | S16: F | T16: F | AU16: 0101505B01641A6B48CC6AE99620450DFE | AV16: 16 | AW16: =CONCATENATE(A16," ",B16) -> 강제 전선관 아연도 28 mm(할증분 10%)
A17: 1종금속제가요전선관 | B17: 16 mm 비방수 | C17: M | D17: 10 | E17: =TRUNC(일위대가목록!E14,0) -> 0 | F17: =TRUNC(E17*D17, 0) -> 0 | G17: =TRUNC(일위대가목록!F14,0) -> 0 | H17: =TRUNC(G17*D17, 0) -> 0 | I17: =TRUNC(일위대가목록!G14,0) -> 0 | J17: =TRUNC(I17*D17, 0) -> 0 | K17: =TRUNC(E17+G17+I17, 0) -> 0 | L17: =TRUNC(F17+H17+J17, 0) -> 0 | M17: 호표 11 | N17: 505B01641A6B48CD6B5886243C171B | Q17: 0101 | R17: T | S17: F | T17: F | AU17: 0101505B01641A6B48CD6B5886243C171B | AV17: 17 | AW17: =CONCATENATE(A17," ",B17) -> 1종금속제가요전선관 16 mm 비방수
A18: 1종금속제가요전선관 | B18: 16 mm 비방수(할증분 10%) | C18: M | D18: =ROUNDDOWN(D17*0.1,0) -> 1 | E18: =TRUNC(일위대가목록!E14,0) -> 0 | F18: =TRUNC(E18*D18, 0) -> 0 | G18: =TRUNC(일위대가목록!F14,0) -> 0 | H18: =TRUNC(G18*D18, 0) -> 0 | I18: =TRUNC(일위대가목록!G15,0) -> 0 | J18: =TRUNC(I18*D18, 0) -> 0 | K18: =TRUNC(E18+G18+I18, 0) -> 0 | L18: =TRUNC(F18+H18+J18, 0) -> 0 | M18: 호표 11 | N18: 505B01641A6B48CD6B5886243C171B | Q18: 0101 | R18: T | S18: F | T18: F | AU18: 0101505B01641A6B48CD6B5886243C171B | AV18: 17 | AW18: =CONCATENATE(A18," ",B18) -> 1종금속제가요전선관 16 mm 비방수(할증분 10%)
A19: 전선관지지대 | B19: 16 C | C19: kg/m | D19: ='산출조사서(소방전기)'!L47+'산출조사서(소방전기)'!L50+'산출조사서(소방전기)'!L65+'산출조사서(소방전기)'!L114 -> 43.999 | E19: =TRUNC(일위대가목록!E15,0) -> 0 | F19: =TRUNC(E19*D19, 0) -> 0 | G19: =TRUNC(일위대가목록!F15,0) -> 0 | H19: =TRUNC(G19*D19, 0) -> 0 | I19: =TRUNC(일위대가목록!G15,0) -> 0 | J19: =TRUNC(I19*D19, 0) -> 0 | K19: =TRUNC(E19+G19+I19, 0) -> 0 | L19: =TRUNC(F19+H19+J19, 0) -> 0 | M19: 호표 12 | N19: 505B01641A6B48C06FD8E029F22B81 | Q19: 0101 | R19: T | S19: F | T19: F | AU19: 0101505B01641A6B48C06FD8E029F22B81 | AV19: 18 | AW19: =CONCATENATE(A19," ",B19) -> 전선관지지대 16 C
A20: 전선관지지대 | B20: 22 C | C20: kg/m | D20: ='산출조사서(소방전기)'!L8+'산출조사서(소방전기)'!L11+'산출조사서(소방전기)'!L14+'산출조사서(소방전기)'!L21+'산출조사서(소방전기)'!L78+'산출조사서(소방전기)'!L90+'산출조사서(소방전기)'!L150+'산출조사서(소방전기)'!L153 -> 172.666 | E20: =TRUNC(일위대가목록!E16,0) -> 0 | F20: =TRUNC(E20*D20, 0) -> 0 | G20: =TRUNC(일위대가목록!F16,0) -> 0 | H20: =TRUNC(G20*D20, 0) -> 0 | I20: =TRUNC(일위대가목록!G16,0) -> 0 | J20: =TRUNC(I20*D20, 0) -> 0 | K20: =TRUNC(E20+G20+I20, 0) -> 0 | L20: =TRUNC(F20+H20+J20, 0) -> 0 | M20: 호표 13 | N20: 505B01641A6B48C06FD8E029F228CD | Q20: 0101 | R20: T | S20: F | T20: F | AU20: 0101505B01641A6B48C06FD8E029F228CD | AV20: 19 | AW20: =CONCATENATE(A20," ",B20) -> 전선관지지대 22 C
A21: 전선관지지대 | B21: 28 C | C21: kg/m | D21: ='산출조사서(소방전기)'!L73+'산출조사서(소방전기)'!L77+'산출조사서(소방전기)'!L83+'산출조사서(소방전기)'!L84+'산출조사서(소방전기)'!L91+'산출조사서(소방전기)'!L92+'산출조사서(소방전기)'!L99+'산출조사서(소방전기)'!L100+'산출조사서(소방전기)'!L101+'산출조사서(소방전기)'!L106 -> 87.328 | E21: =TRUNC(일위대가목록!E17,0) -> 0 | F21: =TRUNC(E21*D21, 0) -> 0 | G21: =TRUNC(일위대가목록!F17,0) -> 0 | H21: =TRUNC(G21*D21, 0) -> 0 | I21: =TRUNC(일위대가목록!G17,0) -> 0 | J21: =TRUNC(I21*D21, 0) -> 0 | K21: =TRUNC(E21+G21+I21, 0) -> 0 | L21: =TRUNC(F21+H21+J21, 0) -> 0 | M21: 호표 14 | N21: 505B01641A6B48C06FD8E029F229D4 | Q21: 0101 | R21: T | S21: F | T21: F | AU21: 0101505B01641A6B48C06FD8E029F229D4 | AV21: 20 | AW21: =CONCATENATE(A21," ",B21) -> 전선관지지대 28 C
A22: 잡철물설치(철제) | B22: 간단 | C22: kg | D22: 36 | E22: =TRUNC(일위대가목록!E8,0) -> 0 | F22: =TRUNC(E22*D22, 0) -> 0 | G22: =TRUNC(일위대가목록!F8,0) -> 0 | H22: =TRUNC(G22*D22, 0) -> 0 | I22: =TRUNC(일위대가목록!G8,0) -> 0 | J22: =TRUNC(I22*D22, 0) -> 0 | K22: =TRUNC(E22+G22+I22, 0) -> 0 | L22: =TRUNC(F22+H22+J22, 0) -> 0 | M22: 호표 5 | N22: 5011016F24EC46326CCAB425E4BD33 | Q22: 0101 | R22: T | S22: F | T22: F | AU22: 01015011016F24EC46326CCAB425E4BD33 | AV22: 11 | AW22: =CONCATENATE(A22," ",B22) -> 잡철물설치(철제) 간단
A23: 텍스 철거후 재설치 | C23: ㎡ | D23: 9.72 | E23: =TRUNC(일위대가목록!E9,0) -> 0 | F23: =TRUNC(E23*D23, 0) -> 0 | G23: =TRUNC(일위대가목록!F9,0) -> 0 | H23: =TRUNC(G23*D23, 0) -> 0 | I23: =TRUNC(일위대가목록!G9,0) -> 0 | J23: =TRUNC(I23*D23, 0) -> 0 | K23: =TRUNC(E23+G23+I23, 0) -> 0 | L23: =TRUNC(F23+H23+J23, 0) -> 0 | M23: 호표 6 | N23: 5010B167C66E4E4D6D7CDD288F9415 | Q23: 0101 | R23: T | S23: F | T23: F | AU23: 01015010B167C66E4E4D6D7CDD288F9415 | AV23: 12 | AW23: =CONCATENATE(A23," ",B23) -> 텍스 철거후 재설치
A24: 배관용 구멍뚫기(코어드릴)-Con,c | B24: 두께 30cm 이하 ∮25mm, 벽 | C24: 개소 | D24: 8 | E24: =TRUNC(일위대가목록!E10,0) -> 0 | F24: =TRUNC(E24*D24, 0) -> 0 | G24: =TRUNC(일위대가목록!F10,0) -> 0 | H24: =TRUNC(G24*D24, 0) -> 0 | I24: =TRUNC(일위대가목록!G10,0) -> 0 | J24: =TRUNC(I24*D24, 0) -> 0 | K24: =TRUNC(E24+G24+I24, 0) -> 0 | L24: =TRUNC(F24+H24+J24, 0) -> 0 | M24: 호표 7 | N24: 505B016322B745D26B9118298EB0BB | Q24: 0101 | R24: T | S24: F | T24: F | AU24: 0101505B016322B745D26B9118298EB0BB | AV24: 13 | AW24: =CONCATENATE(A24," ",B24) -> 배관용 구멍뚫기(코어드릴)-Con,c 두께 30cm 이하 ∮25mm, 벽
A25: 가스수신반 | C25: 대 | D25: 1 | E25: =TRUNC(일위대가목록!E33,0) -> 0 | F25: =TRUNC(E25*D25, 0) -> 0 | G25: =TRUNC(일위대가목록!F33,0) -> 0 | H25: =TRUNC(G25*D25, 0) -> 0 | I25: =TRUNC(일위대가목록!G33,0) -> 0 | J25: =TRUNC(I25*D25, 0) -> 0 | K25: =TRUNC(E25+G25+I25, 0) -> 0 | L25: =TRUNC(F25+H25+J25, 0) -> 0 | M25: 호표 30 | N25: 505B016424A64E5269CAC822D55C9C | Q25: 0101 | R25: T | S25: F | T25: F | AU25: 0101505B016424A64E5269CAC822D55C9C | AV25: 34 | AW25: =CONCATENATE(A25," ",B25) -> 가스수신반
A26: 전원반 | B26: 자동폐쇄장치전원반, 15A | C26: 대 | D26: 1 | E26: =TRUNC(일위대가목록!E35,0) -> 0 | F26: =TRUNC(E26*D26, 0) -> 0 | G26: =TRUNC(일위대가목록!F35,0) -> 0 | H26: =TRUNC(G26*D26, 0) -> 0 | I26: =TRUNC(일위대가목록!G35,0) -> 0 | J26: =TRUNC(I26*D26, 0) -> 0 | K26: =TRUNC(E26+G26+I26, 0) -> 0 | L26: =TRUNC(F26+H26+J26, 0) -> 0 | M26: 호표 32 | N26: 505B016424A64E5269CAC822D44BBF | Q26: 0101 | R26: T | S26: F | T26: F | AU26: 0101505B016424A64E5269CAC822D44BBF | AV26: 36 | AW26: =CONCATENATE(A26," ",B26) -> 전원반 자동폐쇄장치전원반, 15A
A27: 경종 설치 | C27: 개 | D27: 1 | E27: =TRUNC(일위대가목록!E21,0) -> 0 | F27: =TRUNC(E27*D27, 0) -> 0 | G27: =TRUNC(일위대가목록!F21,0) -> 0 | H27: =TRUNC(G27*D27, 0) -> 0 | I27: =TRUNC(일위대가목록!G21,0) -> 0 | J27: =TRUNC(I27*D27, 0) -> 0 | K27: =TRUNC(E27+G27+I27, 0) -> 0 | L27: =TRUNC(F27+H27+J27, 0) -> 0 | M27: 호표 18 | N27: 505B01641AE84E05648CA52A944A2D | Q27: 0101 | R27: T | S27: F | T27: F | AU27: 0101505B01641AE84E05648CA52A944A2D | AV27: 24 | AW27: =CONCATENATE(A27," ",B27) -> 경종 설치
A28: 화재감지기 | B28: 열감지기,차동식스포트형 | C28: 개 | D28: 10 | E28: =TRUNC(일위대가목록!E22,0) -> 0 | F28: =TRUNC(E28*D28, 0) -> 0 | G28: =TRUNC(일위대가목록!F22,0) -> 0 | H28: =TRUNC(G28*D28, 0) -> 0 | I28: =TRUNC(일위대가목록!G22,0) -> 0 | J28: =TRUNC(I28*D28, 0) -> 0 | K28: =TRUNC(E28+G28+I28, 0) -> 0 | L28: =TRUNC(F28+H28+J28, 0) -> 0 | M28: 호표 19 | N28: 505B016424A64E5269CA9C2E10B513 | Q28: 0101 | R28: T | S28: F | T28: F | AU28: 0101505B016424A64E5269CA9C2E10B513 | AV28: 25 | AW28: =CONCATENATE(A28," ",B28) -> 화재감지기 열감지기,차동식스포트형
A29: 화재감지기 | B29: 연기감지기,광전식2종-비축적 | C29: 개 | D29: 10 | E29: =TRUNC(일위대가목록!E25,0) -> 0 | F29: =TRUNC(E29*D29, 0) -> 0 | G29: =TRUNC(일위대가목록!F25,0) -> 0 | H29: =TRUNC(G29*D29, 0) -> 0 | I29: =TRUNC(일위대가목록!G25,0) -> 0 | J29: =TRUNC(I29*D29, 0) -> 0 | K29: =TRUNC(E29+G29+I29, 0) -> 0 | L29: =TRUNC(F29+H29+J29, 0) -> 0 | M29: 호표 22 | N29: 505B016424A64E5269CA9C2E10B095 | Q29: 0101 | R29: T | S29: F | T29: F | AU29: 0101505B016424A64E5269CA9C2E10B095 | AV29: 26 | AW29: =CONCATENATE(A29," ",B29) -> 화재감지기 연기감지기,광전식2종-비축적
A30: 전자사이렌 설치 | B30: DC 24V | C30: 개 | D30: 6 | E30: =TRUNC(일위대가목록!E28,0) -> 0 | F30: =TRUNC(E30*D30, 0) -> 0 | G30: =TRUNC(일위대가목록!F28,0) -> 0 | H30: =TRUNC(G30*D30, 0) -> 0 | I30: =TRUNC(일위대가목록!G28,0) -> 0 | J30: =TRUNC(I30*D30, 0) -> 0 | K30: =TRUNC(E30+G30+I30, 0) -> 0 | L30: =TRUNC(F30+H30+J30, 0) -> 0 | M30: 호표 25 | N30: 505B016424A64E5269CAAD250205F0 | Q30: 0101 | R30: T | S30: F | T30: F | AU30: 0101505B016424A64E5269CAAD250205F0 | AV30: 29 | AW30: =CONCATENATE(A30," ",B30) -> 전자사이렌 설치 DC 24V
A31: 자동폐쇄장치-창문형 | B31: DC-24V | C31: 개 | D31: 2 | E31: =TRUNC(일위대가목록!E29,0) -> 0 | F31: =TRUNC(E31*D31, 0) -> 0 | G31: =TRUNC(일위대가목록!F29,0) -> 0 | H31: =TRUNC(G31*D31, 0) -> 0 | I31: =TRUNC(일위대가목록!G29,0) -> 0 | J31: =TRUNC(I31*D31, 0) -> 0 | K31: =TRUNC(E31+G31+I31, 0) -> 0 | L31: =TRUNC(F31+H31+J31, 0) -> 0 | M31: 호표 26 | N31: 505B016424A64E5269CABF2B04DBB6 | Q31: 0101 | R31: T | S31: F | T31: F | AU31: 0101505B016424A64E5269CABF2B04DBB6 | AV31: 30 | AW31: =CONCATENATE(A31," ",B31) -> 자동폐쇄장치-창문형 DC-24V
A32: 자동폐쇄장치-방화문 | B32: DC-24V | C32: 개 | D32: 10 | E32: =TRUNC(일위대가목록!E30,0) -> 0 | F32: =TRUNC(E32*D32, 0) -> 0 | G32: =TRUNC(일위대가목록!F30,0) -> 0 | H32: =TRUNC(G32*D32, 0) -> 0 | I32: =TRUNC(일위대가목록!G30,0) -> 0 | J32: =TRUNC(I32*D32, 0) -> 0 | K32: =TRUNC(E32+G32+I32, 0) -> 0 | L32: =TRUNC(F32+H32+J32, 0) -> 0 | M32: 호표 27 | N32: 505B016424A64E5269CABF2B04DA98 | Q32: 0101 | R32: T | S32: F | T32: F | AU32: 0101505B016424A64E5269CABF2B04DA98 | AV32: 31 | AW32: =CONCATENATE(A32," ",B32) -> 자동폐쇄장치-방화문 DC-24V
A33: 경비실 부수신기 재결선 | B33: 지하층 2구역 철거 및 지하수신기 1구역 연동 | C33: 대 | D33: 1 | E33: =TRUNC(일위대가목록!E31,0) -> 0 | F33: =TRUNC(E33*D33, 0) -> 0 | G33: =TRUNC(일위대가목록!F31,0) -> 0 | H33: =TRUNC(G33*D33, 0) -> 0 | I33: =TRUNC(일위대가목록!G31,0) -> 0 | J33: =TRUNC(I33*D33, 0) -> 0 | K33: =TRUNC(E33+G33+I33, 0) -> 0 | L33: =TRUNC(F33+H33+J33, 0) -> 0 | M33: 호표 28 | N33: 505B016424A64E5269CAC822D7000C | Q33: 0101 | R33: T | S33: F | T33: F | AU33: 0101505B016424A64E5269CAC822D7000C | AV33: 32 | AW33: =CONCATENATE(A33," ",B33) -> 경비실 부수신기 재결선 지하층 2구역 철거 및 지하수신기 1구역 연동
A34: 통제실 메인수신기 재결선 | B34: 지하층 2구역 철거 및 지하수신기 1구역 연동 | C34: 대 | D34: 1 | E34: =TRUNC(일위대가목록!E32,0) -> 0 | F34: =TRUNC(E34*D34, 0) -> 0 | G34: =TRUNC(일위대가목록!F32,0) -> 0 | H34: =TRUNC(G34*D34, 0) -> 0 | I34: =TRUNC(일위대가목록!G32,0) -> 0 | J34: =TRUNC(I34*D34, 0) -> 0 | K34: =TRUNC(E34+G34+I34, 0) -> 0 | L34: =TRUNC(F34+H34+J34, 0) -> 0 | M34: 호표 29 | N34: 505B016424A64E5269CAC822D7000F | Q34: 0101 | R34: T | S34: F | T34: F | AU34: 0101505B016424A64E5269CAC822D7000F | AV34: 33 | AW34: =CONCATENATE(A34," ",B34) -> 통제실 메인수신기 재결선 지하층 2구역 철거 및 지하수신기 1구역 연동
A35: 걸이시설설치 | B35: 생명줄포함 | C35: 개소 | D35: ='산출조사서(소방전기)'!L32 -> 16 | E35: =TRUNC(일위대가목록!E34,0) -> 0 | F35: =TRUNC(E35*D35, 0) -> 0 | G35: =TRUNC(일위대가목록!F34,0) -> 0 | H35: =TRUNC(G35*D35, 0) -> 0 | I35: =TRUNC(일위대가목록!G34,0) -> 0 | J35: =TRUNC(I35*D35, 0) -> 0 | K35: =TRUNC(E35+G35+I35, 0) -> 0 | L35: =TRUNC(F35+H35+J35, 0) -> 0 | M35: 호표 31 | N35: 505B016424A64E5269CAC822D44C45 | Q35: 0101 | R35: T | S35: F | T35: F | AU35: 0101505B016424A64E5269CAC822D44C45 | AV35: 35 | AW35: =CONCATENATE(A35," ",B35) -> 걸이시설설치 생명줄포함
A36: 화재감지기 - 철거 | C36: 개 | D36: 20 | E36: =TRUNC(일위대가목록!E26,0) -> 0 | F36: =TRUNC(E36*D36, 0) -> 0 | G36: =TRUNC(일위대가목록!F26,0) -> 0 | H36: =TRUNC(G36*D36, 0) -> 0 | I36: =TRUNC(일위대가목록!G26,0) -> 0 | J36: =TRUNC(I36*D36, 0) -> 0 | K36: =TRUNC(E36+G36+I36, 0) -> 0 | L36: =TRUNC(F36+H36+J36, 0) -> 0 | M36: 호표 23 | N36: 505B016424A64E5269CA9C2E10B25F | Q36: 0101 | R36: T | S36: F | T36: F | AU36: 0101505B016424A64E5269CA9C2E10B25F | AV36: 27 | AW36: =CONCATENATE(A36," ",B36) -> 화재감지기 - 철거
A37: 전자싸이렌 - 철거 | C37: M | D37: 6 | E37: =TRUNC(일위대가목록!E27,0) -> 0 | F37: =TRUNC(E37*D37, 0) -> 0 | G37: =TRUNC(일위대가목록!F27,0) -> 0 | H37: =TRUNC(G37*D37, 0) -> 0 | I37: =TRUNC(일위대가목록!G27,0) -> 0 | J37: =TRUNC(I37*D37, 0) -> 0 | K37: =TRUNC(E37+G37+I37, 0) -> 0 | L37: =TRUNC(F37+H37+J37, 0) -> 0 | M37: 호표 24 | N37: 505B016424A64E5269CA9C2E10BC4B | Q37: 0101 | R37: T | S37: F | T37: F | AU37: 0101505B016424A64E5269CA9C2E10BC4B | AV37: 28 | AW37: =CONCATENATE(A37," ",B37) -> 전자싸이렌 - 철거
A38: 아우트렛박스 | B38: 중형4각 54㎜ | C38: 대 | D38: 6 | E38: =TRUNC(일위대가목록!E37,0) -> 0 | F38: =TRUNC(E38*D38, 0) -> 0 | G38: =TRUNC(일위대가목록!F37,0) -> 0 | H38: =TRUNC(G38*D38, 0) -> 0 | I38: =TRUNC(일위대가목록!G37,0) -> 0 | J38: =TRUNC(I38*D38, 0) -> 0 | K38: =TRUNC(E38+G38+I38, 0) -> 0 | L38: =TRUNC(F38+H38+J38, 0) -> 0 | M38: 호표 33 | N38: 505B016424794B996FF06424F6D40C | Q38: 0101 | R38: T | S38: F | T38: F | AU38: 0101505B016424794B996FF06424F6D40C | AV38: 37 | AW38: =CONCATENATE(A38," ",B38) -> 아우트렛박스 중형4각 54㎜
A39: 덕트관통부채움 | C39: EA | D39: 4 | E39: =TRUNC(일위대가목록!E23,0) -> 0 | F39: =TRUNC(E39*D39, 0) -> 0 | G39: =TRUNC(일위대가목록!F23,0) -> 0 | H39: =TRUNC(G39*D39, 0) -> 0 | I39: =TRUNC(일위대가목록!G23,0) -> 0 | J39: =TRUNC(I39*D39, 0) -> 0 | K39: =TRUNC(E39+G39+I39, 0) -> 0 | L39: =TRUNC(F39+H39+J39, 0) -> 0 | M39: 호표 20 | N39: 505B016424A64E5269CA9C2E10B510 | Q39: 0101 | R39: T | S39: F | T39: F | AU39: 0101505B016424A64E5269CA9C2E10B510 | AV39: 4 | AW39: =CONCATENATE(A39," ",B39) -> 덕트관통부채움
A40: 배관관통부채움 | C40: EA | D40: 1 | E40: =TRUNC(일위대가목록!E24,0) -> 0 | F40: =TRUNC(E40*D40, 0) -> 0 | G40: =TRUNC(일위대가목록!F24,0) -> 0 | H40: =TRUNC(G40*D40, 0) -> 0 | I40: =TRUNC(일위대가목록!G24,0) -> 0 | J40: =TRUNC(I40*D40, 0) -> 0 | K40: =TRUNC(E40+G40+I40, 0) -> 0 | L40: =TRUNC(F40+H40+J40, 0) -> 0 | M40: 호표 21 | N40: 505B016424A64E5269CA9C2E10B517 | Q40: 0101 | R40: T | S40: F | T40: F | AU40: 0101505B016424A64E5269CA9C2E10B517 | AV40: 5 | AW40: =CONCATENATE(A40," ",B40) -> 배관관통부채움
...

Sheet 일위대가목록
B1: 일 위 대 가 목 록
B2: ='공종별내역서(철거)'!A1 -> [ 사옥 이산화탄소 소화설비 교체공사 ]
A3: 코 드 | B3: 품 명 | C3: 규 격 | D3: 단위 | E3: 재 료 비 | F3: 노 무 비 | G3: 경 비 | H3: 합 계 | I3: 번 호 | J3: 비 고 | K3: 노임계수 | L3: 할증 | M3: 품셈개요 | N3: 장비일위
A4: 570571624ABE4A0163D71B258390B9F8003DC7D9 | B4: 코아드릴 | C4: 15.24cm | D4: HR | I4: 호표 1 | K4: A | M4: 공통 8-3(5901) | N4: T
A5: 570571624ABE485D6445CD2588BD1A84505F2A5F | B5: 용접기(교류) | C5: 500Amp | D5: HR | I5: 호표 2 | K5: A | M5: 공통 8-3(7611) | N5: T
A6: 5011B16E8E4F41386BB4A82F4045DA | B6: 강관 조립말비계(이동식)설치 및 해체 | C6: 높이 4m, 노무비 | D6: 대 | I6: 호표 3 | M6: 공통 2-7-6
A7: 5011B16E8E4F41386BB4A82D93F3F7 | B7: 강관 조립말비계(이동식)설치 및 해체 | C7: 높이 4m, 3개월 | D7: 대 | I7: 호표 4 | M7: 공통 2-7-6, 2-2-5
A8: 5011016F24EC46326CCAB425E4BD33 | B8: 잡철물설치(철제) | C8: 간단 | D8: kg | I8: 호표 5 | M8: 건축 8-4-1
A9: 5010B167C66E4E4D6D7CDD288F9415 | B9: 텍스 철거후 재설치 | D9: ㎡ | I9: 호표 6 | M9: 건축 12-2-1
A10: 505B016322B745D26B9118298EB0BB | B10: 배관용 구멍뚫기(코어드릴)-Con,c | C10: 두께 30cm 이하 ∮25mm, 벽 | D10: 개소 | I10: 호표 7 | M10: 전기 5-29-2.나
A11: 505B01641A6B48CC6AE99620450FAC | B11: 강제 전선관 | C11: 아연도 16 mm | D11: M | I11: 호표 8 | M11: 전기 5-1
A12: 505B01641A6B48CC6AE99620450CD7 | B12: 강제 전선관 | C12: 아연도 22 mm | D12: M | I12: 호표 9 | M12: 전기 5-1
A13: 505B01641A6B48CC6AE99620450DFE | B13: 강제 전선관 | C13: 아연도 28 mm | D13: M | I13: 호표 10 | M13: 전기 5-1
A14: 505B01641A6B48CD6B5886243C171B | B14: 1종금속제가요전선관 | C14: 16 mm 비방수 | D14: M | I14: 호표 11 | M14: 전기 5-1
A15: 505B01641A6B48C06FD8E029F22B81 | B15: 전선관지지대 | C15: 16 C | D15: 개소 | I15: 호표 12
A16: 505B01641A6B48C06FD8E029F228CD | B16: 전선관지지대 | C16: 22 C | D16: 개소 | I16: 호표 13
A17: 505B01641A6B48C06FD8E029F229D4 | B17: 전선관지지대 | C17: 28 C | D17: 개소 | I17: 호표 14
A18: 505B01641A59413E6CB4C82253D1D6 | B18: 450/75OV 저독성난연가교폴리올레핀절연전선(HFIX) | C18: 1.38㎜ | D18: m | I18: 호표 15 | M18: 전기 5-10
A19: 505B01641A59413E6CB4C82253D2FF | B19: 450/75OV 저독성난연가교폴리올레핀절연전선(HFIX) | C19: 1.78㎜ | D19: m | I19: 호표 16 | M19: 전기 5-10
A20: 505B01641A484BD16D60AB21A7ADF0 | B20: 0.6/1kV 내화 케이블 (F-FR-8) | C20: 3C 2.5㎟ | D20: m | I20: 호표 17 | M20: 전기 5-13
A21: 505B01641AE84E05648CA52A944A2D | B21: 경종 설치 | D21: 개 | I21: 호표 18 | M21: 전기 10-2-5
A22: 505B016424A64E5269CA9C2E10B513 | B22: 화재감지기 | C22: 열감지기,차동식스포트형 | D22: 개 | I22: 호표 19 | M22: 전기 10-2-1
A23: 505B016424A64E5269CA9C2E10B510 | B23: 덕트관통부채움 | D23: EA | I23: 호표 20 | M23: 소방 2-7-4
A24: 505B016424A64E5269CA9C2E10B517 | B24: 배관관통부채움 | D24: EA | I24: 호표 21 | M24: 소방 2-7-4
A25: 505B016424A64E5269CA9C2E10B095 | B25: 화재감지기 | C25: 연기감지기,광전식2종-비축적 | D25: 개 | I25: 호표 22 | M25: 전기 10-2-1
A26: 505B016424A64E5269CA9C2E10B25F | B26: 화재감지기 - 철거 | D26: 개 | I26: 호표 23 | M26: 전기 10-2-1
A27: 505B016424A64E5269CA9C2E10BC4B | B27: 전자싸이렌 - 철거 | D27: M | I27: 호표 24 | M27: 전기 10-2-5
A28: 505B016424A64E5269CAAD250205F0 | B28: 전자사이렌 설치 | C28: DC 24V | D28: 개 | I28: 호표 25 | M28: 전기 10-2-5
A29: 505B016424A64E5269CABF2B04DBB6 | B29: 자동폐쇄장치-창문형 | C29: DC-24V | D29: 개 | I29: 호표 26 | M29: 전기 10-1-1
A30: 505B016424A64E5269CABF2B04DA98 | B30: 자동폐쇄장치-방화문 | C30: DC-24V | D30: 개 | I30: 호표 27 | M30: 전기 10-1-1
A31: 505B016424A64E5269CAC822D7000C | B31: 경비실 부수신기 재결선 | C31: 지하층 2구역 철거 및 지하수신기 1구역 연동 | D31: 대 | I31: 호표 28 | M31: 전기 10-2-7
A32: 505B016424A64E5269CAC822D7000F | B32: 통제실 메인수신기 재결선 | C32: 지하층 2구역 철거 및 지하수신기 1구역 연동 | D32: 대 | I32: 호표 29 | M32: 전기 10-2-7
A33: 505B016424A64E5269CAC822D55C9C | B33: 가스수신반 | D33: 대 | I33: 호표 30 | M33: 전기 10-2-7
A34: 505B016424A64E5269CAC822D44C45 | B34: 걸이시설설치 | C34: 생명줄포함 | D34: 개소 | I34: 호표 31 | M34: 전기 5-29
A35: 505B016424A64E5269CAC822D44BBF | B35: 전원반 | C35: 자동폐쇄장치전원반, 15A | D35: 대 | I35: 호표 32 | M35: 전기 10-2-10
A36: 505B016424794B996FF06424F6D40C | B36: 아우트렛박스 | C36: 중형4각 54㎜ | D36: 대 | I36: 호표 33 | M36: 전기 5-3
A37: 505B016424794B996FF06424F6D40C | B37: U-CHANNEL | C37: 케이블트레이부속품, U Channel, 41*41*t2.6mm | D37: kg | I37: 호표 34 | M37: 건축 24-1

Sheet 일위대가
A1: =일위대가목록!B2 -> [ 사옥 이산화탄소 소화설비 교체공사 ]
A2: 품 명 | B2: 규 격 | C2: 단위 | D2: 수량 | E2: 재 료 비 | G2: 노 무 비 | I2: 경 비 | K2: 합 계 | M2: 비 고 | N2: 일위대가 | O2: 품목코드 | P2: 일위 | Q2: 단산 | R2: 자재 | S2: 손료적용 | T2: 손료저장 | U2: 적용율 | V2: JUK1 | W2: JUK2 | X2: JUK3 | Y2: JUK4 | Z2: JUK5 | AA2: JUK6 | AB2: JUK7 | AC2: JUK8 | AD2: JUK9 | AE2: JUK10 | AF2: JUK11 | AG2: JUK12 | AH2: JUK13 | AI2: JUK14 | AJ2: JUK15 | AK2: JUK16 | AL2: JUK17 | AM2: JUK18 | AN2: JUK19 | AO2: JUK20 | AP2: 할증적용 | AQ2: 할증저장 | AR2: 할증율 | AS2: HAL1 | AT2: HAL2 | AU2: HAL3 | AV2: 자재구분 | AW2: 일위대가+자재 | AX2: 장비일위 | AY2: 설정 | AZ2: 할증체크
E3: 단 가 | F3: 금 액 | G3: 단 가 | H3: 금 액 | I3: 단 가 | J3: 금 액 | K3: 단 가 | L3: 금 액
A4: 코아드릴 15.24cm HR 공통 8-3(5901) ( 호표 1 ) | N4: 570571624ABE4A0163D71B258390B9F8003DC7D9
A5: 코어드릴 | B5: 15.24cm | C5: 대 | M5: 자재 1 | N5: 570571624ABE4A0163D71B258390B9F8003DC7D9 | O5: 570571624ABE4A0163D71B258390B9F8003DC7 | P5: F | Q5: F | R5: T | AW5: 570571624ABE4A0163D71B258390B9F8003DC7D9570571624ABE4A0163D71B258390B9F8003DC7
A6: [ 합 계 ] | N6: TOTAL | O6: TOTAL
A8: 용접기(교류) 500Amp HR 공통 8-3(7611) ( 호표 2 ) | N8: 570571624ABE485D6445CD2588BD1A84505F2A5F
A9: 용접기(교류) | B9: 500Amp | C9: 대 | M9: 자재 2 | N9: 570571624ABE485D6445CD2588BD1A84505F2A5F | O9: 570571624ABE485D6445CD2588BD1A84505F2A | P9: F | Q9: F | R9: T | AW9: 570571624ABE485D6445CD2588BD1A84505F2A5F570571624ABE485D6445CD2588BD1A84505F2A
A10: [ 합 계 ] | N10: TOTAL | O10: TOTAL | AX10: T
A12: 강관 조립말비계(이동식)설치 및 해체 높이 4m, 노무비 대 공통 2-7-6 ( 호표 3 ) | N12: 5011B16E8E4F41386BB4A82F4045DA
A13: 비계공 | B13: 일반공사 직종 | C13: 인 | M13: 노임 3 | N13: 5011B16E8E4F41386BB4A82F4045DA | O13: 50C74160D719457B65AD7F2A23B3B54D7ED052 | P13: F | Q13: F | R13: T | AW13: 5011B16E8E4F41386BB4A82F4045DA50C74160D719457B65AD7F2A23B3B54D7ED052
A14: 보통인부 | B14: 일반공사 직종 | C14: 인 | M14: 노임 1 | N14: 5011B16E8E4F41386BB4A82F4045DA | O14: 50C74160D719457B65AD7F2A23B3B54D7ED056 | P14: F | Q14: F | R14: T | AW14: 5011B16E8E4F41386BB4A82F4045DA50C74160D719457B65AD7F2A23B3B54D7ED056
A15: [ 합 계 ] | N15: TOTAL | O15: TOTAL
A17: 강관 조립말비계(이동식)설치 및 해체 높이 4m, 3개월 대 공통 2-7-6, 2-2-5 ( 호표 4 ) | N17: 5011B16E8E4F41386BB4A82D93F3F7
A18: 비계안정장치 | B18: 비계안정장치, 비계기본틀, 기둥, 1.2*1.7m | C18: 개 | M18: 자재 10 | N18: 5011B16E8E4F41386BB4A82D93F3F7 | O18: 5732B1682CAE413763799E20EE1FEAF7BF5639 | P18: F | Q18: F | R18: T | AW18: 5011B16E8E4F41386BB4A82D93F3F75732B1682CAE413763799E20EE1FEAF7BF5639
A19: 비계안정장치 | B19: 비계안정장치, 가새, 1.2*1.9m | C19: 개 | M19: 자재 11 | N19: 5011B16E8E4F41386BB4A82D93F3F7 | O19: 5732B1682CAE413763799E20EE1FEAF7BF5637 | P19: F | Q19: F | R19: T | AW19: 5011B16E8E4F41386BB4A82D93F3F75732B1682CAE413763799E20EE1FEAF7BF5637
A20: 비계안정장치 | B20: 비계안정장치, 수평띠장, 1829mm | C20: 개 | M20: 자재 12 | N20: 5011B16E8E4F41386BB4A82D93F3F7 | O20: 5732B1682CAE413763799E20EE1FEAF7BF59F0 | P20: F | Q20: F | R20: T | AW20: 5011B16E8E4F41386BB4A82D93F3F75732B1682CAE413763799E20EE1FEAF7BF59F0
A21: 비계안정장치 | B21: 비계안정장치, 손잡이기둥 | C21: 개 | M21: 자재 15 | N21: 5011B16E8E4F41386BB4A82D93F3F7 | O21: 5732B1682CAE413763799E20EE1FEAF7BF59F7 | P21: F | Q21: F | R21: T | AW21: 5011B16E8E4F41386BB4A82D93F3F75732B1682CAE413763799E20EE1FEAF7BF59F7
A22: 비계안정장치 | B22: 비계안정장치, 손잡이, 1229mm | C22: 개 | M22: 자재 13 | N22: 5011B16E8E4F41386BB4A82D93F3F7 | O22: 5732B1682CAE413763799E20EE1FEAF7BF59F1 | P22: F | Q22: F | R22: T | AW22: 5011B16E8E4F41386BB4A82D93F3F75732B1682CAE413763799E20EE1FEAF7BF59F1
A23: 비계안정장치 | B23: 비계안정장치, 손잡이, 1829mm | C23: 개 | M23: 자재 14 | N23: 5011B16E8E4F41386BB4A82D93F3F7 | O23: 5732B1682CAE413763799E20EE1FEAF7BF59F6 | P23: F | Q23: F | R23: T | AW23: 5011B16E8E4F41386BB4A82D93F3F75732B1682CAE413763799E20EE1FEAF7BF59F6
A24: 비계안정장치 | B24: 비계안정장치, 이음철물, 연결핀 | C24: 개 | M24: 자재 9 | N24: 5011B16E8E4F41386BB4A82D93F3F7 | O24: 5732B1682CAE413763799E20EE1FEAF7BF5477 | P24: F | Q24: F | R24: T | AW24: 5011B16E8E4F41386BB4A82D93F3F75732B1682CAE413763799E20EE1FEAF7BF5477
A25: 비계안정장치 | B25: 비계안정장치, 바퀴 | C25: 개 | M25: 자재 16 | N25: 5011B16E8E4F41386BB4A82D93F3F7 | O25: 5732B1682CAE413763799E20EE1FEAF7BF59F4 | P25: F | Q25: F | R25: T | AW25: 5011B16E8E4F41386BB4A82D93F3F75732B1682CAE413763799E20EE1FEAF7BF59F4
A26: 비계안정장치 | B26: 비계안정장치, 쟈키 | C26: 개 | M26: 자재 17 | N26: 5011B16E8E4F41386BB4A82D93F3F7 | O26: 5732B1682CAE413763799E20EE1FEAF7BF59F5 | P26: F | Q26: F | R26: T | AW26: 5011B16E8E4F41386BB4A82D93F3F75732B1682CAE413763799E20EE1FEAF7BF59F5
