Workbook

Sheet 적정 공사 기간 산출
B2: 적정 공사기간 산정
B4: 지역 | C4: 산정기준지역 | D4: 사업명 | E4: 준비기간(인허가) | F4: 비작업일수 | O4: 작업일수 | S4: 준공정산 및 정리기간 | T4: 공사기간 | U4: 개월 | V4: 비고
F5: 동절기 | G5: 강풍 | H5: 우기 | I5: 온도 (동절기) | J5: 기후여건 비작업일수 | K5: 법정공휴일 | L5: 월별 중복일수 | M5: 비작업일수 (계산) | N5: 주40시간 비작업일수 | O5: 기계공사 | P5: 토목공사 | Q5: 건축공사 | R5: 산정
B6: 인천시 고양시 양주시 파주시 | C6: 서울 | D6: 2026년 서울지역본부 매설배관 건전성 확보공사 | E6: 15 | F6: - | G6: ='월별비작업일수 산정'!O10 -> 2.1 | H6: ='월별비작업일수 산정'!O8 -> 5.3 | I6: ='월별비작업일수 산정'!O9 -> 16.2 | J6: =SUM(F6:I6) -> 23.6 | K6: ='월별비작업일수 산정'!O6 -> 23 | L6: ='월별비작업일수 산정'!O11 -> 4 | M6: ='월별비작업일수 산정'!O12 -> 42.6 | N6: ='월별비작업일수 산정'!O13 -> 32 | O6: =기계공사!I33 -> 8 | P6: =토목공사!H33 -> 49 | R6: ='CP 재검토'!H25 -> 57.4975 | S6: 30 | T6: =E6+M6+R6+S6 -> 145.0975 | U6: =ROUNDUP(T6/30.5,0) -> 5
B8: ※ 작성기준
B9: 작업불능일 산정기준(1) : 국토교통부 고시('21.09.17) "공공 건설공사의 공사기간 산정기준"
B10: 작업불능일 산정기준(2) : 공급건설공무부-2207('18.11.) "공급배관 건설공사 적정 공사기간 산정(안)"
B11: 동절기 : 일 최고기온 0도 이하
B12: 우 기 : 강우량 5mm/일 이상
B13: 혹서기 : 체감온도 33 도 이상
B14: 강 풍 : 일 최대순간풍속 15m/s 이상
B15: 공휴일 : 법정공휴일
B16: 준비기간 및 준공정산,정리기간 : 각 30일 (경험치에 입각한 산정)

Sheet 기계공사
B2: 작업일수 산정
B4: □ 주의사항 - 1일 작업시간은 8시간을 기준으로 하며, 작업조는 1조 투입을 기준으로 한다. - 배관경별 1일 용접개소는 20" 3.5개소를 기준으로 하여 비례식으로 산출한다. - 기밀시험 기간은 2일 적용한다.
B6: ※ 발주청은 시설물별·규모별·공사난이도에 따라 1일 작업량에 차이가 발생할 수 있음에 유의하여, 아래의 예시를 참고하여 작성·관리한다.
B8: □ 공종별 표준 작업량
B10: No. | C10: 구 분 | E10: 시공수량 | G10: 작업시간
C11: 공종 | D11: 관경(인치) | E11: 수량 | F11: 단위 | G11: 시공시간 | H11: 단위 | I11: 작업시간 | J11: 일 수 | L11: 관경 | M11: 1일 용접개소 | N11: 용접시간
B12: 1 | C12: 복합재슬리브 시공 | D12: 26(중동~방화) | E12: 3 | F12: set | G12: 2 | H12: hr/set | I12: =E12*G12 -> 6 | L12: 30 | M12: =70/L12 -> 2.3333333 | N12: =ROUNDUP(8/M12,2) -> 3.43
B13: 2 | D13: 26(중동~방화) | E13: 2 | F13: set | G13: 2 | H13: hr/set | I13: =E13*G13 -> 4 | L13: 20 | M13: =70/L13 -> 3.5 | N13: =ROUNDUP(8/M13,2) -> 2.29
B14: 3 | D14: 26(중동~방화) | E14: 1 | F14: set | G14: 2 | H14: hr/set | I14: =E14*G14 -> 2 | L14: 18 | M14: =70/L14 -> 3.8888889 | N14: =ROUNDUP(8/M14,2) -> 2.06
B15: 4 | D15: 26(소애~합정) | E15: 1 | F15: set | G15: 2 | H15: hr/set | I15: =E15*G15 -> 2 | L15: 16 | M15: =70/L15 -> 4.375 | N15: =ROUNDUP(8/M15,2) -> 1.83
B16: 5 | D16: 26(소애~합정) | E16: 1 | F16: set | G16: 2 | H16: hr/set | I16: =E16*G16 -> 2 | L16: 14 | M16: =70/L16 -> 5 | N16: =ROUNDUP(8/M16,2) -> 1.6
B17: 6 | L17: 12 | M17: =70/L17 -> 5.8333333 | N17: =ROUNDUP(8/M17,2) -> 1.38
B18: 7 | L18: 10 | M18: =70/L18 -> 7 | N18: =ROUNDUP(8/M18,2) -> 1.15
B19: 8 | L19: 8 | M19: =70/L19 -> 8.75 | N19: =ROUNDUP(8/M19,2) -> 0.92
B20: 9 | L20: 6 | M20: =70/L20 -> 11.666667 | N20: =ROUNDUP(8/M20,2) -> 0.69
B21: 10 | L21: 4 | M21: =70/L21 -> 17.5 | N21: =ROUNDUP(8/M21,2) -> 0.46
B22: 11
B23: 12 | L23: 2 | M23: =70/L23 -> 35 | N23: =ROUNDUP(8/M23,2) -> 0.23
B24: 13 | L24: 1.5 | M24: =70/L24 -> 46.666667 | N24: =ROUNDUP(8/M24,2) -> 0.18
B25: 14 | L25: 1 | M25: =70/L25 -> 70 | N25: =ROUNDUP(8/M25,2) -> 0.12
B26: 15 | L26: 0.75 | M26: =70/L26 -> 93.333333 | N26: =ROUNDUP(8/M26,2) -> 0.09
B27: 16 | L27: 0.5 | M27: =70/L27 -> 140 | N27: =ROUNDUP(8/M27,2) -> 0.06
C28: 준비시간(녹제거등) | G28: 4 | H28: hr/개소 | I28: =4*8 -> 32 | J28: 8개소
B29: 소 계 | I29: =ROUNDUP(SUM(I12:I28),0) -> 48 | J29: =ROUNDUP(I29/8,0) -> 6
B30: 1
B31: 2 | C31: 접촉제 양생시간 | G31: 2 | H31: hr/개소 | I31: =2*8 -> 16 | J31: 5개소
B32: 소 계 | I32: =ROUNDUP(SUM(I31:I31),0) -> 16 | J32: =ROUNDUP(I32/8,0) -> 2
B33: 총 작업일수 | I33: =J29+J32 -> 8

Sheet 건축공사
A1: 표준 작업량 (국토부훈령 별표3, 가이드라인 부록 3 참조)
A2: □ 주의사항 - 1일 작업시간은 8시간을 기준으로 하며, 작업조는 1조 투입을 기준으로 한다. - 주공정에 해당하는 작업이 여러 규격으로 구성되는 경우 규격별로 산정한다. - 공종별 실제 작업량 정보를 활용하고, 작업조건 또는 산출근거가 여러 유형인 경우 가장 물량이 많은 대표값을 기준으로 한다.
A3: ※ 발주청은 시설물별·규모별·공사난이도에 따라 1일 작업량에 차이가 발생할 수 있음에 유의하여, 아래의 예시를 참고하여 작성·관리한다.
A4: □ 공종별 표준 작업량
A6: No. | B6: 구 분 | D6: 1일 작업량 | F6: 작업일 산출
B7: 공종 | C7: 작업 | D7: 수량 | E7: 단위 | F7: 작업량 | G7: 단위 | H7: 작업일수 | I7: 비고
A8: 1 | B8: 준비기간
A9: 2 | B9: 가설공사 | C9: EGI휀스 | D9: 115 | E9: m/일 | F9: 109 | G9: m | H9: =F9/D9 -> 0.94782609
C10: 가설사무실(콘테이너) | D10: 8 | E10: 개/일 | G10: 개 | H10: =F10/D10 -> 0
C11: 시스템비계 | D11: 100 | E11: m2/일 | F11: 849 | G11: m | H11: =F11/D11 -> 8.49
A12: 소 계 | H12: =ROUNDUP(SUM(H8:H11),0) -> 10 | I12: 지장물조사 병행
A13: 3 | B13: 지장물조사
B14: 지하매설물 조사 | C14: 지하매설물 조사 | D14: 1000 | E14: m2/일 | F14: 535.5 | G14: ㎡/일 | H14: =F14/D14 -> 0.5355 | I14: 임의기준
B15: 시험터파기 | C15: 시험터파기 | D15: 50 | E15: m2/일 | F15: 250 | G15: 일 | H15: =F15/D15 -> 5
A16: 소 계 | H16: =ROUNDUP(SUM(H14:H15),0) -> 6
A17: 4 | B17: 파일공사 | C17: 파일심보기 | D17: 30 | E17: 본/일 | F17: 40 | G17: 공/일 | H17: =F17/D17 -> 1.3333333 | I17: 임의기준
C18: 시항타(굴착) | D18: 3 | E18: 본/일 | F18: 4 | G18: 공/일 | H18: =F18/D18 -> 1.3333333
C19: 본항타(굴착) | D19: 10 | E19: 본/일 | F19: 40 | G19: 공/일 | H19: =F19/D19 -> 4
A20: 소 계 | H20: =ROUNDUP(SUM(H17:H19),0) -> 7
A21: 5 | B21: 토공사 | C21: 기존시설물깨기 | D21: 54 | E21: ㎥/일 | G21: ㎥ | H21: =F21/D21 -> 0
C22: 터파기-토사(굴삭기) | D22: 349 | E22: ㎥/일 | F22: 517 | G22: ㎥ | H22: =F22/D22 -> 1.4813754
C23: 터파기-토사(인력) | D23: 0.39 | E23: 인/㎥ | G23: ㎥ | H23: =(D23*F23)/10 -> 0 | I23: 10인 기준
C24: 되메우기 | D24: 42 | E24: ㎥/일 | F24: 331 | G24: ㎥ | H24: =F24/D24 -> 7.8809524
A25: 소 계 | H25: =ROUNDUP(SUM(H21:H24),0) -> 10
A26: 6 | B26: 철근콘크리트공사 | C26: 철근가공 | D26: 5 | E26: ton/일 | F26: 27 | G26: m | H26: =F26/D26 -> 5.4 | I26: 임의기준
C27: 철근조립 | D27: 6 | E27: ton/일 | F27: 27 | G27: ton | H27: =F27/D27 -> 4.5
C28: 합판거푸집설치 | D28: 100 | E28: ㎡/일 | F28: =114+132 -> 246 | G28: ㎥ | H28: =F28/D28 -> 2.46
C29: 합판거푸집해체 | D29: 180 | E29: ㎡/일 | F29: =114+132 -> 246 | G29: ㎥ | H29: =F29/D29 -> 1.3666667
C30: 유로폼설치 | D30: 120 | E30: ㎡/일 | F30: 500 | G30: ㎥ | H30: =F30/D30 -> 4.1666667
C31: 유로폼해체 | D31: 200 | E31: ㎡/일 | F31: 500 | G31: ㎥ | H31: =F31/D31 -> 2.5
C32: 콘크리트펌프카타설 | D32: 400 | E32: ㎡/일 | F32: =20+26+252 -> 298 | G32: ㎥ | H32: =F32/D32 -> 0.745
A33: 소 계 | H33: =ROUNDUP(SUM(H26:H32),0) -> 22 | K33: 12
A34: 7 | B34: 철골공사 | C34: 앵카볼트설치 | D34: 20 | E34: 개/일 | F34: 56 | G34: - | H34: =F34/D34 -> 2.8 | I34: 임의기준
C35: 가조립 | E35: 톤/일 | F35: 35 | G35: 톤
C36: 철골세우기 | E36: 톤/일 | F36: 35 | G36: 톤
C37: 철골도장 | E37: ㎡/일 | F37: 1074 | G37: 톤
C38: 철골공사 | D38: 1 | E38: 식 | F38: 1 | G38: 식 | H38: 10
A39: 소 계 | H39: =ROUNDUP(SUM(H34:H38),0) -> 13 | K39: 14
A40: 8 | B40: 지붕공사 | C40: 칼라강판설치 | D40: 100 | E40: ㎡/일 | F40: =357+86 -> 443 | G40: ㎡ | H40: =F40/D40 -> 4.43 | I40: 임의기준
C41: 지붕홈통설치공사 | D41: 20 | E41: m/일 | F41: 71 | G41: m | H41: =F41/D41 -> 3.55
A42: 소 계 | H42: =ROUNDUP(SUM(H40:H41),0) -> 8
A43: 9 | B43: 창호/금속공사 | C43: 방화문 및 급기구 등 | F43: =5*3+0.24*13+1.836*10 -> 36.48 | G43: ㎡ | I43: 임의기준
C44: 알루미늄시트 | F44: =9+319 -> 328 | G44: ㎡
D45: 1 | E45: 식 | F45: 1 | G45: 식 | H45: 10
A46: 소 계 | H46: =ROUNDUP(SUM(H43:H45),0) -> 10
A47: 10 | B47: 도장/미장공사 | C47: 드라이비트마감 | D47: 100 | E47: ㎡/일 | F47: 311 | G47: ㎡ | H47: =F47/D47 -> 3.11 | I47: 임의기준
C48: 모르타르 바름 | F48: =236+311 -> 547 | G48: ㎡
C49: 페인트 | F49: =236+270+6+97 -> 609 | G49: ㎡
D50: 1 | E50: 식 | F50: 1 | G50: 식 | H50: 1
A51: 소 계 | H51: =ROUNDUP(SUM(H47:H50),0) -> 5
A52: 11 | B52: 기타공사 | C52: 잡공사 | E52: ㎡/일 | F52: 280 | G52: ㎡ | I52: 임의기준
C53: 현장정리등 | D53: 1 | E53: 식 | F53: 1 | G53: 식 | H53: 7
A54: 소 계 | H54: =ROUNDUP(SUM(H52:H53),0) -> 7
A55: 총 작업일수 | H55: =H12+H16+H20+H25+H33+H39+H42+H46+H54+H51 -> 98

Sheet 공기 산정공식
A1: 시설물별 공사기간 산정공식(훈령 별표4 참조)
A3: □ 적용시 주의사항 1. 위 공식은 해당 시설물의 적용범위(총공사비, 연장 등)를 확인하여 적용하며, 산정공식은 ‘단위’에 주의하여 적용한다. 2. ‘건축(공통)’은 공동주택과 체육시설을 제외한 건축물(업무시설, 교육연구시설, 복지시설, 문화시설, 교정 및 군사시설 등)에 적용한다. 3. ‘도로포장’은 포장공사(토공 포함)에만 적용하고, 토공구간과 교량구간이 공존할 경우 에는 ‘도로(토공+교량)’의 산정공식을 적용한다. 4. ‘철도(궤도)’는 철도 중 노선에 관하여 적용하며, 설비관련 부분의 공기는 별도로 계상한다. 5. ‘상수도’는 지방상수도에 적용하며, ‘관경’은 다종의 관이 적용되는 경우 가장 물량이 많거나 가장 큰 관경을 적용한다. 6. 총공사비는 추정금액(추정가격에 부가가치세와 관급자재비를 합한 금액)을 말한다. 장기계속공사의 경우 「국가를 당사자로 하는 계약에 관한 법률 시행령」제8조제2항 및 「지방자치단체를 당사자로 하는 계약에 관한 법률 시행령」제9조제2항의 규정에 따른 총공사금액을 적용한다. 7. 위의 공식에 의해 산정한 결과에 당해 공사의 현장여건 및 공사특성 등을 고려하여 공기를 가감하여 적용할 수 있다.
A5: ※ 시설물의 노랑색 칸에 값을 입력하면 공사기간이 계산됩니다.
A7: 건축(공통) | E7: (예제)
A8: 총공사비 : | B8: 320 | C8: 억원 | E8: 총공사비 : | F8: 1100 | G8: 억원
A9: 연면적 : | B9: 170 | C9: 100㎡ | E9: 연면적 : | F9: 400 | G9: 100㎡
A10: 지상층수 : | B10: 5 | C10: 층 | E10: 지상층수 : | F10: 3 | G10: 층
A11: 지하층수 : | B11: 1 | C11: 층 | E11: 지하층수 : | F11: 1 | G11: 층
A12: 준비기간 : | B12: 30 | C12: 일 | E12: 준비기간 : | G12: 일
A13: 정리기간 : | B13: 30 | C13: 일 | E13: 정리기간 : | G13: 일
A15: 공사기간 = | B15: =-68.55+18.192*B11+12.079*B10-5.25*LN(B9)+167.632*LN(B8)+B12+B13 -> 1010.0292 | C15: 일 | E15: 공사기간 = | F15: =-68.55+18.192*F11+12.079*F10-5.25*LN(F9)+167.632*LN(F8)+F12+F13 -> 1128.3617 | G15: 일
A17: 공동주택 | E17: (예제)
A18: 총공사비 : | C18: 억원 | E18: 총공사비 : | F18: 500 | G18: 억원
A19: 지상층수 : | C19: 층 | E19: 지상층수 : | F19: 17 | G19: 층
A20: 준비기간 : | C20: 일 | E20: 준비기간 : | G20: 일
A21: 정리기간 : | C21: 일 | E21: 정리기간 : | G21: 일
A23: 공사기간 = | B23: =-21.674+7.953*B19+116.835*LN(B18)+B20+B21 -> #NUM! | C23: 일 | E23: 공사기간 = | F23: =-21.674+7.953*F19+116.835*LN(F18)+F20+F21 -> 839.61074 | G23: 일
A25: 체육시설 | E25: (예제)
A26: 총공사비 : | C26: 억원 | E26: 총공사비 : | F26: 70 | G26: 억원
A27: 준비기간 : | C27: 일 | E27: 준비기간 : | G27: 일
A28: 정리기간 : | C28: 일 | E28: 정리기간 : | G28: 일
A30: 공사기간 = | B30: =-278.109+189.438*LN(B26)+B27+B28 -> #NUM! | C30: 일 | E30: 공사기간 = | F30: =-278.109+189.438*LN(F26)+F27+F28 -> 526.71744 | G30: 일
A32: 도로포장 | E32: (예제)
A33: 총공사비 : | C33: 백만원 | E33: 총공사비 : | G33: 백만원
A34: 도로연장 : | C34: m | E34: 도로연장 : | G34: m
A35: 준비기간 : | C35: 일 | E35: 준비기간 : | G35: 일
A36: 정리기간 : | C36: 일 | E36: 정리기간 : | G36: 일
A38: 공사기간 = | B38: =-637.009+173.198*LN(B34)+0.049*B33+B35+B36 -> #NUM! | C38: 일 | E38: 공사기간 = | F38: =-637.009+173198*LN(F34)+0.049*F33+F35+F36 -> #NUM! | G38: 일
A40: 도로(토공+교량) | E40: (예제)
A41: 총공사비 : | C41: 백만원 | E41: 총공사비 : | G41: 백만원
A42: 도로폭원 : | C42: m | E42: 도로폭원 : | G42: m
A43: 도로연장 : | C43: m | E43: 도로연장 : | G43: m
A44: 교량연장 : | C44: m | E44: 교량연장 : | G44: m
A45: 준비기간 : | C45: 일 | E45: 준비기간 : | G45: 일
A46: 정리기간 : | C46: 일 | E46: 정리기간 : | G46: 일
A48: 공사기간 = | B48: =-160.855-14.288*B42+164.473*LN(B43)-1.474*B44+0.052*B41+B45+B46 -> #NUM! | C48: 일 | E48: 공사기간 = | F48: =-160.855-14.288*F42+164.473*LN(F43)-1.474*F44+0.052*F41+F45+F46 -> #NUM! | G48: 일
A50: 농업용수 | E50: (예제)
A51: 총공사비 : | C51: 백만원 | E51: 총공사비 : | G51: 백만원
A52: 준비기간 : | C52: 일 | E52: 준비기간 : | G52: 일
A53: 정리기간 : | C53: 일 | E53: 정리기간 : | G53: 일
A55: 공사기간 = | B55: =-2251.569+415.137*LN(B51)+B52+B53 -> #NUM! | C55: 일 | E55: 공사기간 = | F55: =-2251.569+415.137*LN(F51)+F52+F53 -> #NUM! | G55: 일
A57: 상수도 | E57: (예제)
A58: 총공사비 : | C58: 백만원 | E58: 총공사비 : | F58: 2000 | G58: 백만원
A59: 관경 : | C59: mm | E59: 관경 : | F59: 250 | G59: mm
A60: 양수장, 배수장, 가압장 개수 : | C60: 개 | E60: 양수장, 배수장, 가압장 개수 : | F60: 1 | G60: 개
A61: 준비기간 : | C61: 일 | E61: 준비기간 : | G61: 일
A62: 정리기간 : | C62: 일 | E62: 정리기간 : | G62: 일
A64: 공사기간 = | B64: =-1175.174+119.731*B60-0.273*B59+222.426*LN(B58)+B61+B62 -> #NUM! | C64: 일 | E64: 공사기간 = | F64: =-1175.174+119.731*F60-0.273*F59+222.426*LN(F58)+F61+F62 -> 566.94533 | G64: 일
A66: 하수도 | E66: (예제)
A67: 총공사비 : | C67: 백만원 | E67: 총공사비 : | F67: 2400 | G67: 백만원
A68: 하수도 연장 : | C68: m | E68: 하수도 연장 : | F68: 250 | G68: m
A69: 준비기간 : | C69: 일 | E69: 준비기간 : | G69: 일
A70: 정리기간 : | C70: 일 | E70: 정리기간 : | G70: 일
A72: 공사기간 = | B72: =-452.433+98.364*LN(B68)+0.083*B67+B69+B70 -> #NUM! | C72: 일 | E72: 공사기간 = | F72: =-452.433+98.364*LN(F68)+0.083*F67+F69+F70 -> 289.87998 | G72: 일
A74: 철도(궤도) | E74: (예제)
A75: 총공사비 : | C75: 백만원 | E75: 총공사비 : | G75: 백만원
A76: 궤도연장 : | C76: m | E76: 궤도연장 : | G76: m
A77: 준비기간 : | C77: 일 | E77: 준비기간 : | G77: 일
A78: 정리기간 : | C78: 일 | E78: 정리기간 : | G78: 일
A80: 공사기간 = | B80: =-1723.316-74.26*LN(B76)+372.266*LN(B75)+B77+B78 -> #NUM! | C80: 일 | E80: 공사기간 = | F80: =-1723.316-74.26*LN(F76)+372.266*LN(F75)+F77+F78 -> #NUM! | G80: 일

Sheet 토목공사
A1: 작업일수 산정
A3: □ 주의사항 - 1일 작업시간은 8시간을 기준으로 하며, 작업조는 1조 투입을 기준으로 한다. - 주공정에 해당하는 작업이 여러 규격으로 구성되는 경우 규격별로 산정한다. - 공종별 실제 작업량 정보를 활용하고, 작업조건 또는 산출근거가 여러 유형인 경우 가장 물량이 많은 대표값을 기준으로 한다.
A5: ※ 발주청은 시설물별·규모별·공사난이도에 따라 1일 작업량에 차이가 발생할 수 있음에 유의하여, 아래의 예시를 참고하여 작성·관리한다.
A7: □ 공종별 표준 작업량
A9: No. | B9: 구 분 | D9: 1일 작업량 | F9: 작업일 산출
B10: 공종 | C10: 작업 | D10: 수량 | E10: 단위 | F10: 작업량 | G10: 단위 | H10: 작업일수 | I10: 비고
A11: 1 | B11: 토공사 및 공통가설공사 26" | C11: 기존시설물깨기 (포장절단 및 아스콘깨기) | D11: 54 | E11: ㎥/일 | F11: 44.1 | G11: ㎥ | H11: =F11/D11 -> 0.81666667
A12: 2 | C12: 터파기 | D12: 349 | E12: ㎥/일 | F12: 924.6 | G12: ㎥ | H12: =F12/D12 -> 2.6492837
A13: 3 | C13: 되메우기 | D13: 42 | E13: ㎥/일 | F13: 890.3 | G13: ㎥ | H13: =F13/D13 -> 21.197619
A14: 4 | C14: TS 판넬 설치 | D14: 20 | E14: m/일 | F14: 48 | G14: m | H14: =F14/D14 -> 2.4
A15: 5 | C15: H파일 | D15: 20 | E15: 본/일 | F15: 24 | G15: 본 | H15: =F15/D15 -> 1.2
A16: 소 계 | H16: =ROUNDUP(SUM(H11:H15),0) -> 29
A17: 6 | B17: 포장공사 26" | C17: 보조기층 | D17: 550 | E17: ㎥/일 | F17: 16.2 | G17: ㎥ | H17: =F17/D17 -> 0.029454545
A18: 7 | C18: 택코팅 | D18: 20000 | E18: ㎡/일 | F18: 54 | G18: ㎡ | H18: =F18/D18 -> 0.0027
A19: 8 | C19: 프라임코팅 | D19: 20000 | E19: ㎡/일 | F19: 54 | G19: ㎡ | H19: =F19/D19 -> 0.0027
A20: 9 | C20: 기층 | D20: 4900 | E20: ㎡/일 | F20: 54 | G20: ㎡ | H20: =F20/D20 -> 0.011020408
A21: 10 | C21: 표층 | D21: 4800 | E21: ㎡/일 | F21: 54 | G21: ㎡ | H21: =F21/D21 -> 0.01125
A22: 11 | C22: 부대공사 | D22: 1 | E22: 식/일 | F22: 1 | G22: 식 | H22: =F22 -> 1 | I22: 차선도색,안전시설 설치 등
A23: 소 계 | H23: =ROUNDUP(SUM(H17:H22),0) -> 2
A24: 10 | B24: 구조물공 | C24: 레미콘타설 | D24: 20 | E24: ㎥/일 | F24: 4.2 | G24: ㎡ | H24: =F24/D24 -> 0.21
A25: 11 | C25: 유로폼 설치 및 해체 | D25: 40 | E25: ㎥/일 | F25: 11.5 | G25: ㎡ | H25: =F25/D25 -> 0.2875
A26: 소 계 | H26: =SUM(H24:H25) -> 0.4975
A27: 12 | B27: 부대공사 (2개소) 26" | C27: 자재운반 등 준비 | D27: 1 | E27: 식/일 | F27: 11 | G27: 식 | H27: =F27/D27 -> 11
A28: 13 | C28: PE휀스 설치 및 철거 | D28: 40 | E28: m/일 | F28: 132 | G28: m | H28: =F28/D28 -> 3.3
A29: 16 | C29: 톤마대 제작 설치 및 철거 | D29: 12 | E29: ㎥/일 | F29: 11.2 | G29: ㎥ | H29: =F29/D29 -> 0.93333333 | K29: 수량산출 참조 및 기타 산출이 어려운 작업은 1식으로 통합
A30: 17 | C30: 지장물보호공 | D30: 1 | E30: 식/일 | F30: 1 | G30: 식 | H30: =F30/D30 -> 1
A31: 18 | C31: L형측구 철거 및 복구 | D31: 1 | E31: 식/일 | F31: 1 | G31: 식 | H31: =F31/D31 -> 1
A32: 소 계 | H32: =ROUNDUP(SUM(H27:H31),0) -> 18
A33: 총 작업일수 | H33: =SUM(H16,H23,H32) -> 49

Sheet CP 재검토
B2: CP기준 공기산정 재검토
B4: 구분 | C4: 기계 및 공통 | E4: 토목 | G4: 건축
C5: 작업내용 | D5: 소요기간(일) | E5: 작업내용 | F5: 소요기간(일) | G5: 작업내용 | H5: 소요기간(일)
B6: (1단계) | C6: 준비기간(인허가) | D6: 30
B7: (2단계) | E7: 토공사 및 공통가설공사 | F7: =토목공사!H16 -> 29
E8: 포장공사 | F8: =토목공사!H23 -> 2
E9: 구조물 공사 | F9: =토목공사!H26 -> 0.4975
E10: 부대공사 | F10: =토목공사!H32 -> 18
B14: (4단계) | C14: 준비시간(녹제거등) | D14: =기계공사!J29 -> 6
C15: 복합재슬리브 시공
C16: 접촉제 양생시간 | D16: =기계공사!J32 -> 2
B17: (5단계) | C17: 준공정산 및 정리기간 | D17: 30
C20: ※ 적색글자 구간이 CP대상 공종임, 1단계의 경우 비작업일수중 준비기간으로 순 작업일수에서 제외
C22: 1단계 (제외) | D22: 2단계 | E22: 3단계 | F22: 4단계 (제외)
C23: =D6 -> 30 | D23: =F7+F8+F9+F10+F11+F12+F13 -> 49.4975 | E23: =D14+D16 -> 8 | F23: =D17 -> 30
G25: 작업일수 | H25: =SUM(D23:E23) -> 57.4975

Sheet 월별비작업일수 산정
B2: 월별 비작업일수 산정
O3: '26~'27년
B4: 구분 | C4: 1월 | D4: 2월 | E4: 3월 | F4: 4월 | G4: 5월 | H4: '26.10월 | I4: '26.11월 (준비기간) | J4: '26.12월 | K4: 1월 | L4: 2월 | M4: 3월 | N4: 4월 (정리기간) | O4: 소계
B5: 달력일수 | J5: 31 | K5: 31 | L5: 28 | M5: 31
B6: 법정공휴일 | J6: ='기후등 관련자료'!F5 -> 5 | K6: ='기후등 관련자료'!G5 -> 6 | L6: ='기후등 관련자료'!H5 -> 7 | M6: ='기후등 관련자료'!I5 -> 5 | O6: =SUM(C6:N6) -> 23
B7: 기후여건 | J7: =SUM(J8:J10) -> 7.8 | K7: =SUM(K8:K10) -> 8 | L7: =SUM(L8:L10) -> 4.8 | M7: =SUM(M8:M10) -> 3 | O7: =SUM(C7:N7) -> 23.6
B8: - 강우 | J8: ='기후등 관련자료'!O20 -> 1.3 | K8: ='기후등 관련자료'!D20 -> 0.5 | L8: ='기후등 관련자료'!E20 -> 1.5 | M8: ='기후등 관련자료'!F20 -> 2 | O8: =SUM(C8:N8) -> 5.3
B9: - 온도 | J9: ='기후등 관련자료'!O15 -> 6 | K9: ='기후등 관련자료'!D15 -> 7.1 | L9: ='기후등 관련자료'!E15 -> 3.1 | M9: ='기후등 관련자료'!F15 -> 0 | O9: =SUM(C9:N9) -> 16.2
B10: - 강풍 | J10: ='기후등 관련자료'!O25 -> 0.5 | K10: ='기후등 관련자료'!D25 -> 0.4 | L10: ='기후등 관련자료'!E25 -> 0.2 | M10: ='기후등 관련자료'!F25 -> 1 | O10: =SUM(C10:N10) -> 2.1
B11: 월별중복일수 | J11: =ROUND(J6*J7/J5,0) -> 1 | K11: =ROUND(K6*K7/K5,0) -> 2 | L11: =ROUND(L6*L7/L5,0) -> 1 | M11: =ROUND(M6*M7/M5,0) -> 0 | O11: =SUM(C11:N11) -> 4
B12: 비작업일수 | J12: =J6+J7-J11 -> 11.8 | K12: =K6+K7-K11 -> 12 | L12: =L6+L7-L11 -> 10.8 | M12: =M6+M7-M11 -> 8 | O12: =SUM(C12:N12) -> 42.6
B13: 주40시간 비작업일수 | J13: 8 | K13: 8 | L13: 8 | M13: 8 | O13: =SUM(C13:N13) -> 32
B14: 비고 | I14: 제외 | N14: 제외
S23: 31

Sheet 기후등 관련자료
B2: 기상조건별 지역별 비작업일수
C3: [법정공휴일]
D4: 26.10 | E4: 26.11 | F4: 26.12 | G4: 27.01 | H4: 27.02 | I4: 27.03 | J4: 27.04 | K4: 27.05 | L4: 27.06 | M4: 27.07 | N4: 27.08 | O4: 27.09 | P4: 소계
C5: '26~'27년 | D5: 7 | E5: 5 | F5: 5 | G5: 6 | H5: 7 | I5: 5 | J5: 4 | K5: 7 | L5: 4 | M5: 4 | N5: 6 | O5: 7 | P5: =SUM(D5:O5) -> 67 | V5: p.33
C8: [혹서기 : 체감온도 33℃ 이상]
C9: 지점명 | D9: 1월 | E9: 2월 | F9: 3월 | G9: 4월 | H9: 5월 | I9: 6월 | J9: 7월 | K9: 8월 | L9: 9월 | M9: 10월 | N9: 11월 | O9: 12월 | P9: 소계
C10: 서울 | D10: 0 | E10: 0 | F10: 0 | G10: 0 | H10: 0.1 | I10: 1 | J10: 6.6 | K10: 9.6 | L10: 0.6 | M10: 0 | N10: 0 | O10: 0 | P10: =SUM(D10:O10) -> 17.9 | V10: p.59
C13: [동절기 : 일 최고기온 0℃ 이하]
C14: 지점명 | D14: 1월 | E14: 2월 | F14: 3월 | G14: 4월 | H14: 5월 | I14: 6월 | J14: 7월 | K14: 8월 | L14: 9월 | M14: 10월 | N14: 11월 | O14: 12월 | P14: 소계
C15: 서울 | D15: 7.1 | E15: 3.1 | F15: 0 | G15: 0 | H15: 0 | I15: 0 | J15: 0 | K15: 0 | L15: 0 | M15: 0 | N15: 0.2 | O15: 6 | P15: =SUM(D15:O15) -> 16.4 | V15: p.67
C18: [일강수량 : 5mm 이상]
C19: 지점명 | D19: 1월 | E19: 2월 | F19: 3월 | G19: 4월 | H19: 5월 | I19: 6월 | J19: 7월 | K19: 8월 | L19: 9월 | M19: 10월 | N19: 11월 | O19: 12월 | P19: 소계
C20: 서울 | D20: 0.5 | E20: 1.5 | F20: 2 | G20: 3.6 | H20: 4.6 | I20: 5.3 | J20: 8 | K20: 7.8 | L20: 3.8 | M20: 2.9 | N20: 3.3 | O20: 1.3 | P20: =SUM(D20:O20) -> 44.6 | V20: p.87
C23: [일최대순간풍속 : 15m/s 이상]
C24: 지점명 | D24: 1월 | E24: 2월 | F24: 3월 | G24: 4월 | H24: 5월 | I24: 6월 | J24: 7월 | K24: 8월 | L24: 9월 | M24: 10월 | N24: 11월 | O24: 12월 | P24: 소계
C25: 서울 | D25: 0.4 | E25: 0.2 | F25: 1 | G25: 1 | H25: 1 | I25: 0.3 | J25: 0.6 | K25: 0.7 | L25: 0.6 | M25: 0.2 | N25: 0.5 | O25: 0.5 | P25: =SUM(D25:O25) -> 7 | V25: p.99
C27: *Note. 각 현장에서 가까운 표준지역은 서울로 확인함.
C28: * "2026년 적정공사기간 확보를 위한 가이드라인" 참조 (부록3 기상조건별 .지역별 비작업일수(2015년~2024년) 참조)

Sheet 산출 근거
B2: 산출 근거
